BEGIN:VCALENDAR
VERSION:2.0
PRODID:-//Professional Women of Wisconsin - ECPv6.15.20//NONSGML v1.0//EN
CALSCALE:GREGORIAN
METHOD:PUBLISH
X-WR-CALNAME:Professional Women of Wisconsin
X-ORIGINAL-URL:https://pwow.org
X-WR-CALDESC:Events for Professional Women of Wisconsin
REFRESH-INTERVAL;VALUE=DURATION:PT1H
X-Robots-Tag:noindex
X-PUBLISHED-TTL:PT1H
BEGIN:VTIMEZONE
TZID:UTC
BEGIN:STANDARD
TZOFFSETFROM:+0000
TZOFFSETTO:+0000
TZNAME:UTC
DTSTART:20230101T000000
END:STANDARD
END:VTIMEZONE
BEGIN:VEVENT
DTSTART;TZID=UTC:20240215T160000
DTEND;TZID=UTC:20240215T180000
DTSTAMP:20260425T122554
CREATED:20240203T000908Z
LAST-MODIFIED:20240203T000908Z
UID:175-1708012800-1708020000@pwow.org
SUMMARY:Professional Women of WI (PWoW) | 3rd Thurs | Networking | Feb 15\, 2024
DESCRIPTION:PWoW’s North Shore cocktail networking event! \nWe will meet at Scout Wine in Shorewood from 4pm-6pm the 3rd Thursday monthly. Appetizers provided with ticket purchase. \nOur goal is to offer structured meetings with a diverse group of professional women on a monthly basis. We welcome ALL women that are looking to connect with likeminded individuals who are interested in building relationships that will help them grow personally and professionally. We strongly believe in building relationships\, and truly believe that it’s not a competition but an opportunity to collaborate. \nWe are looking forward to seeing our members and honored guests. Please feel free to invite a friend who you believe will benefit from and be a contribution to this networking group. We ask that all attendees purchase a beverage or food item to support the the local establishment allowing us to use their space for free. \n***This is not the only platform we are advertising this event. This is not an accurate count of attendees. *** \n#PWoW #PWoWMKE #Networking #WomenInBusiness #WomensNetworking #SmallBusiness #CollaborationNotCompetition
URL:https://pwow.org/event/professional-women-of-wi-pwow-3rd-thurs-networking-feb-15-2024/
LOCATION:Scout Wine Merchants\, 4512 N. Oakland Avenue\, Shorewood\, WI\, 53211\, United States
CATEGORIES:Cocktail Hour,Networking
ATTACH;FMTTYPE=image/jpeg:https://pwow.org/wp-content/uploads/2024/01/Scout-Wine-Merchants.jpg
ORGANIZER;CN="Kim Knaak":MAILTO:pwowmke@gmail.com
END:VEVENT
END:VCALENDAR