BEGIN:VCALENDAR
VERSION:2.0
PRODID:-//Professional Women of Wisconsin - ECPv6.15.20//NONSGML v1.0//EN
CALSCALE:GREGORIAN
METHOD:PUBLISH
X-WR-CALNAME:Professional Women of Wisconsin
X-ORIGINAL-URL:https://pwow.org
X-WR-CALDESC:Events for Professional Women of Wisconsin
REFRESH-INTERVAL;VALUE=DURATION:PT1H
X-Robots-Tag:noindex
X-PUBLISHED-TTL:PT1H
BEGIN:VTIMEZONE
TZID:America/Chicago
BEGIN:DAYLIGHT
TZOFFSETFROM:-0600
TZOFFSETTO:-0500
TZNAME:CDT
DTSTART:20230312T080000
END:DAYLIGHT
BEGIN:STANDARD
TZOFFSETFROM:-0500
TZOFFSETTO:-0600
TZNAME:CST
DTSTART:20231105T070000
END:STANDARD
BEGIN:DAYLIGHT
TZOFFSETFROM:-0600
TZOFFSETTO:-0500
TZNAME:CDT
DTSTART:20240310T080000
END:DAYLIGHT
BEGIN:STANDARD
TZOFFSETFROM:-0500
TZOFFSETTO:-0600
TZNAME:CST
DTSTART:20241103T070000
END:STANDARD
BEGIN:DAYLIGHT
TZOFFSETFROM:-0600
TZOFFSETTO:-0500
TZNAME:CDT
DTSTART:20250309T080000
END:DAYLIGHT
BEGIN:STANDARD
TZOFFSETFROM:-0500
TZOFFSETTO:-0600
TZNAME:CST
DTSTART:20251102T070000
END:STANDARD
END:VTIMEZONE
BEGIN:VTIMEZONE
TZID:UTC
BEGIN:STANDARD
TZOFFSETFROM:+0000
TZOFFSETTO:+0000
TZNAME:UTC
DTSTART:20230101T000000
END:STANDARD
END:VTIMEZONE
BEGIN:VEVENT
DTSTART;VALUE=DATE:20240313
DTEND;VALUE=DATE:20240316
DTSTAMP:20260425T075738
CREATED:20240216T191338Z
LAST-MODIFIED:20240216T191338Z
UID:210-1710288000-1710547199@pwow.org
SUMMARY:Manfiest LIVE\, A Soul Business Accelerator
DESCRIPTION:Manfiest LIVE\, A Soul Business Accelerator\nRegister HERE\nAs a special offer to our PWOW group\, Tara is gifting $300 off using code PWOW300\nThis is for purpose-driven entrepreneurs ready to rise with Purpose\, Passion & Prosperity!\nWhat You Will Learn: \n\nA Clear View to Build a Dream Business Structure that Supports Your Dream Lifestyle\nBuilt on Tara’s 4 Foundations: Freedom\, Finances\, Fulfillment & Fun\nHow to Rise with Tara’s 3 Pillars for Soul-Calling Success: Purpose\, Passion & Prosperity\nFine Tuning on Your Ideal Client\nMoney Mapping Strategy to Create Your 2024 6-Figure\, Multi 6\, or 7-Figure Playbook\nTap into Your Intuitive Intelligence & Receive Spiritual Guidance to Create a Clear Path\nRemove Blocks Standing in Your Way\n\nImagine where you will be after three days… \n\nKnow how to serve more people and keep the freedom in your life\nGenerate revenue by selling high-ticket services\nConnect with like-minded\, soulful\, purpose-driven entrepreneurs\nCreate wealth on your terms\, in alignment with your soul calling\nLeave renewed & rejuvenated with clarity\, calm\, confidence and commitment to becoming your future self\n\nMagic happens when a group of soul-centered\, heartfelt entrepreneurs get together with intention and purpose. If you have felt like there is still something MORE for you\, then you owe it to yourself to find out what that is before the years continue to pass by. \n  \nFEATURED SPEAKER: Sara Connell \nCreate Your Soul Legacy with a Bestselling Book\nSara Connell is a bestselling author and founder of Thought Leader Academy where she helps coaches\, writers and entrepreneurs become successful\, published authors and in-demand speakers.\nShe has been featured on The Oprah Winfrey Show\, Good Morning America\, The View\, FOX Chicago\, TEDx\, The Today Show\, and Katie Couric. Her writing has appeared in: The New York Times\, Forbes\, Good Housekeeping\, and Parenting. She’s the author of five books and has been nominated for a national book award and ELLE magazine Book of the Year. \n  \nFEATURED SPEAKER: Wendy Babcock \nGet Paid to Speak (without selling)\nWendy Babcock is an International & TEDx Speaker\, Author and the Paid Stage Speaker Coach. \nWendy started her speaking career on the paid stages presenting A Complaint Free World when she became a Certified Complaint Free Trainer through Will Bowen’s training program. She went on to create a global movement called The Kindness Bucket Brigade to help stop online bullying by adding more kindness to the world. This movement became the inspiration for her TEDx talk. \nHer initiatives have gained recognition from prominent publications such as Reader’s Digest and The Wisconsin State Journal and have led to appearances on major television networks like ABC\, NBC\, and Fox47\, shining a light on her passion for promoting kindness and empowerment through positive communication. \nWendy\, also known as The Paid Stage Speaking Coach\, has become a sought after expert helping female entrepreneurs add profitable speaking to their business to create another stream of income.
URL:https://pwow.org/event/manfiest-live-a-soul-business-accelerator/
LOCATION:Milwaukee\, WI or Online
CATEGORIES:Business Training/Coaching
ATTACH;FMTTYPE=image/jpeg:https://pwow.org/wp-content/uploads/2024/02/Soul-Business-Accelerator-w-speakers.jpg
END:VEVENT
BEGIN:VEVENT
DTSTART;TZID=UTC:20240314T113000
DTEND;TZID=UTC:20240314T130000
DTSTAMP:20260425T075738
CREATED:20240229T192139Z
LAST-MODIFIED:20240229T192139Z
UID:193-1710415800-1710421200@pwow.org
SUMMARY:Professional Women of WI (PWoW) | 2nd Thurs | Networking | Mar 14\, 2024
DESCRIPTION:PWoW’s monthly lunch in-person networking! \nWe will meet at New Berlin Ale House from 11:30-1pm the 2nd Thursday monthly. USE THE WEST ENTRANCE \nOur goal is to offer structured meetings with a diverse group of professional women on a monthly basis. We welcome ALL women that are looking to connect with likeminded individuals who are interested in building relationships that will help them grow personally and professionally. We strongly believe in building relationships\, and truly believe that it’s not a competition but an opportunity to collaborate. \nWe are looking forward to seeing our members and honored guests. Please feel free to invite a friend who you believe will benefit from and be a contribution to this networking group. \n***This is not the only platform we are advertising this event. This is not an accurate count of attendees. *** \n#PWoW #PWoWMKE #Networking #WomenInBusiness #WomensNetworking #SmallBusiness #CollaborationNotCompetition
URL:https://pwow.org/event/professional-women-of-wi-pwow-2nd-thurs-networking-mar-14-2024/
LOCATION:New Berlin Ale House\, 16000 W Cleveland Ave\, New Berlin\, WI\, 53151\, United States
CATEGORIES:Luncheon,Networking,PWOW
ATTACH;FMTTYPE=image/png:https://pwow.org/wp-content/uploads/2024/01/New-Berlin-Ale-House.png
ORGANIZER;CN="Kim Knaak":MAILTO:pwowmke@gmail.com
END:VEVENT
BEGIN:VEVENT
DTSTART;TZID=UTC:20240321T160000
DTEND;TZID=UTC:20240321T180000
DTSTAMP:20260425T075739
CREATED:20240229T192829Z
LAST-MODIFIED:20240229T192829Z
UID:194-1711036800-1711044000@pwow.org
SUMMARY:Professional Women of WI (PWoW) | 3rd Thurs | Networking | Mar 21\, 2024
DESCRIPTION:PWoW’s North Shore cocktail networking event! \nWe will meet at Scout Wine in Shorewood from 4pm-6pm the 3rd Thursday monthly. Appetizers provided with ticket purchase. \nOur goal is to offer structured meetings with a diverse group of professional women on a monthly basis. We welcome ALL women that are looking to connect with likeminded individuals who are interested in building relationships that will help them grow personally and professionally. We strongly believe in building relationships\, and truly believe that it’s not a competition but an opportunity to collaborate. \nWe are looking forward to seeing our members and honored guests. Please feel free to invite a friend who you believe will benefit from and be a contribution to this networking group. We ask that all attendees purchase a beverage or food item to support the the local establishment allowing us to use their space for free. \n***This is not the only platform we are advertising this event. This is not an accurate count of attendees. *** \n#PWoW #PWoWMKE #Networking #WomenInBusiness #WomensNetworking #SmallBusiness #CollaborationNotCompetition
URL:https://pwow.org/event/professional-women-of-wi-pwow-3rd-thurs-networking-mar-21-2024/
LOCATION:Scout Wine Merchants\, 4512 N. Oakland Avenue\, Shorewood\, WI\, 53211\, United States
CATEGORIES:Cocktail Hour,Networking,PWOW
ATTACH;FMTTYPE=image/jpeg:https://pwow.org/wp-content/uploads/2024/01/Scout-Wine-Merchants.jpg
ORGANIZER;CN="Kim Knaak":MAILTO:pwowmke@gmail.com
END:VEVENT
BEGIN:VEVENT
DTSTART;TZID=UTC:20240326T180000
DTEND;TZID=UTC:20240326T200000
DTSTAMP:20260425T075739
CREATED:20240229T192508Z
LAST-MODIFIED:20240229T192508Z
UID:195-1711476000-1711483200@pwow.org
SUMMARY:Professional Women of WI (PWoW) | 4th Tues | Networking | Mar 26\, 2024
DESCRIPTION:**We will have full menu available for all – please bring cash to pay for your meal & drinks** \nOur goal is to offer structured meetings with a diverse group of professional women on a monthly basis. We welcome ALL women that are looking to connect with likeminded individuals who are interested in building relationships that will help them grow personally and professionally. We strongly believe in building relationships\, and truly believe that it’s not a competition but an opportunity to collaborate. \nWe are looking for donations for giveaways at the meeting. It’s a great way to share for your product and/or service with the group. A donation does not have to be anything expensive but something you feel someone would enjoy. A few examples of items that were donated in previous meetings: A bottle of wine\, candle\, box of candy\, notepad\, book\, $5.00 gift card to Starbucks\, etc. We have always enjoyed the giveaways at the end of the meeting\, so we are looking forward to carrying on the tradition. \nWe are looking forward to seeing our members and honored guests. Please feel free to invite a friend who you believe will benefit from and be a contribution to this networking group. \n***This is not the only platform we are advertising this event. This is not an accurate count of attendees. *** \n#PWoW #PWoWMKE #Networking #WomenInBusiness #WomensNetworking #SmallBusiness #CollaborationNotCompetition
URL:https://pwow.org/event/professional-women-of-wi-pwow-4th-tues-networking-mar-26-2024/
LOCATION:Los Mariachis Mexican Restaurant\, 4305 W Layton Ave.\, Greenfield\, WI\, 53220\, United States
CATEGORIES:Dinner,Networking,PWOW
ATTACH;FMTTYPE=image/png:https://pwow.org/wp-content/uploads/2024/01/Los-Mariachis.png
ORGANIZER;CN="Kim Knaak":MAILTO:pwowmke@gmail.com
END:VEVENT
END:VCALENDAR