BEGIN:VCALENDAR
VERSION:2.0
PRODID:-//Professional Women of Wisconsin - ECPv6.15.20//NONSGML v1.0//EN
CALSCALE:GREGORIAN
METHOD:PUBLISH
X-ORIGINAL-URL:https://pwow.org
X-WR-CALDESC:Events for Professional Women of Wisconsin
REFRESH-INTERVAL;VALUE=DURATION:PT1H
X-Robots-Tag:noindex
X-PUBLISHED-TTL:PT1H
BEGIN:VTIMEZONE
TZID:America/Chicago
BEGIN:DAYLIGHT
TZOFFSETFROM:-0600
TZOFFSETTO:-0500
TZNAME:CDT
DTSTART:20230312T080000
END:DAYLIGHT
BEGIN:STANDARD
TZOFFSETFROM:-0500
TZOFFSETTO:-0600
TZNAME:CST
DTSTART:20231105T070000
END:STANDARD
BEGIN:DAYLIGHT
TZOFFSETFROM:-0600
TZOFFSETTO:-0500
TZNAME:CDT
DTSTART:20240310T080000
END:DAYLIGHT
BEGIN:STANDARD
TZOFFSETFROM:-0500
TZOFFSETTO:-0600
TZNAME:CST
DTSTART:20241103T070000
END:STANDARD
BEGIN:DAYLIGHT
TZOFFSETFROM:-0600
TZOFFSETTO:-0500
TZNAME:CDT
DTSTART:20250309T080000
END:DAYLIGHT
BEGIN:STANDARD
TZOFFSETFROM:-0500
TZOFFSETTO:-0600
TZNAME:CST
DTSTART:20251102T070000
END:STANDARD
END:VTIMEZONE
BEGIN:VTIMEZONE
TZID:UTC
BEGIN:STANDARD
TZOFFSETFROM:+0000
TZOFFSETTO:+0000
TZNAME:UTC
DTSTART:20230101T000000
END:STANDARD
END:VTIMEZONE
BEGIN:VEVENT
DTSTART;TZID=America/Chicago:20240624T100000
DTEND;TZID=America/Chicago:20240625T140000
DTSTAMP:20260425T105506
CREATED:20240611T142400Z
LAST-MODIFIED:20240619T155952Z
UID:730-1719223200-1719324000@pwow.org
SUMMARY:The Art of Transformation Coaching Intensive
DESCRIPTION:Are you READY to\n\n\n\n\n\nCreate a greater impact on the lives of your clients and your own life\nStep into leadership for yourself and others\nCreate your high ticket coaching business\n\n\n\n\n\nYes! I’m ready!\n\n\n\n\n\n\n\n\n\n\n\n\n\n\n\n\n\n\n\n\n\n\n\n\n\n\n\nYour Agenda\n June 25-26\, 2024\nTuesday 10am-2pm CT  / Wednesday 10am-2pm CT (w/ VIP-Power Hour til 3pm) \n\n\n\n\nMake an IMPACT\nCreate powerful\, life-changing coaching sessions and inspire your clients to new levels. \n\n\n\n\n\nMake an INCOME\nCreate a meaningful income stream\, while empowering others and doing what you love. \nTwo Days of intensive coaching\, you will…\n\n\n\n\n\n\n\n\n\n\n\n\n\n\n√  Understand How to Develop a Coaching Program Start to Finish \n√  Uplevel Your Impact on Clients \n√  Improve Leadership Skills \n√  Empower Yourself Financially w/High Ticket Pricing \n\n\n\n\n\n\n\n\n\n\n\n\n\n\n\n\n\n\n\n\nUp-Level your Craft & Transform Lives\n\nDuring this workshop:\n\nBreak free & transform pain to purpose\nGain tools to start your own 6-figure+ Coaching / Consulting Online Business\nDive deep into your own life\n\nYou’ll also discover:\n\nBest ways to help others and learn the strategies to serve them\nHow to find your ideal client\nMake a difference in your life and others\n\n\nAnd the best part! This is all…\n*Purposeful – Profitable – Portable*\n\n\n\n\n\n\n\n\n\n\n\n\n\n\n\n\n\n\n\n\n\n\nWake up to live your purpose & love your life!\n\n\n\n\n\n\n\n\n\n\n\n\n\n\n\nTARA NOLAN\nWhen you join event host\, Tara Nolan\, you’ll experience a LIVE online training that will transform your life\, heighten your success and raise the bar for every future event you attend. \nAs a transformation Business & Life Coach\, she takes a holistic approach to modern business. Tara empowers heart-centered coaches\, spiritual entrepreneurs and purpose-driven professionals to find clarity and release barriers\, so they can create\, build and scale their soul calling business and manifest their dream life. \n\n\n\n\n\n\n\n\n\n\n\n\n\n\n\n\n\n\n\n\nI’m ready to create my Success on MY TERMS!\n\n\n\n\n\n\n\n\n\n\n\n\n\n\nBut don’t just take our word for it…\n\n\n\n\n\n\n\n\n\n\n\n\n\n\n\n\n \n\n“OMG! The Art of Transformative Coaching was truly amazing and so very helpful on many different levels\, both personally and professionally.” ~Jody \n\n\n\n\n\n\n\n \n\n“Don’t wait! Because if you wait\, you are just putting your life on hold.” ~Renee \n\n\n\n\n\n\n\n\n\n\n\n\n\n\n\n\n\n\n\n\n\n\n\n\n\n\n\n\n\n\nIf you have any questions\, please feel free to contact us at support@transformationtara.com or text us at (715) 904-0870.
URL:https://pwow.org/event/the-art-of-transformation-coaching-intensive/
LOCATION:Zoom
CATEGORIES:Business Training/Coaching,Workshops
ATTACH;FMTTYPE=image/png:https://pwow.org/wp-content/uploads/2024/06/AOTC-June-2024.png
END:VEVENT
BEGIN:VEVENT
DTSTART;TZID=UTC:20240625T180000
DTEND;TZID=UTC:20240625T200000
DTSTAMP:20260425T105506
CREATED:20240514T190926Z
LAST-MODIFIED:20240514T190926Z
UID:699-1719338400-1719345600@pwow.org
SUMMARY:Professional Women of WI (PWoW) | 4th Tues | Networking | June 25\, 2024
DESCRIPTION:**We will have full menu available for all – please bring cash to pay for your meal & drinks** \nOur goal is to offer structured meetings with a diverse group of professional women on a monthly basis. We welcome ALL women that are looking to connect with likeminded individuals who are interested in building relationships that will help them grow personally and professionally. We strongly believe in building relationships\, and truly believe that it’s not a competition but an opportunity to collaborate. \nWe are looking for donations for giveaways at the meeting. It’s a great way to share for your product and/or service with the group. A donation does not have to be anything expensive but something you feel someone would enjoy. A few examples of items that were donated in previous meetings: A bottle of wine\, candle\, box of candy\, notepad\, book\, $5.00 gift card to Starbucks\, etc. We have always enjoyed the giveaways at the end of the meeting\, so we are looking forward to carrying on the tradition. \nWe are looking forward to seeing our members and honored guests. Please feel free to invite a friend who you believe will benefit from and be a contribution to this networking group. \n***This is not the only platform we are advertising this event. This is not an accurate count of attendees. *** \n#PWoW #PWoWMKE #Networking #WomenInBusiness #WomensNetworking #SmallBusiness #CollaborationNotCompetition
URL:https://pwow.org/event/professional-women-of-wi-pwow-4th-tues-networking-june-25-2024/
LOCATION:Los Mariachis Mexican Restaurant\, 4305 W Layton Ave.\, Greenfield\, WI\, 53220\, United States
CATEGORIES:Dinner,Networking,PWOW
ATTACH;FMTTYPE=image/png:https://pwow.org/wp-content/uploads/2024/01/Los-Mariachis.png
ORGANIZER;CN="Kim Knaak":MAILTO:pwowmke@gmail.com
END:VEVENT
END:VCALENDAR