BEGIN:VCALENDAR
VERSION:2.0
PRODID:-//Professional Women of Wisconsin - ECPv6.15.20//NONSGML v1.0//EN
CALSCALE:GREGORIAN
METHOD:PUBLISH
X-WR-CALNAME:Professional Women of Wisconsin
X-ORIGINAL-URL:https://pwow.org
X-WR-CALDESC:Events for Professional Women of Wisconsin
REFRESH-INTERVAL;VALUE=DURATION:PT1H
X-Robots-Tag:noindex
X-PUBLISHED-TTL:PT1H
BEGIN:VTIMEZONE
TZID:America/Chicago
BEGIN:DAYLIGHT
TZOFFSETFROM:-0600
TZOFFSETTO:-0500
TZNAME:CDT
DTSTART:20240310T080000
END:DAYLIGHT
BEGIN:STANDARD
TZOFFSETFROM:-0500
TZOFFSETTO:-0600
TZNAME:CST
DTSTART:20241103T070000
END:STANDARD
BEGIN:DAYLIGHT
TZOFFSETFROM:-0600
TZOFFSETTO:-0500
TZNAME:CDT
DTSTART:20250309T080000
END:DAYLIGHT
BEGIN:STANDARD
TZOFFSETFROM:-0500
TZOFFSETTO:-0600
TZNAME:CST
DTSTART:20251102T070000
END:STANDARD
BEGIN:DAYLIGHT
TZOFFSETFROM:-0600
TZOFFSETTO:-0500
TZNAME:CDT
DTSTART:20260308T080000
END:DAYLIGHT
BEGIN:STANDARD
TZOFFSETFROM:-0500
TZOFFSETTO:-0600
TZNAME:CST
DTSTART:20261101T070000
END:STANDARD
END:VTIMEZONE
BEGIN:VEVENT
DTSTART;TZID=America/Chicago:20250911T113000
DTEND;TZID=America/Chicago:20250911T130000
DTSTAMP:20260424T030541
CREATED:20250814T144301Z
LAST-MODIFIED:20250903T140431Z
UID:5102-1757590200-1757595600@pwow.org
SUMMARY:Professional Women of WI (PWoW) | 2nd Thurs | Networking | Sept 11\, 2025
DESCRIPTION:PWoW’s monthly lunch in-person networking! \nTicket purchase required to attend.\nWe will meet at New Berlin Ale House from 11:30-1pm the 2nd Thursday monthly. USE THE WEST ENTRANCE \nOur goal is to offer structured meetings with a diverse group of professional women on a monthly basis. We welcome ALL women that are looking to connect with likeminded individuals who are interested in building relationships that will help them grow personally and professionally. We strongly believe in building relationships\, and truly believe that it’s not a competition but an opportunity to collaborate. \nWe are looking forward to seeing our members and honored guests. Please feel free to invite a friend who you believe will benefit from and be a contribution to this networking group. \n***This is not the only platform we are advertising this event. This is not an accurate count of attendees. *** \n#PWoW #PWoWMKE #Networking #WomenInBusiness #WomensNetworking #SmallBusiness #CollaborationNotCompetition
URL:https://pwow.org/event/professional-women-of-wi-pwow-2nd-thurs-networking-sept-11-2025/
LOCATION:New Berlin Ale House\, 16000 W Cleveland Ave\, New Berlin\, WI\, 53151\, United States
CATEGORIES:Luncheon,Networking,PWOW
ATTACH;FMTTYPE=image/png:https://pwow.org/wp-content/uploads/2024/01/New-Berlin-Ale-House.png
ORGANIZER;CN="Kim Knaak":MAILTO:pwowmke@gmail.com
END:VEVENT
BEGIN:VEVENT
DTSTART;TZID=America/Chicago:20250917T113000
DTEND;TZID=America/Chicago:20250917T130000
DTSTAMP:20260424T030541
CREATED:20250814T144505Z
LAST-MODIFIED:20250903T140416Z
UID:5107-1758108600-1758114000@pwow.org
SUMMARY:Professional Women of WI (PWoW) | 3rd Wed | Networking | Sept 17\, 2025
DESCRIPTION:PWoW’s monthly lunch in-person networking in Lake Country! \nTicket purchase required to attend.\nWe will meet at Mad Dog Saloon from 11:30-1pm the 3rd Wednesday monthly. \nOur goal is to offer structured meetings with a diverse group of professional women on a monthly basis. We welcome ALL women that are looking to connect with likeminded individuals who are interested in building relationships that will help them grow personally and professionally. We strongly believe in building relationships\, and truly believe that it’s not a competition but an opportunity to collaborate. \nWe are looking forward to seeing our members and honored guests. Please feel free to invite a friend who you believe will benefit from and be a contribution to this networking group. \n***This is not the only platform we are advertising this event. This is not an accurate count of attendees. *** \n#PWoW #PWoWMKE #Networking #WomenInBusiness #WomensNetworking #SmallBusiness #CollaborationNotCompetition
URL:https://pwow.org/event/professional-women-of-wi-pwow-3rd-wed-networking-sept-17-2025/
LOCATION:Mad Dog Saloon\, 220 W. Summit Ave.\, Wales\, WI\, 53183\, United States
CATEGORIES:Connect,Luncheon,Networking,PWOW
ATTACH;FMTTYPE=image/jpeg:https://pwow.org/wp-content/uploads/2025/02/MDSaloon-logo-1-1.jpg
ORGANIZER;CN="Kim Knaak":MAILTO:pwowmke@gmail.com
END:VEVENT
BEGIN:VEVENT
DTSTART;TZID=America/Chicago:20250923T180000
DTEND;TZID=America/Chicago:20250923T200000
DTSTAMP:20260424T030541
CREATED:20250814T144653Z
LAST-MODIFIED:20250903T140447Z
UID:5112-1758650400-1758657600@pwow.org
SUMMARY:Professional Women of WI (PWoW) | 4th Tues | Networking | Sept 23\, 2025
DESCRIPTION:PWoW’s Monthly Networking Dinner! \nTicket purchase required to attend.\nWe will meet at Reunion Restaurant from 6pm-8pm the 4th Tuesday Monthly. There is a very large parking lot behind the building available for Reunion patrons! You can enter the building right from the parking lot.. There is a very large parking lot behind the building available for Reunion patrons! You can enter the building right from the parking lot. \nOur goal is to offer structured meetings with a diverse group of professional women on a monthly basis. We welcome ALL women that are looking to connect with likeminded individuals who are interested in building relationships that will help them grow personally and professionally. We strongly believe in building relationships\, and truly believe that it’s not a competition but an opportunity to collaborate. \nWe are looking for donations for giveaways at the meeting. It’s a great way to share for your product and/or service with the group. A donation does not have to be anything expensive but something you feel someone would enjoy. A few examples of items that were donated in previous meetings: A bottle of wine\, candle\, box of candy\, notepad\, book\, $5.00 gift card to Starbucks\, etc. We have always enjoyed the giveaways at the end of the meeting\, so we are looking forward to carrying on the tradition. \nWe are looking forward to seeing our members and honored guests. Please feel free to invite a friend who you believe will benefit from and be a contribution to this networking group. \n***This is not the only platform we are advertising this event. This is not an accurate count of attendees. *** \n#PWoW #PWoWMKE #Networking #WomenInBusiness #WomensNetworking #SmallBusiness #CollaborationNotCompetition \n  \nReunion
URL:https://pwow.org/event/professional-women-of-wi-pwow-4th-tues-networking-sept-23-2025/
LOCATION:Reunion Restaurant\, 6610 W Greenfield Ave\, West Allis\, WI\, 53214\, United States
CATEGORIES:Dinner,Networking,PWOW
ATTACH;FMTTYPE=image/jpeg:https://pwow.org/wp-content/uploads/2025/01/Reunion.jpeg
ORGANIZER;CN="Kim Knaak":MAILTO:pwowmke@gmail.com
END:VEVENT
END:VCALENDAR