BEGIN:VCALENDAR
VERSION:2.0
PRODID:-//Professional Women of Wisconsin - ECPv6.15.20//NONSGML v1.0//EN
CALSCALE:GREGORIAN
METHOD:PUBLISH
X-ORIGINAL-URL:https://pwow.org
X-WR-CALDESC:Events for Professional Women of Wisconsin
REFRESH-INTERVAL;VALUE=DURATION:PT1H
X-Robots-Tag:noindex
X-PUBLISHED-TTL:PT1H
BEGIN:VTIMEZONE
TZID:America/Chicago
BEGIN:DAYLIGHT
TZOFFSETFROM:-0600
TZOFFSETTO:-0500
TZNAME:CDT
DTSTART:20240310T080000
END:DAYLIGHT
BEGIN:STANDARD
TZOFFSETFROM:-0500
TZOFFSETTO:-0600
TZNAME:CST
DTSTART:20241103T070000
END:STANDARD
BEGIN:DAYLIGHT
TZOFFSETFROM:-0600
TZOFFSETTO:-0500
TZNAME:CDT
DTSTART:20250309T080000
END:DAYLIGHT
BEGIN:STANDARD
TZOFFSETFROM:-0500
TZOFFSETTO:-0600
TZNAME:CST
DTSTART:20251102T070000
END:STANDARD
BEGIN:DAYLIGHT
TZOFFSETFROM:-0600
TZOFFSETTO:-0500
TZNAME:CDT
DTSTART:20260308T080000
END:DAYLIGHT
BEGIN:STANDARD
TZOFFSETFROM:-0500
TZOFFSETTO:-0600
TZNAME:CST
DTSTART:20261101T070000
END:STANDARD
END:VTIMEZONE
BEGIN:VEVENT
DTSTART;TZID=America/Chicago:20250603T100000
DTEND;TZID=America/Chicago:20250603T130000
DTSTAMP:20260423T181612
CREATED:20250531T132303Z
LAST-MODIFIED:20250531T132303Z
UID:4799-1748944800-1748955600@pwow.org
SUMMARY:Soul Calling Success Workshop
DESCRIPTION:June 3-4\, 2025\nTUESDAY:  8am-11am PT/ 10am-1pm CT\nVIP Session  11am-12pm PT / 1pm-2pm CT\nWEDNESDAY:8am-10am PT/ 10am-12pm CT\nVIP Session 10am-11am PT / 12pm-1pm CT\n\n\n\nAre YOU looking for greater success\, happiness and fulfillment in all aspects of life?\nThis Workshop is For You If You’re Ready To:\n\nTurn your soul’s calling into a sustainable 6-figure+ business\nPivot your offer or message to meet the moment (without selling your soul)\nBreak through the fear of being “too much” or “not enough” and rise into visibility\nAlign strategy with spirit so you’re no longer hustling or guessing\nClaim the abundance you’re capable and worthy of\n\n\n  \nWhat You’ll Learn Over 2 Days:\n\nDAY 1: CLARITY & VISION\nCraft your aligned business roadmap to $150k+\nClarify your core message and unique transformational promise\nIdentify your aligned audience and where your soul work meets their needs\n\nDAY 2: STRATEGY & ACTIVATION\nDesign an authentic offer that converts with soul\nMap your visibility + client attraction plan\nRelease money blocks and activate your worthy mindset\n\nUse code PWOW for 50% off GA or VIP admission!!
URL:https://pwow.org/event/soul-calling-success-workshop/
LOCATION:Zoom
CATEGORIES:Business Training/Coaching,Workshops
ATTACH;FMTTYPE=image/jpeg:https://pwow.org/wp-content/uploads/2025/05/abde4fe-fd55-20f7-11a7-2c04ee37d1e_soul_calling_success_live.jpg
END:VEVENT
BEGIN:VEVENT
DTSTART;TZID=America/Chicago:20250603T100000
DTEND;TZID=America/Chicago:20250603T130000
DTSTAMP:20260423T181612
CREATED:20250531T132303Z
LAST-MODIFIED:20250531T132303Z
UID:4799-1748944800-1748955600@pwow.org
SUMMARY:Soul Calling Success Workshop
DESCRIPTION:June 3-4\, 2025\nTUESDAY:  8am-11am PT/ 10am-1pm CT\nVIP Session  11am-12pm PT / 1pm-2pm CT\nWEDNESDAY:8am-10am PT/ 10am-12pm CT\nVIP Session 10am-11am PT / 12pm-1pm CT\n\n\n\nAre YOU looking for greater success\, happiness and fulfillment in all aspects of life?\nThis Workshop is For You If You’re Ready To:\n\nTurn your soul’s calling into a sustainable 6-figure+ business\nPivot your offer or message to meet the moment (without selling your soul)\nBreak through the fear of being “too much” or “not enough” and rise into visibility\nAlign strategy with spirit so you’re no longer hustling or guessing\nClaim the abundance you’re capable and worthy of\n\n\n  \nWhat You’ll Learn Over 2 Days:\n\nDAY 1: CLARITY & VISION\nCraft your aligned business roadmap to $150k+\nClarify your core message and unique transformational promise\nIdentify your aligned audience and where your soul work meets their needs\n\nDAY 2: STRATEGY & ACTIVATION\nDesign an authentic offer that converts with soul\nMap your visibility + client attraction plan\nRelease money blocks and activate your worthy mindset\n\nUse code PWOW for 50% off GA or VIP admission!!
URL:https://pwow.org/event/soul-calling-success-workshop/
LOCATION:Zoom
CATEGORIES:Business Training/Coaching,Workshops
ATTACH;FMTTYPE=image/jpeg:https://pwow.org/wp-content/uploads/2025/05/abde4fe-fd55-20f7-11a7-2c04ee37d1e_soul_calling_success_live.jpg
END:VEVENT
BEGIN:VEVENT
DTSTART;TZID=America/Chicago:20250612T113000
DTEND;TZID=America/Chicago:20250612T130000
DTSTAMP:20260423T181612
CREATED:20250528T144452Z
LAST-MODIFIED:20250528T144452Z
UID:4677-1749727800-1749733200@pwow.org
SUMMARY:Professional Women of WI (PWoW) | 2nd Thurs | Networking | June 12\, 2025
DESCRIPTION:PWoW’s monthly lunch in-person networking! \nWe will meet at New Berlin Ale House from 11:30-1pm the 2nd Thursday monthly. USE THE WEST ENTRANCE \nOur goal is to offer structured meetings with a diverse group of professional women on a monthly basis. We welcome ALL women that are looking to connect with likeminded individuals who are interested in building relationships that will help them grow personally and professionally. We strongly believe in building relationships\, and truly believe that it’s not a competition but an opportunity to collaborate. \nWe are looking forward to seeing our members and honored guests. Please feel free to invite a friend who you believe will benefit from and be a contribution to this networking group. \n***This is not the only platform we are advertising this event. This is not an accurate count of attendees. *** \n#PWoW #PWoWMKE #Networking #WomenInBusiness #WomensNetworking #SmallBusiness #CollaborationNotCompetition
URL:https://pwow.org/event/professional-women-of-wi-pwow-2nd-thurs-networking-june-12-2025/
LOCATION:New Berlin Ale House\, 16000 W Cleveland Ave\, New Berlin\, WI\, 53151\, United States
CATEGORIES:Luncheon,Networking,PWOW
ATTACH;FMTTYPE=image/png:https://pwow.org/wp-content/uploads/2024/01/New-Berlin-Ale-House.png
ORGANIZER;CN="Kim Knaak":MAILTO:pwowmke@gmail.com
END:VEVENT
BEGIN:VEVENT
DTSTART;TZID=America/Chicago:20250618T113000
DTEND;TZID=America/Chicago:20250618T130000
DTSTAMP:20260423T181612
CREATED:20250528T152111Z
LAST-MODIFIED:20250528T152111Z
UID:4680-1750246200-1750251600@pwow.org
SUMMARY:Professional Women of WI (PWoW) | 3rd Wed | Networking | June 18\, 2025
DESCRIPTION:PWoW’s monthly lunch in-person networking in Lake Country! \nWe will meet at Mad Dog Saloon from 11:30-1pm the 3rd Wednesday monthly. \nOur goal is to offer structured meetings with a diverse group of professional women on a monthly basis. We welcome ALL women that are looking to connect with likeminded individuals who are interested in building relationships that will help them grow personally and professionally. We strongly believe in building relationships\, and truly believe that it’s not a competition but an opportunity to collaborate. \nWe are looking forward to seeing our members and honored guests. Please feel free to invite a friend who you believe will benefit from and be a contribution to this networking group. \n***This is not the only platform we are advertising this event. This is not an accurate count of attendees. *** \n#PWoW #PWoWMKE #Networking #WomenInBusiness #WomensNetworking #SmallBusiness #CollaborationNotCompetition
URL:https://pwow.org/event/professional-women-of-wi-pwow-3rd-wed-networking-june-18-2025/
LOCATION:Mad Dog Saloon\, 220 W. Summit Ave.\, Wales\, WI\, 53183\, United States
CATEGORIES:Connect,Luncheon,Networking,PWOW
ATTACH;FMTTYPE=image/jpeg:https://pwow.org/wp-content/uploads/2025/02/MDSaloon-logo-1-1.jpg
ORGANIZER;CN="Kim Knaak":MAILTO:pwowmke@gmail.com
END:VEVENT
BEGIN:VEVENT
DTSTART;TZID=America/Chicago:20250624T180000
DTEND;TZID=America/Chicago:20250624T200000
DTSTAMP:20260423T181612
CREATED:20250528T152531Z
LAST-MODIFIED:20250528T152531Z
UID:4683-1750788000-1750795200@pwow.org
SUMMARY:Professional Women of WI (PWoW) | 4th Tues | Networking | June 24\, 2025
DESCRIPTION:PWoW’s Monthly Networking Dinner! \nWe will meet at Reunion Restaurant from 6pm-8pm the 4th Tuesday Monthly. There is a very large parking lot behind the building available for Reunion patrons! You can enter the building right from the parking lot.. There is a very large parking lot behind the building available for Reunion patrons! You can enter the building right from the parking lot. \nOur goal is to offer structured meetings with a diverse group of professional women on a monthly basis. We welcome ALL women that are looking to connect with likeminded individuals who are interested in building relationships that will help them grow personally and professionally. We strongly believe in building relationships\, and truly believe that it’s not a competition but an opportunity to collaborate. \nWe are looking for donations for giveaways at the meeting. It’s a great way to share for your product and/or service with the group. A donation does not have to be anything expensive but something you feel someone would enjoy. A few examples of items that were donated in previous meetings: A bottle of wine\, candle\, box of candy\, notepad\, book\, $5.00 gift card to Starbucks\, etc. We have always enjoyed the giveaways at the end of the meeting\, so we are looking forward to carrying on the tradition. \nWe are looking forward to seeing our members and honored guests. Please feel free to invite a friend who you believe will benefit from and be a contribution to this networking group. \n***This is not the only platform we are advertising this event. This is not an accurate count of attendees. *** \n#PWoW #PWoWMKE #Networking #WomenInBusiness #WomensNetworking #SmallBusiness #CollaborationNotCompetition \n  \nReunion
URL:https://pwow.org/event/professional-women-of-wi-pwow-4th-tues-networking-june-24-2025/
LOCATION:Reunion Restaurant\, 6610 W Greenfield Ave\, West Allis\, WI\, 53214\, United States
CATEGORIES:Dinner,Networking,PWOW
ATTACH;FMTTYPE=image/jpeg:https://pwow.org/wp-content/uploads/2025/01/Reunion.jpeg
ORGANIZER;CN="Kim Knaak":MAILTO:pwowmke@gmail.com
END:VEVENT
END:VCALENDAR