BEGIN:VCALENDAR
VERSION:2.0
PRODID:-//Professional Women of Wisconsin - ECPv6.15.20//NONSGML v1.0//EN
CALSCALE:GREGORIAN
METHOD:PUBLISH
X-WR-CALNAME:Professional Women of Wisconsin
X-ORIGINAL-URL:https://pwow.org
X-WR-CALDESC:Events for Professional Women of Wisconsin
REFRESH-INTERVAL;VALUE=DURATION:PT1H
X-Robots-Tag:noindex
X-PUBLISHED-TTL:PT1H
BEGIN:VTIMEZONE
TZID:America/Chicago
BEGIN:DAYLIGHT
TZOFFSETFROM:-0600
TZOFFSETTO:-0500
TZNAME:CDT
DTSTART:20240310T080000
END:DAYLIGHT
BEGIN:STANDARD
TZOFFSETFROM:-0500
TZOFFSETTO:-0600
TZNAME:CST
DTSTART:20241103T070000
END:STANDARD
BEGIN:DAYLIGHT
TZOFFSETFROM:-0600
TZOFFSETTO:-0500
TZNAME:CDT
DTSTART:20250309T080000
END:DAYLIGHT
BEGIN:STANDARD
TZOFFSETFROM:-0500
TZOFFSETTO:-0600
TZNAME:CST
DTSTART:20251102T070000
END:STANDARD
BEGIN:DAYLIGHT
TZOFFSETFROM:-0600
TZOFFSETTO:-0500
TZNAME:CDT
DTSTART:20260308T080000
END:DAYLIGHT
BEGIN:STANDARD
TZOFFSETFROM:-0500
TZOFFSETTO:-0600
TZNAME:CST
DTSTART:20261101T070000
END:STANDARD
END:VTIMEZONE
BEGIN:VEVENT
DTSTART;TZID=America/Chicago:20250508T113000
DTEND;TZID=America/Chicago:20250508T130000
DTSTAMP:20260423T175642
CREATED:20250425T233205Z
LAST-MODIFIED:20250425T233205Z
UID:4487-1746703800-1746709200@pwow.org
SUMMARY:Professional Women of WI (PWoW) | 2nd Thurs | Networking | May 8\, 2025
DESCRIPTION:PWoW’s monthly lunch in-person networking! \nWe will meet at New Berlin Ale House from 11:30-1pm the 2nd Thursday monthly. USE THE WEST ENTRANCE \nOur goal is to offer structured meetings with a diverse group of professional women on a monthly basis. We welcome ALL women that are looking to connect with likeminded individuals who are interested in building relationships that will help them grow personally and professionally. We strongly believe in building relationships\, and truly believe that it’s not a competition but an opportunity to collaborate. \nWe are looking forward to seeing our members and honored guests. Please feel free to invite a friend who you believe will benefit from and be a contribution to this networking group. \n***This is not the only platform we are advertising this event. This is not an accurate count of attendees. *** \n#PWoW #PWoWMKE #Networking #WomenInBusiness #WomensNetworking #SmallBusiness #CollaborationNotCompetition
URL:https://pwow.org/event/professional-women-of-wi-pwow-2nd-thurs-networking-may-8-2025/
LOCATION:New Berlin Ale House\, 16000 W Cleveland Ave\, New Berlin\, WI\, 53151\, United States
CATEGORIES:Luncheon,Networking,PWOW
ATTACH;FMTTYPE=image/png:https://pwow.org/wp-content/uploads/2024/01/New-Berlin-Ale-House.png
ORGANIZER;CN="Kim Knaak":MAILTO:pwowmke@gmail.com
END:VEVENT
BEGIN:VEVENT
DTSTART;TZID=America/Chicago:20250512T110000
DTEND;TZID=America/Chicago:20250512T120000
DTSTAMP:20260423T175642
CREATED:20250429T190726Z
LAST-MODIFIED:20250429T190726Z
UID:4551-1747047600-1747051200@pwow.org
SUMMARY:Collaboration Challenge | May 12 to May 16\, 2025
DESCRIPTION:Register HERE\n🎯 Collaboration Challenge: A 5-Day Social Media Strategy for Business Growth 🎯\nCreate Connection. Build Visibility. Grow Your Business — All Through Collaboration.\nStart 2025 with a clear\, simple social media strategy that feels authentic and effective.The 5-Day Collaboration Challenge is a live\, interactive experience designed to teach entrepreneurs how to grow their audience through education-based content and meaningful collaboration — without selling. \nEach day\, you’ll post with purpose\, engage with others\, and build real momentum toward your business goals. \n\nEvent Details:📅 Dates: May 12–16\, 2025🕒 Time: 11:00 AM CST Daily (Live Zoom Sessions)📍 Location: Live on Zoom (link provided upon registration)💰 Investment: $97 (Ask about event-only discounts!) \n\nWhat You’ll Learn:✅ How to introduce yourself authentically to spark connections✅ How to create value-driven content that builds trust and engagement✅ How to leverage collaboration to expand your reach naturally✅ How to create posts that start real conversations (not just likes)✅ How to showcase your goals and invite aligned partnerships for 2025 \n\nDaily Themes: \n\nDay 1: Tell Your Story — Build trust by sharing who you are and what you stand for.\nDay 2: Teach Something Simple — Share a valuable tip or insight from your expertise.\nDay 3: Showcase a Collaboration — Highlight how working together leads to success.\nDay 4: Ask an Engaging Question — Start a real dialogue with your audience.\nDay 5: Share a 2025 Goal — Inspire collaboration around your vision for the year ahead.\n\n\nWho This Challenge Is Perfect For: \n\nEntrepreneurs who want to build authentic online relationships\nSmall business owners ready to grow their visibility without “selling” constantly\nService providers\, coaches\, and consultants ready to become known for their expertise\n\n\nBonus:Register on or before May 9th and receive FREE access to my exclusive Challenge Prep Kit — a simple checklist and reflection prompts to help you make the most of your 5-day experience! \n\nReady to Grow Through Collaboration? \n#CollaborationNotCompetition #ConnectorKim #OpportunitysKnaaking #CollaborationCreatesCommunity \nRegister HERE
URL:https://pwow.org/event/collaboration-challenge-may-12-to-may-16-2025/
LOCATION:Zoom
CATEGORIES:Business Training/Coaching,Connect,Networking,Workshops
ATTACH;FMTTYPE=image/png:https://pwow.org/wp-content/uploads/2025/04/Collaboration-Challenge.png
ORGANIZER;CN="Kim Knaak":MAILTO:pwowmke@gmail.com
END:VEVENT
BEGIN:VEVENT
DTSTART;TZID=America/Chicago:20250512T110000
DTEND;TZID=America/Chicago:20250512T120000
DTSTAMP:20260423T175642
CREATED:20250429T190726Z
LAST-MODIFIED:20250429T190726Z
UID:4551-1747047600-1747051200@pwow.org
SUMMARY:Collaboration Challenge | May 12 to May 16\, 2025
DESCRIPTION:Register HERE\n🎯 Collaboration Challenge: A 5-Day Social Media Strategy for Business Growth 🎯\nCreate Connection. Build Visibility. Grow Your Business — All Through Collaboration.\nStart 2025 with a clear\, simple social media strategy that feels authentic and effective.The 5-Day Collaboration Challenge is a live\, interactive experience designed to teach entrepreneurs how to grow their audience through education-based content and meaningful collaboration — without selling. \nEach day\, you’ll post with purpose\, engage with others\, and build real momentum toward your business goals. \n\nEvent Details:📅 Dates: May 12–16\, 2025🕒 Time: 11:00 AM CST Daily (Live Zoom Sessions)📍 Location: Live on Zoom (link provided upon registration)💰 Investment: $97 (Ask about event-only discounts!) \n\nWhat You’ll Learn:✅ How to introduce yourself authentically to spark connections✅ How to create value-driven content that builds trust and engagement✅ How to leverage collaboration to expand your reach naturally✅ How to create posts that start real conversations (not just likes)✅ How to showcase your goals and invite aligned partnerships for 2025 \n\nDaily Themes: \n\nDay 1: Tell Your Story — Build trust by sharing who you are and what you stand for.\nDay 2: Teach Something Simple — Share a valuable tip or insight from your expertise.\nDay 3: Showcase a Collaboration — Highlight how working together leads to success.\nDay 4: Ask an Engaging Question — Start a real dialogue with your audience.\nDay 5: Share a 2025 Goal — Inspire collaboration around your vision for the year ahead.\n\n\nWho This Challenge Is Perfect For: \n\nEntrepreneurs who want to build authentic online relationships\nSmall business owners ready to grow their visibility without “selling” constantly\nService providers\, coaches\, and consultants ready to become known for their expertise\n\n\nBonus:Register on or before May 9th and receive FREE access to my exclusive Challenge Prep Kit — a simple checklist and reflection prompts to help you make the most of your 5-day experience! \n\nReady to Grow Through Collaboration? \n#CollaborationNotCompetition #ConnectorKim #OpportunitysKnaaking #CollaborationCreatesCommunity \nRegister HERE
URL:https://pwow.org/event/collaboration-challenge-may-12-to-may-16-2025/
LOCATION:Zoom
CATEGORIES:Business Training/Coaching,Connect,Networking,Workshops
ATTACH;FMTTYPE=image/png:https://pwow.org/wp-content/uploads/2025/04/Collaboration-Challenge.png
ORGANIZER;CN="Kim Knaak":MAILTO:pwowmke@gmail.com
END:VEVENT
BEGIN:VEVENT
DTSTART;TZID=America/Chicago:20250512T110000
DTEND;TZID=America/Chicago:20250512T120000
DTSTAMP:20260423T175642
CREATED:20250429T190726Z
LAST-MODIFIED:20250429T190726Z
UID:4551-1747047600-1747051200@pwow.org
SUMMARY:Collaboration Challenge | May 12 to May 16\, 2025
DESCRIPTION:Register HERE\n🎯 Collaboration Challenge: A 5-Day Social Media Strategy for Business Growth 🎯\nCreate Connection. Build Visibility. Grow Your Business — All Through Collaboration.\nStart 2025 with a clear\, simple social media strategy that feels authentic and effective.The 5-Day Collaboration Challenge is a live\, interactive experience designed to teach entrepreneurs how to grow their audience through education-based content and meaningful collaboration — without selling. \nEach day\, you’ll post with purpose\, engage with others\, and build real momentum toward your business goals. \n\nEvent Details:📅 Dates: May 12–16\, 2025🕒 Time: 11:00 AM CST Daily (Live Zoom Sessions)📍 Location: Live on Zoom (link provided upon registration)💰 Investment: $97 (Ask about event-only discounts!) \n\nWhat You’ll Learn:✅ How to introduce yourself authentically to spark connections✅ How to create value-driven content that builds trust and engagement✅ How to leverage collaboration to expand your reach naturally✅ How to create posts that start real conversations (not just likes)✅ How to showcase your goals and invite aligned partnerships for 2025 \n\nDaily Themes: \n\nDay 1: Tell Your Story — Build trust by sharing who you are and what you stand for.\nDay 2: Teach Something Simple — Share a valuable tip or insight from your expertise.\nDay 3: Showcase a Collaboration — Highlight how working together leads to success.\nDay 4: Ask an Engaging Question — Start a real dialogue with your audience.\nDay 5: Share a 2025 Goal — Inspire collaboration around your vision for the year ahead.\n\n\nWho This Challenge Is Perfect For: \n\nEntrepreneurs who want to build authentic online relationships\nSmall business owners ready to grow their visibility without “selling” constantly\nService providers\, coaches\, and consultants ready to become known for their expertise\n\n\nBonus:Register on or before May 9th and receive FREE access to my exclusive Challenge Prep Kit — a simple checklist and reflection prompts to help you make the most of your 5-day experience! \n\nReady to Grow Through Collaboration? \n#CollaborationNotCompetition #ConnectorKim #OpportunitysKnaaking #CollaborationCreatesCommunity \nRegister HERE
URL:https://pwow.org/event/collaboration-challenge-may-12-to-may-16-2025/
LOCATION:Zoom
CATEGORIES:Business Training/Coaching,Connect,Networking,Workshops
ATTACH;FMTTYPE=image/png:https://pwow.org/wp-content/uploads/2025/04/Collaboration-Challenge.png
ORGANIZER;CN="Kim Knaak":MAILTO:pwowmke@gmail.com
END:VEVENT
BEGIN:VEVENT
DTSTART;TZID=America/Chicago:20250512T110000
DTEND;TZID=America/Chicago:20250512T120000
DTSTAMP:20260423T175642
CREATED:20250429T190726Z
LAST-MODIFIED:20250429T190726Z
UID:4551-1747047600-1747051200@pwow.org
SUMMARY:Collaboration Challenge | May 12 to May 16\, 2025
DESCRIPTION:Register HERE\n🎯 Collaboration Challenge: A 5-Day Social Media Strategy for Business Growth 🎯\nCreate Connection. Build Visibility. Grow Your Business — All Through Collaboration.\nStart 2025 with a clear\, simple social media strategy that feels authentic and effective.The 5-Day Collaboration Challenge is a live\, interactive experience designed to teach entrepreneurs how to grow their audience through education-based content and meaningful collaboration — without selling. \nEach day\, you’ll post with purpose\, engage with others\, and build real momentum toward your business goals. \n\nEvent Details:📅 Dates: May 12–16\, 2025🕒 Time: 11:00 AM CST Daily (Live Zoom Sessions)📍 Location: Live on Zoom (link provided upon registration)💰 Investment: $97 (Ask about event-only discounts!) \n\nWhat You’ll Learn:✅ How to introduce yourself authentically to spark connections✅ How to create value-driven content that builds trust and engagement✅ How to leverage collaboration to expand your reach naturally✅ How to create posts that start real conversations (not just likes)✅ How to showcase your goals and invite aligned partnerships for 2025 \n\nDaily Themes: \n\nDay 1: Tell Your Story — Build trust by sharing who you are and what you stand for.\nDay 2: Teach Something Simple — Share a valuable tip or insight from your expertise.\nDay 3: Showcase a Collaboration — Highlight how working together leads to success.\nDay 4: Ask an Engaging Question — Start a real dialogue with your audience.\nDay 5: Share a 2025 Goal — Inspire collaboration around your vision for the year ahead.\n\n\nWho This Challenge Is Perfect For: \n\nEntrepreneurs who want to build authentic online relationships\nSmall business owners ready to grow their visibility without “selling” constantly\nService providers\, coaches\, and consultants ready to become known for their expertise\n\n\nBonus:Register on or before May 9th and receive FREE access to my exclusive Challenge Prep Kit — a simple checklist and reflection prompts to help you make the most of your 5-day experience! \n\nReady to Grow Through Collaboration? \n#CollaborationNotCompetition #ConnectorKim #OpportunitysKnaaking #CollaborationCreatesCommunity \nRegister HERE
URL:https://pwow.org/event/collaboration-challenge-may-12-to-may-16-2025/
LOCATION:Zoom
CATEGORIES:Business Training/Coaching,Connect,Networking,Workshops
ATTACH;FMTTYPE=image/png:https://pwow.org/wp-content/uploads/2025/04/Collaboration-Challenge.png
ORGANIZER;CN="Kim Knaak":MAILTO:pwowmke@gmail.com
END:VEVENT
BEGIN:VEVENT
DTSTART;TZID=America/Chicago:20250512T110000
DTEND;TZID=America/Chicago:20250512T120000
DTSTAMP:20260423T175642
CREATED:20250429T190726Z
LAST-MODIFIED:20250429T190726Z
UID:4551-1747047600-1747051200@pwow.org
SUMMARY:Collaboration Challenge | May 12 to May 16\, 2025
DESCRIPTION:Register HERE\n🎯 Collaboration Challenge: A 5-Day Social Media Strategy for Business Growth 🎯\nCreate Connection. Build Visibility. Grow Your Business — All Through Collaboration.\nStart 2025 with a clear\, simple social media strategy that feels authentic and effective.The 5-Day Collaboration Challenge is a live\, interactive experience designed to teach entrepreneurs how to grow their audience through education-based content and meaningful collaboration — without selling. \nEach day\, you’ll post with purpose\, engage with others\, and build real momentum toward your business goals. \n\nEvent Details:📅 Dates: May 12–16\, 2025🕒 Time: 11:00 AM CST Daily (Live Zoom Sessions)📍 Location: Live on Zoom (link provided upon registration)💰 Investment: $97 (Ask about event-only discounts!) \n\nWhat You’ll Learn:✅ How to introduce yourself authentically to spark connections✅ How to create value-driven content that builds trust and engagement✅ How to leverage collaboration to expand your reach naturally✅ How to create posts that start real conversations (not just likes)✅ How to showcase your goals and invite aligned partnerships for 2025 \n\nDaily Themes: \n\nDay 1: Tell Your Story — Build trust by sharing who you are and what you stand for.\nDay 2: Teach Something Simple — Share a valuable tip or insight from your expertise.\nDay 3: Showcase a Collaboration — Highlight how working together leads to success.\nDay 4: Ask an Engaging Question — Start a real dialogue with your audience.\nDay 5: Share a 2025 Goal — Inspire collaboration around your vision for the year ahead.\n\n\nWho This Challenge Is Perfect For: \n\nEntrepreneurs who want to build authentic online relationships\nSmall business owners ready to grow their visibility without “selling” constantly\nService providers\, coaches\, and consultants ready to become known for their expertise\n\n\nBonus:Register on or before May 9th and receive FREE access to my exclusive Challenge Prep Kit — a simple checklist and reflection prompts to help you make the most of your 5-day experience! \n\nReady to Grow Through Collaboration? \n#CollaborationNotCompetition #ConnectorKim #OpportunitysKnaaking #CollaborationCreatesCommunity \nRegister HERE
URL:https://pwow.org/event/collaboration-challenge-may-12-to-may-16-2025/
LOCATION:Zoom
CATEGORIES:Business Training/Coaching,Connect,Networking,Workshops
ATTACH;FMTTYPE=image/png:https://pwow.org/wp-content/uploads/2025/04/Collaboration-Challenge.png
ORGANIZER;CN="Kim Knaak":MAILTO:pwowmke@gmail.com
END:VEVENT
BEGIN:VEVENT
DTSTART;TZID=America/Chicago:20250521T113000
DTEND;TZID=America/Chicago:20250521T130000
DTSTAMP:20260423T175642
CREATED:20250425T234530Z
LAST-MODIFIED:20250425T234530Z
UID:4492-1747827000-1747832400@pwow.org
SUMMARY:Professional Women of WI (PWoW) | 3rd Wed | Networking | May 21\, 2025
DESCRIPTION:PWoW’s adding a monthly lunch in-person networking in Lake Country! \nWe will meet at Mad Dog Saloon from 11:30-1pm the 3rd Wednesday monthly. \nOur goal is to offer structured meetings with a diverse group of professional women on a monthly basis. We welcome ALL women that are looking to connect with likeminded individuals who are interested in building relationships that will help them grow personally and professionally. We strongly believe in building relationships\, and truly believe that it’s not a competition but an opportunity to collaborate. \nWe are looking forward to seeing our members and honored guests. Please feel free to invite a friend who you believe will benefit from and be a contribution to this networking group. \n***This is not the only platform we are advertising this event. This is not an accurate count of attendees. *** \n#PWoW #PWoWMKE #Networking #WomenInBusiness #WomensNetworking #SmallBusiness #CollaborationNotCompetition
URL:https://pwow.org/event/professional-women-of-wi-pwow-3rd-wed-networking-may-21-2025/
LOCATION:Mad Dog Saloon\, 220 W. Summit Ave.\, Wales\, WI\, 53183\, United States
CATEGORIES:Connect,Luncheon,Networking,PWOW
ATTACH;FMTTYPE=image/jpeg:https://pwow.org/wp-content/uploads/2025/02/MDSaloon-logo-1-1.jpg
ORGANIZER;CN="Kim Knaak":MAILTO:pwowmke@gmail.com
END:VEVENT
BEGIN:VEVENT
DTSTART;TZID=America/Chicago:20250521T180000
DTEND;TZID=America/Chicago:20250521T200000
DTSTAMP:20260423T175642
CREATED:20250422T133033Z
LAST-MODIFIED:20250422T133033Z
UID:4442-1747850400-1747857600@pwow.org
SUMMARY:Welcome to the Stage Book Release Party
DESCRIPTION:Let’s kick off the launch of my new book with an epic event of our own! \nWelcome to the Stage: The 360° Approach to Hosting Events Like a Pro is available as of May 5th\, 2025! \nWriting a book is no small feat. I had so much support and encouragement from my friends and family along the way\, and I want to make sure that we all celebrate the publication of this book together! \nJoin me\, Sara Deacon\, for some networking\, a few words of gratitude and celebration\, a chance to win some cool prizes and a whole lot of fun! I’ll be selling and signing paperback copies of the book\, so bring your friends\, family and any entrepreneur you know who wants to leverage epic events to grow their business! \nIt’s free. There will be snacks.\nStop by for a few minutes or stay for the duration. \nI can’t wait to party with you!
URL:https://pwow.org/event/welcome-to-the-stage-book-release-party/
LOCATION:The Celebration Center\, 13780 W Greenfield Ave #778\, Brookfield\, WI\, 53005\, United States
CATEGORIES:Book Release,Networking
ATTACH;FMTTYPE=image/png:https://pwow.org/wp-content/uploads/2025/04/Youre-Invited.png
ORGANIZER;CN="Sara Deacon":MAILTO:saradeacon@gmail.com
END:VEVENT
BEGIN:VEVENT
DTSTART;TZID=America/Chicago:20250527T180000
DTEND;TZID=America/Chicago:20250527T200000
DTSTAMP:20260423T175642
CREATED:20250425T235558Z
LAST-MODIFIED:20250425T235558Z
UID:4499-1748368800-1748376000@pwow.org
SUMMARY:Professional Women of WI (PWoW) | 4th Tues | Networking | May 27\, 2025
DESCRIPTION:**NEW location** \nWe will meet at Reunion Restaurant from 6pm-8pm. There is a very large parking lot behind the building available for Reunion patrons! You can enter the building right from the parking lot. \nOur goal is to offer structured meetings with a diverse group of professional women on a monthly basis. We welcome ALL women that are looking to connect with likeminded individuals who are interested in building relationships that will help them grow personally and professionally. We strongly believe in building relationships\, and truly believe that it’s not a competition but an opportunity to collaborate. \nWe are looking for donations for giveaways at the meeting. It’s a great way to share for your product and/or service with the group. A donation does not have to be anything expensive but something you feel someone would enjoy. A few examples of items that were donated in previous meetings: A bottle of wine\, candle\, box of candy\, notepad\, book\, $5.00 gift card to Starbucks\, etc. We have always enjoyed the giveaways at the end of the meeting\, so we are looking forward to carrying on the tradition. \nWe are looking forward to seeing our members and honored guests. Please feel free to invite a friend who you believe will benefit from and be a contribution to this networking group. \n***This is not the only platform we are advertising this event. This is not an accurate count of attendees. *** \n#PWoW #PWoWMKE #Networking #WomenInBusiness #WomensNetworking #SmallBusiness #CollaborationNotCompetition \n  \nReunion
URL:https://pwow.org/event/professional-women-of-wi-pwow-4th-tues-networking-may-27-2025/
LOCATION:Reunion Restaurant\, 6610 W Greenfield Ave\, West Allis\, WI\, 53214\, United States
CATEGORIES:Dinner,Networking,PWOW
ATTACH;FMTTYPE=image/jpeg:https://pwow.org/wp-content/uploads/2025/01/Reunion.jpeg
ORGANIZER;CN="Kim Knaak":MAILTO:pwowmke@gmail.com
END:VEVENT
END:VCALENDAR