BEGIN:VCALENDAR
VERSION:2.0
PRODID:-//Professional Women of Wisconsin - ECPv6.15.20//NONSGML v1.0//EN
CALSCALE:GREGORIAN
METHOD:PUBLISH
X-WR-CALNAME:Professional Women of Wisconsin
X-ORIGINAL-URL:https://pwow.org
X-WR-CALDESC:Events for Professional Women of Wisconsin
REFRESH-INTERVAL;VALUE=DURATION:PT1H
X-Robots-Tag:noindex
X-PUBLISHED-TTL:PT1H
BEGIN:VTIMEZONE
TZID:UTC
BEGIN:STANDARD
TZOFFSETFROM:+0000
TZOFFSETTO:+0000
TZNAME:UTC
DTSTART:20240101T000000
END:STANDARD
END:VTIMEZONE
BEGIN:VTIMEZONE
TZID:America/Chicago
BEGIN:DAYLIGHT
TZOFFSETFROM:-0600
TZOFFSETTO:-0500
TZNAME:CDT
DTSTART:20240310T080000
END:DAYLIGHT
BEGIN:STANDARD
TZOFFSETFROM:-0500
TZOFFSETTO:-0600
TZNAME:CST
DTSTART:20241103T070000
END:STANDARD
BEGIN:DAYLIGHT
TZOFFSETFROM:-0600
TZOFFSETTO:-0500
TZNAME:CDT
DTSTART:20250309T080000
END:DAYLIGHT
BEGIN:STANDARD
TZOFFSETFROM:-0500
TZOFFSETTO:-0600
TZNAME:CST
DTSTART:20251102T070000
END:STANDARD
BEGIN:DAYLIGHT
TZOFFSETFROM:-0600
TZOFFSETTO:-0500
TZNAME:CDT
DTSTART:20260308T080000
END:DAYLIGHT
BEGIN:STANDARD
TZOFFSETFROM:-0500
TZOFFSETTO:-0600
TZNAME:CST
DTSTART:20261101T070000
END:STANDARD
END:VTIMEZONE
BEGIN:VEVENT
DTSTART;TZID=UTC:20250410T113000
DTEND;TZID=UTC:20250410T130000
DTSTAMP:20260423T193404
CREATED:20250319T144657Z
LAST-MODIFIED:20250319T144657Z
UID:3991-1744284600-1744290000@pwow.org
SUMMARY:Professional Women of WI (PWoW) | 2nd Thurs | Networking | Apr 10\, 2025
DESCRIPTION:PWoW’s monthly lunch in-person networking! \nWe will meet at New Berlin Ale House from 11:30-1pm the 2nd Thursday monthly. USE THE WEST ENTRANCE \nOur goal is to offer structured meetings with a diverse group of professional women on a monthly basis. We welcome ALL women that are looking to connect with likeminded individuals who are interested in building relationships that will help them grow personally and professionally. We strongly believe in building relationships\, and truly believe that it’s not a competition but an opportunity to collaborate. \nWe are looking forward to seeing our members and honored guests. Please feel free to invite a friend who you believe will benefit from and be a contribution to this networking group. \n***This is not the only platform we are advertising this event. This is not an accurate count of attendees. *** \n#PWoW #PWoWMKE #Networking #WomenInBusiness #WomensNetworking #SmallBusiness #CollaborationNotCompetition
URL:https://pwow.org/event/professional-women-of-wi-pwow-2nd-thurs-networking-apr-10-2025/
LOCATION:New Berlin Ale House\, 16000 W Cleveland Ave\, New Berlin\, WI\, 53151\, United States
CATEGORIES:Luncheon,Networking,PWOW
ATTACH;FMTTYPE=image/png:https://pwow.org/wp-content/uploads/2024/01/New-Berlin-Ale-House.png
ORGANIZER;CN="Kim Knaak":MAILTO:pwowmke@gmail.com
END:VEVENT
BEGIN:VEVENT
DTSTART;TZID=America/Chicago:20250414T110000
DTEND;TZID=America/Chicago:20250414T123000
DTSTAMP:20260423T193404
CREATED:20250329T165315Z
LAST-MODIFIED:20250329T165315Z
UID:4171-1744628400-1744633800@pwow.org
SUMMARY:Ideal Client Roadmap Masterclass | 2-Day Free Business Training | April 14-15
DESCRIPTION:👉 Register Now\nStop Wasting Time & Start Getting in Front of the Right People\nIf you’re spending hours networking\, posting on social media\, or showing up to events—and still not attracting the right clients—this free 2-day Ideal Client Roadmap Masterclass is exactly what you need. \nMost business owners aren’t struggling because they don’t work hard—they’re struggling because they’re speaking to the wrong audience. In this interactive event\, you’ll finally learn how to define your ideal client\, show up in the right places\, and connect in a way that builds trust (not pressure). \nDefine\, Engage & Grow with the Right People\nUpcoming Session:\n📅 April 14 & 15\, 2025 @ 11:00 AM CST\n🕒 Each session is 1.5 hours\n📍 Location: Zoom (link provided after registration)\n💸 Cost: FREE \n\n\n\nWhat to Expect:\nDay 1: Define Your Ideal Client\nWe’ll work through the Ideal Client Worksheet together so you walk away with a crystal-clear understanding of who you serve\, what they need\, and how to speak their language. \n✔ Identify your dream client and what drives them\n✔ Understand their challenges\, goals\, and buying triggers\n✔ Clarify your message and marketing focus \nDay 2: Engage & Market Without Selling\nLearn how to build real connections\, educate instead of pitch\, and show up in the right places with the right message. \n✔ Where your ideal clients are already engaging\n✔ How to educate them into action\n✔ Strategies for consistent engagement without overwhelm \n\n\n\n🎁 Bonus for Live Attendees:\nParticipants who attend both days of their registered session live will receive: \n✔ Day 1 Attendance: “Ideal Client Roadmap” PDF\n✔ Day 2 Attendance: “Connecting to Your Ideal Client” PDF + “Engage Your Ideal Client” PDF \n\n\n\n💬 Why This Isn’t Just Another Free Training:\nYou won’t just get inspiration—you’ll leave with a roadmap\, real-time feedback\, and strategies you can implement immediately to make networking\, marketing\, and content creation more effective and aligned. \n👉 Register Now
URL:https://pwow.org/event/ideal-client-roadmap-masterclass-2-day-free-business-training-april-14-15/
LOCATION:Zoom
CATEGORIES:Business Training/Coaching,Connect,Networking,Workshops
ATTACH;FMTTYPE=image/png:https://pwow.org/wp-content/uploads/2024/10/Kim-Knaak-Opportunitys-Knaaking-2500-x-685-px.png
ORGANIZER;CN="Kim Knaak":MAILTO:pwowmke@gmail.com
END:VEVENT
BEGIN:VEVENT
DTSTART;TZID=America/Chicago:20250414T110000
DTEND;TZID=America/Chicago:20250414T123000
DTSTAMP:20260423T193404
CREATED:20250329T165315Z
LAST-MODIFIED:20250329T165315Z
UID:4171-1744628400-1744633800@pwow.org
SUMMARY:Ideal Client Roadmap Masterclass | 2-Day Free Business Training | April 14-15
DESCRIPTION:👉 Register Now\nStop Wasting Time & Start Getting in Front of the Right People\nIf you’re spending hours networking\, posting on social media\, or showing up to events—and still not attracting the right clients—this free 2-day Ideal Client Roadmap Masterclass is exactly what you need. \nMost business owners aren’t struggling because they don’t work hard—they’re struggling because they’re speaking to the wrong audience. In this interactive event\, you’ll finally learn how to define your ideal client\, show up in the right places\, and connect in a way that builds trust (not pressure). \nDefine\, Engage & Grow with the Right People\nUpcoming Session:\n📅 April 14 & 15\, 2025 @ 11:00 AM CST\n🕒 Each session is 1.5 hours\n📍 Location: Zoom (link provided after registration)\n💸 Cost: FREE \n\n\n\nWhat to Expect:\nDay 1: Define Your Ideal Client\nWe’ll work through the Ideal Client Worksheet together so you walk away with a crystal-clear understanding of who you serve\, what they need\, and how to speak their language. \n✔ Identify your dream client and what drives them\n✔ Understand their challenges\, goals\, and buying triggers\n✔ Clarify your message and marketing focus \nDay 2: Engage & Market Without Selling\nLearn how to build real connections\, educate instead of pitch\, and show up in the right places with the right message. \n✔ Where your ideal clients are already engaging\n✔ How to educate them into action\n✔ Strategies for consistent engagement without overwhelm \n\n\n\n🎁 Bonus for Live Attendees:\nParticipants who attend both days of their registered session live will receive: \n✔ Day 1 Attendance: “Ideal Client Roadmap” PDF\n✔ Day 2 Attendance: “Connecting to Your Ideal Client” PDF + “Engage Your Ideal Client” PDF \n\n\n\n💬 Why This Isn’t Just Another Free Training:\nYou won’t just get inspiration—you’ll leave with a roadmap\, real-time feedback\, and strategies you can implement immediately to make networking\, marketing\, and content creation more effective and aligned. \n👉 Register Now
URL:https://pwow.org/event/ideal-client-roadmap-masterclass-2-day-free-business-training-april-14-15/
LOCATION:Zoom
CATEGORIES:Business Training/Coaching,Connect,Networking,Workshops
ATTACH;FMTTYPE=image/png:https://pwow.org/wp-content/uploads/2024/10/Kim-Knaak-Opportunitys-Knaaking-2500-x-685-px.png
ORGANIZER;CN="Kim Knaak":MAILTO:pwowmke@gmail.com
END:VEVENT
BEGIN:VEVENT
DTSTART;TZID=America/Chicago:20250416T113000
DTEND;TZID=America/Chicago:20250416T130000
DTSTAMP:20260423T193404
CREATED:20250319T144504Z
LAST-MODIFIED:20250319T144504Z
UID:3994-1744803000-1744808400@pwow.org
SUMMARY:Professional Women of WI (PWoW) | 3rd Wed | Networking | Apr 16\, 2025
DESCRIPTION:PWoW’s adding a monthly lunch in-person networking in Lake Country! \nWe will meet at Mad Dog Saloon from 11:30-1pm the 3rd Wednesday monthly. \nOur goal is to offer structured meetings with a diverse group of professional women on a monthly basis. We welcome ALL women that are looking to connect with likeminded individuals who are interested in building relationships that will help them grow personally and professionally. We strongly believe in building relationships\, and truly believe that it’s not a competition but an opportunity to collaborate. \nWe are looking forward to seeing our members and honored guests. Please feel free to invite a friend who you believe will benefit from and be a contribution to this networking group. \n***This is not the only platform we are advertising this event. This is not an accurate count of attendees. *** \n#PWoW #PWoWMKE #Networking #WomenInBusiness #WomensNetworking #SmallBusiness #CollaborationNotCompetition
URL:https://pwow.org/event/professional-women-of-wi-pwow-3rd-wed-networking-apr-16-2025/
LOCATION:Mad Dog Saloon\, 220 W. Summit Ave.\, Wales\, WI\, 53183\, United States
CATEGORIES:Connect,Luncheon,Networking,PWOW
ATTACH;FMTTYPE=image/jpeg:https://pwow.org/wp-content/uploads/2025/02/MDSaloon-logo-1-1.jpg
ORGANIZER;CN="Kim Knaak":MAILTO:pwowmke@gmail.com
END:VEVENT
BEGIN:VEVENT
DTSTART;TZID=America/Chicago:20250422T180000
DTEND;TZID=America/Chicago:20250422T200000
DTSTAMP:20260423T193404
CREATED:20250319T144312Z
LAST-MODIFIED:20250319T144312Z
UID:3997-1745344800-1745352000@pwow.org
SUMMARY:Professional Women of WI (PWoW) | 4th Tues | Networking | Apr 22\, 2025
DESCRIPTION:**NEW location** \nWe will meet at Reunion Restaurant from 6pm-8pm. There is a very large parking lot behind the building available for Reunion patrons! You can enter the building right from the parking lot. \nOur goal is to offer structured meetings with a diverse group of professional women on a monthly basis. We welcome ALL women that are looking to connect with likeminded individuals who are interested in building relationships that will help them grow personally and professionally. We strongly believe in building relationships\, and truly believe that it’s not a competition but an opportunity to collaborate. \nWe are looking for donations for giveaways at the meeting. It’s a great way to share for your product and/or service with the group. A donation does not have to be anything expensive but something you feel someone would enjoy. A few examples of items that were donated in previous meetings: A bottle of wine\, candle\, box of candy\, notepad\, book\, $5.00 gift card to Starbucks\, etc. We have always enjoyed the giveaways at the end of the meeting\, so we are looking forward to carrying on the tradition. \nWe are looking forward to seeing our members and honored guests. Please feel free to invite a friend who you believe will benefit from and be a contribution to this networking group. \n***This is not the only platform we are advertising this event. This is not an accurate count of attendees. *** \n#PWoW #PWoWMKE #Networking #WomenInBusiness #WomensNetworking #SmallBusiness #CollaborationNotCompetition \n  \nReunion
URL:https://pwow.org/event/professional-women-of-wi-pwow-4th-tues-networking-apr-22-2025/
LOCATION:Reunion Restaurant\, 6610 W Greenfield Ave\, West Allis\, WI\, 53214\, United States
CATEGORIES:Dinner,Networking,PWOW
ATTACH;FMTTYPE=image/jpeg:https://pwow.org/wp-content/uploads/2025/01/Reunion.jpeg
ORGANIZER;CN="Kim Knaak":MAILTO:pwowmke@gmail.com
END:VEVENT
BEGIN:VEVENT
DTSTART;TZID=America/Chicago:20250428T110000
DTEND;TZID=America/Chicago:20250428T123000
DTSTAMP:20260423T193404
CREATED:20250329T165735Z
LAST-MODIFIED:20250329T165735Z
UID:4174-1745838000-1745843400@pwow.org
SUMMARY:Ideal Client Roadmap Masterclass | 2-Day Free Business Training | April 28-29
DESCRIPTION:👉 Register Now\nStop Wasting Time & Start Getting in Front of the Right People\nIf you’re spending hours networking\, posting on social media\, or showing up to events—and still not attracting the right clients—this free 2-day Ideal Client Roadmap Masterclass is exactly what you need. \nMost business owners aren’t struggling because they don’t work hard—they’re struggling because they’re speaking to the wrong audience. In this interactive event\, you’ll finally learn how to define your ideal client\, show up in the right places\, and connect in a way that builds trust (not pressure). \nDefine\, Engage & Grow with the Right People\nUpcoming Session:\n📅 April 28 & 29\, 2025 @ 11:00 AM CST\n🕒 Each session is 1.5 hours\n📍 Location: Zoom (link provided after registration)\n💸 Cost: FREE \n\n\n\nWhat to Expect:\nDay 1: Define Your Ideal Client\nWe’ll work through the Ideal Client Worksheet together so you walk away with a crystal-clear understanding of who you serve\, what they need\, and how to speak their language. \n✔ Identify your dream client and what drives them\n✔ Understand their challenges\, goals\, and buying triggers\n✔ Clarify your message and marketing focus \nDay 2: Engage & Market Without Selling\nLearn how to build real connections\, educate instead of pitch\, and show up in the right places with the right message. \n✔ Where your ideal clients are already engaging\n✔ How to educate them into action\n✔ Strategies for consistent engagement without overwhelm \n\n\n\n🎁 Bonus for Live Attendees:\nParticipants who attend both days of their registered session live will receive: \n✔ Day 1 Attendance: “Ideal Client Roadmap” PDF\n✔ Day 2 Attendance: “Connecting to Your Ideal Client” PDF + “Engage Your Ideal Client” PDF \n\n\n\n💬 Why This Isn’t Just Another Free Training:\nYou won’t just get inspiration—you’ll leave with a roadmap\, real-time feedback\, and strategies you can implement immediately to make networking\, marketing\, and content creation more effective and aligned. \n👉 Register Now
URL:https://pwow.org/event/ideal-client-roadmap-masterclass-2-day-free-business-training-april-28-29/
LOCATION:Zoom
CATEGORIES:Business Training/Coaching,Connect,Networking,Workshops
ATTACH;FMTTYPE=image/png:https://pwow.org/wp-content/uploads/2024/10/Kim-Knaak-Opportunitys-Knaaking-2500-x-685-px.png
ORGANIZER;CN="Kim Knaak":MAILTO:pwowmke@gmail.com
END:VEVENT
BEGIN:VEVENT
DTSTART;TZID=America/Chicago:20250428T110000
DTEND;TZID=America/Chicago:20250428T123000
DTSTAMP:20260423T193404
CREATED:20250329T165735Z
LAST-MODIFIED:20250329T165735Z
UID:4174-1745838000-1745843400@pwow.org
SUMMARY:Ideal Client Roadmap Masterclass | 2-Day Free Business Training | April 28-29
DESCRIPTION:👉 Register Now\nStop Wasting Time & Start Getting in Front of the Right People\nIf you’re spending hours networking\, posting on social media\, or showing up to events—and still not attracting the right clients—this free 2-day Ideal Client Roadmap Masterclass is exactly what you need. \nMost business owners aren’t struggling because they don’t work hard—they’re struggling because they’re speaking to the wrong audience. In this interactive event\, you’ll finally learn how to define your ideal client\, show up in the right places\, and connect in a way that builds trust (not pressure). \nDefine\, Engage & Grow with the Right People\nUpcoming Session:\n📅 April 28 & 29\, 2025 @ 11:00 AM CST\n🕒 Each session is 1.5 hours\n📍 Location: Zoom (link provided after registration)\n💸 Cost: FREE \n\n\n\nWhat to Expect:\nDay 1: Define Your Ideal Client\nWe’ll work through the Ideal Client Worksheet together so you walk away with a crystal-clear understanding of who you serve\, what they need\, and how to speak their language. \n✔ Identify your dream client and what drives them\n✔ Understand their challenges\, goals\, and buying triggers\n✔ Clarify your message and marketing focus \nDay 2: Engage & Market Without Selling\nLearn how to build real connections\, educate instead of pitch\, and show up in the right places with the right message. \n✔ Where your ideal clients are already engaging\n✔ How to educate them into action\n✔ Strategies for consistent engagement without overwhelm \n\n\n\n🎁 Bonus for Live Attendees:\nParticipants who attend both days of their registered session live will receive: \n✔ Day 1 Attendance: “Ideal Client Roadmap” PDF\n✔ Day 2 Attendance: “Connecting to Your Ideal Client” PDF + “Engage Your Ideal Client” PDF \n\n\n\n💬 Why This Isn’t Just Another Free Training:\nYou won’t just get inspiration—you’ll leave with a roadmap\, real-time feedback\, and strategies you can implement immediately to make networking\, marketing\, and content creation more effective and aligned. \n👉 Register Now
URL:https://pwow.org/event/ideal-client-roadmap-masterclass-2-day-free-business-training-april-28-29/
LOCATION:Zoom
CATEGORIES:Business Training/Coaching,Connect,Networking,Workshops
ATTACH;FMTTYPE=image/png:https://pwow.org/wp-content/uploads/2024/10/Kim-Knaak-Opportunitys-Knaaking-2500-x-685-px.png
ORGANIZER;CN="Kim Knaak":MAILTO:pwowmke@gmail.com
END:VEVENT
END:VCALENDAR