BEGIN:VCALENDAR
VERSION:2.0
PRODID:-//Professional Women of Wisconsin - ECPv6.15.20//NONSGML v1.0//EN
CALSCALE:GREGORIAN
METHOD:PUBLISH
X-WR-CALNAME:Professional Women of Wisconsin
X-ORIGINAL-URL:https://pwow.org
X-WR-CALDESC:Events for Professional Women of Wisconsin
REFRESH-INTERVAL;VALUE=DURATION:PT1H
X-Robots-Tag:noindex
X-PUBLISHED-TTL:PT1H
BEGIN:VTIMEZONE
TZID:America/Chicago
BEGIN:DAYLIGHT
TZOFFSETFROM:-0600
TZOFFSETTO:-0500
TZNAME:CDT
DTSTART:20230312T080000
END:DAYLIGHT
BEGIN:STANDARD
TZOFFSETFROM:-0500
TZOFFSETTO:-0600
TZNAME:CST
DTSTART:20231105T070000
END:STANDARD
BEGIN:DAYLIGHT
TZOFFSETFROM:-0600
TZOFFSETTO:-0500
TZNAME:CDT
DTSTART:20240310T080000
END:DAYLIGHT
BEGIN:STANDARD
TZOFFSETFROM:-0500
TZOFFSETTO:-0600
TZNAME:CST
DTSTART:20241103T070000
END:STANDARD
BEGIN:DAYLIGHT
TZOFFSETFROM:-0600
TZOFFSETTO:-0500
TZNAME:CDT
DTSTART:20250309T080000
END:DAYLIGHT
BEGIN:STANDARD
TZOFFSETFROM:-0500
TZOFFSETTO:-0600
TZNAME:CST
DTSTART:20251102T070000
END:STANDARD
END:VTIMEZONE
BEGIN:VTIMEZONE
TZID:UTC
BEGIN:STANDARD
TZOFFSETFROM:+0000
TZOFFSETTO:+0000
TZNAME:UTC
DTSTART:20230101T000000
END:STANDARD
END:VTIMEZONE
BEGIN:VEVENT
DTSTART;TZID=America/Chicago:20241206T100000
DTEND;TZID=America/Chicago:20241206T113000
DTSTAMP:20260424T051849
CREATED:20241203T222707Z
LAST-MODIFIED:20241205T191616Z
UID:2757-1733479200-1733484600@pwow.org
SUMMARY:Find Your Ideal Client & Network Smarter Masterclass | Dec 6th
DESCRIPTION:👉 Register Now\n🎯 Find Your Ideal Client & Network Smarter\n📅 Date: Friday\, December 6\, 2024\n⏰ Time: 10:00 AM – 11:30 AM CST\n📍 Location: Online (Zoom link provided upon registration)\n💸 Cost: FREE \n\nIs This You?\n\nAre you spending time networking in all the wrong places?\nStruggling to connect with the people who truly need your services?\n\nMany business owners waste valuable time\, money\, and energy marketing to the wrong audiences. If this sounds familiar\, this masterclass is your solution! \n\n✨ What You’ll Learn:\n\n👤 Define your ideal client: Gain clarity on who you serve and what they need from you.\n📍 Find where they are: Learn how to show up in the right spaces to meet your audience.\n🛠️ Present your solution: Effectively communicate how you solve their problems.\n📝 Ideal Client Worksheet: Work through this tool live to create your actionable plan.\n\n\n🙋 Who Should Attend?\nThis session is perfect for small business owners and entrepreneurs who want to: \n\nBuild connections that lead to clients and collaborators.\nStop wasting time with the wrong people.\nStrategically market their services to solve real problems.\n\n\n🌟 Why Attend?\nNetworking smarter means working less but achieving more. By attending this masterclass\, you’ll gain the tools to: \n\nUnderstand who your ideal client is.\nFind where they already spend their time.\nClearly present your value in a way that resonates.\n\nPlus\, you’ll learn about my 🎄 Holiday Collaboration Challenge—a 5-day program to turn these strategies into action during the holiday season! \n\n📚 Bonus Prep\nCheck out these blogs to get inspired before the event: \n\n\n\nNetworking in the Right Places\n\nHow to Master the 1-1 Follow-Up \n\n\n\n\n  \n\n📌 Reserve Your Spot Now!\nSpace is limited for this FREE event. Don’t miss this opportunity to revolutionize your networking strategy and start connecting with the right people! \n👉 Register Now
URL:https://pwow.org/event/find-your-ideal-client-network-smarter-masterclass-dec-6th/
LOCATION:Zoom
CATEGORIES:Business Training/Coaching,Networking,Special Event,Workshops
ATTACH;FMTTYPE=image/png:https://pwow.org/wp-content/uploads/2024/10/Kim-Knaak-Opportunitys-Knaaking-2500-x-685-px.png
ORGANIZER;CN="Kim Knaak":MAILTO:pwowmke@gmail.com
END:VEVENT
BEGIN:VEVENT
DTSTART;TZID=UTC:20241212T113000
DTEND;TZID=UTC:20241212T130000
DTSTAMP:20260424T051849
CREATED:20241203T223700Z
LAST-MODIFIED:20241203T223700Z
UID:2764-1734003000-1734008400@pwow.org
SUMMARY:Professional Women of WI (PWoW) | 2nd Thurs | Networking | Dec 12\, 2024
DESCRIPTION:PWoW’s monthly lunch in-person networking! \nWe will meet at New Berlin Ale House from 11:30-1pm the 2nd Thursday monthly. USE THE WEST ENTRANCE \nOur goal is to offer structured meetings with a diverse group of professional women on a monthly basis. We welcome ALL women that are looking to connect with likeminded individuals who are interested in building relationships that will help them grow personally and professionally. We strongly believe in building relationships\, and truly believe that it’s not a competition but an opportunity to collaborate. \nWe are looking forward to seeing our members and honored guests. Please feel free to invite a friend who you believe will benefit from and be a contribution to this networking group. \n***This is not the only platform we are advertising this event. This is not an accurate count of attendees. *** \n#PWoW #PWoWMKE #Networking #WomenInBusiness #WomensNetworking #SmallBusiness #CollaborationNotCompetition
URL:https://pwow.org/event/professional-women-of-wi-pwow-2nd-thurs-networking-dec-12-2024/
LOCATION:New Berlin Ale House\, 16000 W Cleveland Ave\, New Berlin\, WI\, 53151\, United States
CATEGORIES:Luncheon,Networking,PWOW
ATTACH;FMTTYPE=image/png:https://pwow.org/wp-content/uploads/2024/01/New-Berlin-Ale-House.png
ORGANIZER;CN="Kim Knaak":MAILTO:pwowmke@gmail.com
END:VEVENT
BEGIN:VEVENT
DTSTART;TZID=America/Chicago:20241218T180000
DTEND;TZID=America/Chicago:20241218T200000
DTSTAMP:20260424T051849
CREATED:20241203T162543Z
LAST-MODIFIED:20241203T162543Z
UID:2700-1734544800-1734552000@pwow.org
SUMMARY:Professional Women of WI (PWoW) | Holiday Networking | December 18\, 2024
DESCRIPTION:Registration Required for Reservation\nA non-refundable $5 registration fee is required to secure your spot. The collected funds will be put towards a few appetizers. The event will run from 6pm-8pm – please be timely so the restaurant can accommodate our group meal orders. \n**Join us for our Holiday Event at Route 41 Bar & Grill** \nPWoW’s annual holiday dinner. It’s a great time for all of us to get together for dinner and drinks to celebrate another year of networking and building relationships. We will continue our tradition of a secret gift exchange. This event is focused on socializing and continuing to foster the relationships we’ve been building across our meetings throughout the year. If you haven’t attended an event in the past\, you are still welcome to join us! \nNetworking – Gift Exchange – Dinner – Coctails – Connections \nBring a wrapped gift valued $20 to join our Secret Gift Exchange at the event. Please make sure all gifts are new\, in the original package and wrapped. Let’s add excitement with surprises and make the celebration memorable for all attendees! \nAll attendees are asked to make a purchase to support the restaurant! \nRoute 41 Bar & Grill\n8900 S. 27th St.\nOak Creek\, WI 53154 \n\nAbout PWoW \nOur goal is to offer structured meetings with a diverse group of professional women on a monthly basis. We welcome ALL women that are looking to connect with likeminded individuals who are interested in building relationships that will help them grow personally and professionally. We strongly believe in building relationships\, and truly believe that it’s not a competition but an opportunity to collaborate. \nWe are looking forward to seeing our members and honored guests. Please feel free to register a friend who you believe will benefit from and be a contribution to this networking group. \n  \n***This is not the only platform we are advertising this event. This is not an accurate count of attendees. *** \n#PWoW #PWoWMKE #Networking #WomenInBusiness #WomensNetworking #SmallBusiness #CollaborationNotCompetition
URL:https://pwow.org/event/professional-women-of-wi-pwow-holiday-networking-december-18-2024/
LOCATION:Route 41 Bar & Grill\, 8900 S. 27th St.\, Oak Creek\, 53154\, United States
CATEGORIES:Connect,Dinner,Holiday,Networking,PWOW,Special Event
ATTACH;FMTTYPE=image/jpeg:https://pwow.org/wp-content/uploads/2024/12/WhatsApp-Image-2024-01-16-at-13.11.04_7c8d9747.jpg
ORGANIZER;CN="Kim Knaak":MAILTO:pwowmke@gmail.com
END:VEVENT
END:VCALENDAR