BEGIN:VCALENDAR
VERSION:2.0
PRODID:-//Professional Women of Wisconsin - ECPv6.15.20//NONSGML v1.0//EN
CALSCALE:GREGORIAN
METHOD:PUBLISH
X-ORIGINAL-URL:https://pwow.org
X-WR-CALDESC:Events for Professional Women of Wisconsin
REFRESH-INTERVAL;VALUE=DURATION:PT1H
X-Robots-Tag:noindex
X-PUBLISHED-TTL:PT1H
BEGIN:VTIMEZONE
TZID:UTC
BEGIN:STANDARD
TZOFFSETFROM:+0000
TZOFFSETTO:+0000
TZNAME:UTC
DTSTART:20230101T000000
END:STANDARD
END:VTIMEZONE
BEGIN:VTIMEZONE
TZID:America/Chicago
BEGIN:DAYLIGHT
TZOFFSETFROM:-0600
TZOFFSETTO:-0500
TZNAME:CDT
DTSTART:20230312T080000
END:DAYLIGHT
BEGIN:STANDARD
TZOFFSETFROM:-0500
TZOFFSETTO:-0600
TZNAME:CST
DTSTART:20231105T070000
END:STANDARD
BEGIN:DAYLIGHT
TZOFFSETFROM:-0600
TZOFFSETTO:-0500
TZNAME:CDT
DTSTART:20240310T080000
END:DAYLIGHT
BEGIN:STANDARD
TZOFFSETFROM:-0500
TZOFFSETTO:-0600
TZNAME:CST
DTSTART:20241103T070000
END:STANDARD
BEGIN:DAYLIGHT
TZOFFSETFROM:-0600
TZOFFSETTO:-0500
TZNAME:CDT
DTSTART:20250309T080000
END:DAYLIGHT
BEGIN:STANDARD
TZOFFSETFROM:-0500
TZOFFSETTO:-0600
TZNAME:CST
DTSTART:20251102T070000
END:STANDARD
END:VTIMEZONE
BEGIN:VEVENT
DTSTART;TZID=UTC:20241010T113000
DTEND;TZID=UTC:20241010T130000
DTSTAMP:20260424T090718
CREATED:20240921T122735Z
LAST-MODIFIED:20240921T122735Z
UID:2311-1728559800-1728565200@pwow.org
SUMMARY:Professional Women of WI (PWoW) | 2nd Thurs | Networking | Oct 10\, 2024
DESCRIPTION:PWoW’s monthly lunch in-person networking! \nWe will meet at New Berlin Ale House from 11:30-1pm the 2nd Thursday monthly. USE THE WEST ENTRANCE \nOur goal is to offer structured meetings with a diverse group of professional women on a monthly basis. We welcome ALL women that are looking to connect with likeminded individuals who are interested in building relationships that will help them grow personally and professionally. We strongly believe in building relationships\, and truly believe that it’s not a competition but an opportunity to collaborate. \nWe are looking forward to seeing our members and honored guests. Please feel free to invite a friend who you believe will benefit from and be a contribution to this networking group. \n***This is not the only platform we are advertising this event. This is not an accurate count of attendees. *** \n#PWoW #PWoWMKE #Networking #WomenInBusiness #WomensNetworking #SmallBusiness #CollaborationNotCompetition
URL:https://pwow.org/event/professional-women-of-wi-pwow-2nd-thurs-networking-oct-10-2024/
LOCATION:New Berlin Ale House\, 16000 W Cleveland Ave\, New Berlin\, WI\, 53151\, United States
CATEGORIES:Luncheon,Networking,PWOW
ATTACH;FMTTYPE=image/png:https://pwow.org/wp-content/uploads/2024/01/New-Berlin-Ale-House.png
ORGANIZER;CN="Kim Knaak":MAILTO:pwowmke@gmail.com
END:VEVENT
BEGIN:VEVENT
DTSTART;TZID=America/Chicago:20241022T180000
DTEND;TZID=America/Chicago:20241022T200000
DTSTAMP:20260424T090718
CREATED:20240930T191349Z
LAST-MODIFIED:20240930T191349Z
UID:2358-1729620000-1729627200@pwow.org
SUMMARY:Professional Women of WI (PWoW) | 4th Tues | Networking | Oct 22\, 2024
DESCRIPTION:**We will have full menu available for all – please bring cash to pay for your meal & drinks** \nOur goal is to offer structured meetings with a diverse group of professional women on a monthly basis. We welcome ALL women that are looking to connect with likeminded individuals who are interested in building relationships that will help them grow personally and professionally. We strongly believe in building relationships\, and truly believe that it’s not a competition but an opportunity to collaborate. \nWe are looking for donations for giveaways at the meeting. It’s a great way to share for your product and/or service with the group. A donation does not have to be anything expensive but something you feel someone would enjoy. A few examples of items that were donated in previous meetings: A bottle of wine\, candle\, box of candy\, notepad\, book\, $5.00 gift card to Starbucks\, etc. We have always enjoyed the giveaways at the end of the meeting\, so we are looking forward to carrying on the tradition. \nWe are looking forward to seeing our members and honored guests. Please feel free to invite a friend who you believe will benefit from and be a contribution to this networking group. \n***This is not the only platform we are advertising this event. This is not an accurate count of attendees. *** \n#PWoW #PWoWMKE #Networking #WomenInBusiness #WomensNetworking #SmallBusiness #CollaborationNotCompetition
URL:https://pwow.org/event/professional-women-of-wi-pwow-4th-tues-networking-oct-22-2024/
LOCATION:Los Mariachis Mexican Restaurant\, 4305 W Layton Ave.\, Greenfield\, WI\, 53220\, United States
CATEGORIES:Dinner,Networking,PWOW
ATTACH;FMTTYPE=image/png:https://pwow.org/wp-content/uploads/2024/01/Los-Mariachis.png
ORGANIZER;CN="Kim Knaak":MAILTO:pwowmke@gmail.com
END:VEVENT
BEGIN:VEVENT
DTSTART;TZID=America/Chicago:20241030T120000
DTEND;TZID=America/Chicago:20241030T130000
DTSTAMP:20260424T090718
CREATED:20241022T220157Z
LAST-MODIFIED:20241022T220157Z
UID:2458-1730289600-1730293200@pwow.org
SUMMARY:Stop Networking in the Wrong Places! Masterclass on October 30th
DESCRIPTION:Are you spending time networking in all the wrong places? 😕\nOr maybe your sales pitches are coming off too pushy\, turning people away instead of drawing them in? \nThis free masterclass is for you! \nJoin me on October 30th at 12pm CST to learn how to: \n\nIdentify your ideal client or collaborator so you’re not wasting time on people who aren’t a fit.\nFind out where they’re spending their time and adjust your efforts to meet them there.\nCraft a simple\, compelling sentence that communicates your business goals without being pushy.\n\nStop wasting time on dead-end connections and start networking where it matters! \n\nEvent Details:\n📅 Date: October 30th\, 2024\n⏰ Time: 12:00 PM CST\n💻 Location: Online (Link will be sent after registration)\n💸 Cost: FREE \n\nCall to Action:\n👉 Sign up now to secure your spot in this game-changing masterclass! Spaces are limited\, so don’t miss out.
URL:https://pwow.org/event/stop-networking-in-the-wrong-places-masterclass-on-october-30th/
LOCATION:Zoom
CATEGORIES:Business Training/Coaching,PWOW,Workshops
ATTACH;FMTTYPE=image/png:https://pwow.org/wp-content/uploads/2024/10/Kim-Knaak-Opportunitys-Knaaking-2500-x-685-px.png
ORGANIZER;CN="Kim Knaak":MAILTO:pwowmke@gmail.com
END:VEVENT
END:VCALENDAR