BEGIN:VCALENDAR
VERSION:2.0
PRODID:-//Professional Women of Wisconsin - ECPv6.15.20//NONSGML v1.0//EN
CALSCALE:GREGORIAN
METHOD:PUBLISH
X-ORIGINAL-URL:https://pwow.org
X-WR-CALDESC:Events for Professional Women of Wisconsin
REFRESH-INTERVAL;VALUE=DURATION:PT1H
X-Robots-Tag:noindex
X-PUBLISHED-TTL:PT1H
BEGIN:VTIMEZONE
TZID:America/Chicago
BEGIN:DAYLIGHT
TZOFFSETFROM:-0600
TZOFFSETTO:-0500
TZNAME:CDT
DTSTART:20230312T080000
END:DAYLIGHT
BEGIN:STANDARD
TZOFFSETFROM:-0500
TZOFFSETTO:-0600
TZNAME:CST
DTSTART:20231105T070000
END:STANDARD
BEGIN:DAYLIGHT
TZOFFSETFROM:-0600
TZOFFSETTO:-0500
TZNAME:CDT
DTSTART:20240310T080000
END:DAYLIGHT
BEGIN:STANDARD
TZOFFSETFROM:-0500
TZOFFSETTO:-0600
TZNAME:CST
DTSTART:20241103T070000
END:STANDARD
BEGIN:DAYLIGHT
TZOFFSETFROM:-0600
TZOFFSETTO:-0500
TZNAME:CDT
DTSTART:20250309T080000
END:DAYLIGHT
BEGIN:STANDARD
TZOFFSETFROM:-0500
TZOFFSETTO:-0600
TZNAME:CST
DTSTART:20251102T070000
END:STANDARD
END:VTIMEZONE
BEGIN:VEVENT
DTSTART;TZID=America/Chicago:20241115T090000
DTEND;TZID=America/Chicago:20241115T100000
DTSTAMP:20260425T083405
CREATED:20241114T160300Z
LAST-MODIFIED:20241114T160300Z
UID:2629-1731661200-1731664800@pwow.org
SUMMARY:Stop Networking in the Wrong Places! Masterclass | Nov 15th
DESCRIPTION:Are you spending time networking in all the wrong places? 😕\nOr maybe your sales pitches are coming off too pushy\, turning people away instead of drawing them in? \nThis free masterclass is for you! \nJoin me on November 15th at 9am CST to learn how to: \n\nIdentify your ideal client or collaborator so you’re not wasting time on people who aren’t a fit.\nFind out where they’re spending their time and adjust your efforts to meet them there.\nCraft a simple\, compelling sentence that communicates your business goals without being pushy.\n\nStop wasting time on dead-end connections and start networking where it matters! \n\nEvent Details:\n📅 Date: November 15\, 2024\n⏰ Time: 9:00 AM CST\n💻 Location: Online (Link will be sent after registration)\n💸 Cost: FREE \n\nCall to Action:\n👉 Sign up now to secure your spot in this game-changing masterclass! Spaces are limited\, so don’t miss out.
URL:https://pwow.org/event/stop-networking-in-the-wrong-places-masterclass-nov-15th/
LOCATION:Zoom
CATEGORIES:Business Training/Coaching,Networking,Special Event,Workshops
ATTACH;FMTTYPE=image/png:https://pwow.org/wp-content/uploads/2024/10/Kim-Knaak-Opportunitys-Knaaking-2500-x-685-px.png
ORGANIZER;CN="Kim Knaak":MAILTO:pwowmke@gmail.com
END:VEVENT
END:VCALENDAR