BEGIN:VCALENDAR
VERSION:2.0
PRODID:-//Professional Women of Wisconsin - ECPv6.15.20//NONSGML v1.0//EN
CALSCALE:GREGORIAN
METHOD:PUBLISH
X-ORIGINAL-URL:https://pwow.org
X-WR-CALDESC:Events for Professional Women of Wisconsin
REFRESH-INTERVAL;VALUE=DURATION:PT1H
X-Robots-Tag:noindex
X-PUBLISHED-TTL:PT1H
BEGIN:VTIMEZONE
TZID:America/Chicago
BEGIN:DAYLIGHT
TZOFFSETFROM:-0600
TZOFFSETTO:-0500
TZNAME:CDT
DTSTART:20240310T080000
END:DAYLIGHT
BEGIN:STANDARD
TZOFFSETFROM:-0500
TZOFFSETTO:-0600
TZNAME:CST
DTSTART:20241103T070000
END:STANDARD
BEGIN:DAYLIGHT
TZOFFSETFROM:-0600
TZOFFSETTO:-0500
TZNAME:CDT
DTSTART:20250309T080000
END:DAYLIGHT
BEGIN:STANDARD
TZOFFSETFROM:-0500
TZOFFSETTO:-0600
TZNAME:CST
DTSTART:20251102T070000
END:STANDARD
BEGIN:DAYLIGHT
TZOFFSETFROM:-0600
TZOFFSETTO:-0500
TZNAME:CDT
DTSTART:20260308T080000
END:DAYLIGHT
BEGIN:STANDARD
TZOFFSETFROM:-0500
TZOFFSETTO:-0600
TZNAME:CST
DTSTART:20261101T070000
END:STANDARD
END:VTIMEZONE
BEGIN:VEVENT
DTSTART;TZID=America/Chicago:20250516T090000
DTEND;TZID=America/Chicago:20250518T180000
DTSTAMP:20260423T224339
CREATED:20250417T194754Z
LAST-MODIFIED:20250417T194754Z
UID:4395-1747386000-1747591200@pwow.org
SUMMARY:HealHER Summit:  A Global Movement for Survivors of Abuse
DESCRIPTION:The HealHER Summit was created to provide a safe and empowering space for survivors of abuse to come together\, heal\, and reclaim their lives. This summit brings together over 30 experts and advocates who are passionate about helping women heal from trauma\, rediscover their worth\, and step into their true power. \nThe summit was born from a deep desire to make a meaningful impact on the lives of women who have suffered from abuse—whether it be emotional\, physical\, sexual\, or psychological. We know that healing is possible\, but it requires support\, community\, and resources. \nAt the heart of this summit is the belief that healing is a journey\, not just an outcome. Our mission is to help survivors feel seen\, heard\, and valued\, while providing them with the tools and strategies to begin their transformation into empowered\, thriving women. \nWhether you’re here as a survivor or as someone wanting to support the movement\, we invite you to join us on this global mission to amplify voices\, foster healing\, and inspire hope. \nCome be a part of this transformational experience. Together\, we rise. HealHER. 🌸
URL:https://pwow.org/event/healher-summit-a-global-movement-for-survivors-of-abuse/
LOCATION:WI
CATEGORIES:Connect,Workshops
ATTACH;FMTTYPE=image/png:https://pwow.org/wp-content/uploads/2025/04/healher4.png
END:VEVENT
END:VCALENDAR