BEGIN:VCALENDAR
VERSION:2.0
PRODID:-//Professional Women of Wisconsin - ECPv6.15.20//NONSGML v1.0//EN
CALSCALE:GREGORIAN
METHOD:PUBLISH
X-ORIGINAL-URL:https://pwow.org
X-WR-CALDESC:Events for Professional Women of Wisconsin
REFRESH-INTERVAL;VALUE=DURATION:PT1H
X-Robots-Tag:noindex
X-PUBLISHED-TTL:PT1H
BEGIN:VTIMEZONE
TZID:America/Chicago
BEGIN:DAYLIGHT
TZOFFSETFROM:-0600
TZOFFSETTO:-0500
TZNAME:CDT
DTSTART:20240310T080000
END:DAYLIGHT
BEGIN:STANDARD
TZOFFSETFROM:-0500
TZOFFSETTO:-0600
TZNAME:CST
DTSTART:20241103T070000
END:STANDARD
BEGIN:DAYLIGHT
TZOFFSETFROM:-0600
TZOFFSETTO:-0500
TZNAME:CDT
DTSTART:20250309T080000
END:DAYLIGHT
BEGIN:STANDARD
TZOFFSETFROM:-0500
TZOFFSETTO:-0600
TZNAME:CST
DTSTART:20251102T070000
END:STANDARD
BEGIN:DAYLIGHT
TZOFFSETFROM:-0600
TZOFFSETTO:-0500
TZNAME:CDT
DTSTART:20260308T080000
END:DAYLIGHT
BEGIN:STANDARD
TZOFFSETFROM:-0500
TZOFFSETTO:-0600
TZNAME:CST
DTSTART:20261101T070000
END:STANDARD
END:VTIMEZONE
BEGIN:VEVENT
DTSTART;TZID=America/Chicago:20250517T110000
DTEND;TZID=America/Chicago:20250517T123000
DTSTAMP:20260423T233541
CREATED:20250509T132116Z
LAST-MODIFIED:20250509T132116Z
UID:4617-1747479600-1747485000@pwow.org
SUMMARY:Bloom into Wellness
DESCRIPTION:Join us for a refreshing session focused on connection\, calm\, and creativity as we explore simple\, natural ways to feel our best—starting with what we use every day. \nYou’ll learn about essential oils that support energy\, mood\, and stress relief! \nI will have two of my favorite blends ready to make & take home and use right away:\n~A Bloom Blend Roller for daily uplift\n~An Energizing Morning Mist to start your day with clarity and calm \nThis is a no-pressure\, beginner-friendly space where you can learn\, create\, and reconnect to your own wellness—one simple habit at a time. \nSpots are limited—RSVP to save your seat and start your season feeling clear\, calm\, and supported. \n~ $5 per roller/spray bottle!! ~\n(but no purchasing requirements) \nRegister here: https://meganyingling.com/bloomintowellness
URL:https://pwow.org/event/bloom-into-wellness/
LOCATION:Cudahy\, WI (Exact address upon registration!)\, Cudahy\, WI\, United States
CATEGORIES:Workshops
ATTACH;FMTTYPE=image/webp:https://pwow.org/wp-content/uploads/2025/05/tmp26m6qj17.webp
ORGANIZER;CN="Megan Yingling":MAILTO:megan@meganyingling.com
END:VEVENT
END:VCALENDAR