BEGIN:VCALENDAR
VERSION:2.0
PRODID:-//Professional Women of Wisconsin - ECPv6.15.20//NONSGML v1.0//EN
CALSCALE:GREGORIAN
METHOD:PUBLISH
X-WR-CALNAME:Professional Women of Wisconsin
X-ORIGINAL-URL:https://pwow.org
X-WR-CALDESC:Events for Professional Women of Wisconsin
REFRESH-INTERVAL;VALUE=DURATION:PT1H
X-Robots-Tag:noindex
X-PUBLISHED-TTL:PT1H
BEGIN:VTIMEZONE
TZID:America/Chicago
BEGIN:DAYLIGHT
TZOFFSETFROM:-0600
TZOFFSETTO:-0500
TZNAME:CDT
DTSTART:20240310T080000
END:DAYLIGHT
BEGIN:STANDARD
TZOFFSETFROM:-0500
TZOFFSETTO:-0600
TZNAME:CST
DTSTART:20241103T070000
END:STANDARD
BEGIN:DAYLIGHT
TZOFFSETFROM:-0600
TZOFFSETTO:-0500
TZNAME:CDT
DTSTART:20250309T080000
END:DAYLIGHT
BEGIN:STANDARD
TZOFFSETFROM:-0500
TZOFFSETTO:-0600
TZNAME:CST
DTSTART:20251102T070000
END:STANDARD
BEGIN:DAYLIGHT
TZOFFSETFROM:-0600
TZOFFSETTO:-0500
TZNAME:CDT
DTSTART:20260308T080000
END:DAYLIGHT
BEGIN:STANDARD
TZOFFSETFROM:-0500
TZOFFSETTO:-0600
TZNAME:CST
DTSTART:20261101T070000
END:STANDARD
END:VTIMEZONE
BEGIN:VEVENT
DTSTART;TZID=America/Chicago:20250426T110000
DTEND;TZID=America/Chicago:20250426T120000
DTSTAMP:20260424T025056
CREATED:20250328T150533Z
LAST-MODIFIED:20250328T150533Z
UID:4145-1745665200-1745668800@pwow.org
SUMMARY:Spring Reset Make & Take Class
DESCRIPTION:Instead of doing another regular Make & Take – this one is focused on the idea of a “Spring Reset.” So\, come over on Saturday\, April 26 at 11 AM and bring ideas for how you might want to refresh your health! \nWe will learn a little and then have the chance to make our own custom roller bottles and room sprays. We will have so much fun! \nWe will learn about:\n– How to naturally boost energy & feel refreshed\n– Simple ways to improve digestion & gut health\n– Easy daily habits for better focus & mental clarity\n– Which Oils Are Safe to Use\n– Primary Benefits of Essential Oils\n– How to Make Essential Oil Roller Bottles & Room Sprays\n– Best Way to Get Products \n~ $5 per roller/spray bottle!! ~\n(but no purchasing requirements) \nLimited Space Available! Must register!
URL:https://pwow.org/event/spring-reset-make-take-class/
LOCATION:Cudahy\, WI (Exact address upon registration!)\, Cudahy\, WI\, United States
CATEGORIES:Workshops
ATTACH;FMTTYPE=image/png:https://pwow.org/wp-content/uploads/2025/03/Spring-Rest-flyer.png
ORGANIZER;CN="Megan Yingling":MAILTO:megan@meganyingling.com
END:VEVENT
END:VCALENDAR