BEGIN:VCALENDAR
VERSION:2.0
PRODID:-//Professional Women of Wisconsin - ECPv6.15.20//NONSGML v1.0//EN
CALSCALE:GREGORIAN
METHOD:PUBLISH
X-ORIGINAL-URL:https://pwow.org
X-WR-CALDESC:Events for Professional Women of Wisconsin
REFRESH-INTERVAL;VALUE=DURATION:PT1H
X-Robots-Tag:noindex
X-PUBLISHED-TTL:PT1H
BEGIN:VTIMEZONE
TZID:America/Chicago
BEGIN:DAYLIGHT
TZOFFSETFROM:-0600
TZOFFSETTO:-0500
TZNAME:CDT
DTSTART:20240310T080000
END:DAYLIGHT
BEGIN:STANDARD
TZOFFSETFROM:-0500
TZOFFSETTO:-0600
TZNAME:CST
DTSTART:20241103T070000
END:STANDARD
BEGIN:DAYLIGHT
TZOFFSETFROM:-0600
TZOFFSETTO:-0500
TZNAME:CDT
DTSTART:20250309T080000
END:DAYLIGHT
BEGIN:STANDARD
TZOFFSETFROM:-0500
TZOFFSETTO:-0600
TZNAME:CST
DTSTART:20251102T070000
END:STANDARD
BEGIN:DAYLIGHT
TZOFFSETFROM:-0600
TZOFFSETTO:-0500
TZNAME:CDT
DTSTART:20260308T080000
END:DAYLIGHT
BEGIN:STANDARD
TZOFFSETFROM:-0500
TZOFFSETTO:-0600
TZNAME:CST
DTSTART:20261101T070000
END:STANDARD
END:VTIMEZONE
BEGIN:VEVENT
DTSTART;TZID=America/Chicago:20250205T173000
DTEND;TZID=America/Chicago:20250205T200000
DTSTAMP:20260424T110742
CREATED:20250130T151706Z
LAST-MODIFIED:20250130T151706Z
UID:3283-1738776600-1738785600@pwow.org
SUMMARY:Ruby + Jewels Pop-Up Shop at Route 41 | Feb 5
DESCRIPTION:Julie Turner with Ruby + Jewels is having a pop-up shopping event at Route 41 in Oak Creek!\n\nJulie is a a custom jewelry designer and works with all gemstones and precious metals like gold (all colors)\, platinum\, silver\, and palatium.\nJulie specializes in repair work and repurposing pieces you have lying around collecting dust – turning them into a new favorite treasure.\n\nWe’ll continue to post information over the next few days on our Facebook Event. Plan to come shop for yourself or someone else.\n\n\nSo far we’re planning giftables\, giveaways\, customizable pieces\, diamonds (mined and lab)\, gemstones and MORE! \nVisit our Facebook event below for more information and to RSVP! \n\n👉🏼 Ruby + Jewels Pop-Up at Route 41
URL:https://pwow.org/event/ruby-jewels-pop-up-shop-at-route-41-feb-5/
LOCATION:Route 41 Bar & Grill\, 8900 S. 27th St.\, Oak Creek\, 53154\, United States
CATEGORIES:Shopping
ATTACH;FMTTYPE=image/png:https://pwow.org/wp-content/uploads/2025/01/Ruby-Pop-Up-at-Route-41-2.5.25.png
ORGANIZER;CN="Ruby + Jewels":MAILTO:turninjewels@wi.rr.com
END:VEVENT
END:VCALENDAR