BEGIN:VCALENDAR
VERSION:2.0
PRODID:-//Professional Women of Wisconsin - ECPv6.15.20//NONSGML v1.0//EN
CALSCALE:GREGORIAN
METHOD:PUBLISH
X-WR-CALNAME:Professional Women of Wisconsin
X-ORIGINAL-URL:https://pwow.org
X-WR-CALDESC:Events for Professional Women of Wisconsin
REFRESH-INTERVAL;VALUE=DURATION:PT1H
X-Robots-Tag:noindex
X-PUBLISHED-TTL:PT1H
BEGIN:VTIMEZONE
TZID:America/Chicago
BEGIN:DAYLIGHT
TZOFFSETFROM:-0600
TZOFFSETTO:-0500
TZNAME:CDT
DTSTART:20230312T080000
END:DAYLIGHT
BEGIN:STANDARD
TZOFFSETFROM:-0500
TZOFFSETTO:-0600
TZNAME:CST
DTSTART:20231105T070000
END:STANDARD
BEGIN:DAYLIGHT
TZOFFSETFROM:-0600
TZOFFSETTO:-0500
TZNAME:CDT
DTSTART:20240310T080000
END:DAYLIGHT
BEGIN:STANDARD
TZOFFSETFROM:-0500
TZOFFSETTO:-0600
TZNAME:CST
DTSTART:20241103T070000
END:STANDARD
BEGIN:DAYLIGHT
TZOFFSETFROM:-0600
TZOFFSETTO:-0500
TZNAME:CDT
DTSTART:20250309T080000
END:DAYLIGHT
BEGIN:STANDARD
TZOFFSETFROM:-0500
TZOFFSETTO:-0600
TZNAME:CST
DTSTART:20251102T070000
END:STANDARD
END:VTIMEZONE
BEGIN:VEVENT
DTSTART;TZID=America/Chicago:20241112T173000
DTEND;TZID=America/Chicago:20241112T200000
DTSTAMP:20260425T080227
CREATED:20240927T191806Z
LAST-MODIFIED:20240927T191806Z
UID:2343-1731432600-1731441600@pwow.org
SUMMARY:Ruby + Jewels Pop-Up Shop at Bert's Bar
DESCRIPTION:Julie Turner with Ruby + Jewels is having a pop-up shopping event at Bert’s Bar in St. Francis!\nJulie is a a custom jewelry designer and works with all gemstones and precious metals like gold (all colors)\, platinum\, silver\, and palatium.\nJulie specializes in repair work and repurposing pieces you have lying around collecting dust – turning them into a new favorite treasure.\n\nWe’ll continue to post information over the next few weeks on our Facebook Event. Plan to come shop for yourself or someone else.\n\nSo far we’re planning giftables\, giveaways\, customizable pieces\, diamonds (mined and lab)\, gemstones and MORE! \nVisit our Facebook event below for more information and to RSVP! \n👉🏼 Ruby + Jewels Pop-Up at Berts
URL:https://pwow.org/event/ruby-jewels-pop-up-shop-at-berts-bar/
LOCATION:Bert’s Bar & Grill\, 3907 South Lake Dr.\, St. Francis\, WI\, 53235\, United States
CATEGORIES:Shopping
ATTACH;FMTTYPE=image/png:https://pwow.org/wp-content/uploads/2024/09/Ruby-Berts-Jewelry-Show.png
ORGANIZER;CN="Ruby + Jewels":MAILTO:turninjewels@wi.rr.com
END:VEVENT
BEGIN:VEVENT
DTSTART;TZID=America/Chicago:20241114T160000
DTEND;TZID=America/Chicago:20241114T190000
DTSTAMP:20260425T080227
CREATED:20241107T195014Z
LAST-MODIFIED:20241107T195014Z
UID:2589-1731600000-1731610800@pwow.org
SUMMARY:Ruby + Jewels Pop-Up at Sweet Treasures Fall Frenzy
DESCRIPTION:Ruby + Jewels Pop-Up at Sweet Treasures Fall Frenzy\nJoin us for Sweet & Sparkly Treats\nRuby + Jewels:GiftsGiveawaysjewelry repaircustomizable piecesDiamondsgemstones\nThis event has something for everyone no matter your budget!\nSweet Treasures:Thanksgiving Elegant Farmer pie preorders PLUS a pie sampling ONLY at this event!24 Days of Ice Cream – 1 box of 24- 2 ounce cups and one pint of your choosing for $49.9910% off Ice Cream for Every Jewelry Order!\nStop in\, check out amazing giftables and satisfy your sweet tooth!
URL:https://pwow.org/event/ruby-jewels-pop-up-at-sweet-treasures-fall-frenzy/
LOCATION:Sweet Treasures\, W137S6360 W. Janesville Rd.\, Muskego\, WI\, 53150\, United States
CATEGORIES:Shopping,Special Event
ATTACH;FMTTYPE=application/pdf:https://pwow.org/wp-content/uploads/2024/11/Ruby-Sweet-Treasures-Jewelry-Show-Real-Estate-Flyer.pdf
END:VEVENT
BEGIN:VEVENT
DTSTART;TZID=America/Chicago:20241120T110000
DTEND;TZID=America/Chicago:20241120T150000
DTSTAMP:20260425T080227
CREATED:20241107T200150Z
LAST-MODIFIED:20241107T200150Z
UID:2592-1732100400-1732114800@pwow.org
SUMMARY:Sparkle & Glow Holiday Showcase
DESCRIPTION:Sparkle & Glow Holiday Showcase\n\nJoin us for an exclusive holiday shopping and self-care event at Skin Deep Spa! Discover the perfect blend of beauty and elegance with exclusive jewelry from Ruby + Jewels and premium treatments from Skin Deep Spa. It’s your chance to shine and indulge this season!\n\nEvent Details: \nDate: November 30Time: 11:00 AM – 3:00 PMLocation: Skin Deep Spa20720 Watertown Road\, Brookfield\, WI 53045\n\nRuby + Jewels\nEnter to Win a MONSTER DIAMOND!Explore our luxurious collection of lab-grown diamond jewelry.Treat yourself to sweet delights and browse exclusive\, limited-edition pieces designed to add a sparkle to your holiday season!\nSkin Deep Spa\n20% Off Select Permanent Makeup ServicesEnhance your brows\, eyeliner\, and lips with natural\, lasting beauty.Incredible Savings on Anti-Aging TreatmentsRejuvenate your skin with treatments like IPL\, RF Micro-Needling\, and the HIFU Face Lift to achieve a radiant glow.
URL:https://pwow.org/event/sparkle-glow-holiday-showcase/
LOCATION:Skin Deep Spa\, 20720 Watertown Rd.\, Waukesha\, WI\, 53186\, United States
CATEGORIES:Shopping,Special Event
ATTACH;FMTTYPE=image/png:https://pwow.org/wp-content/uploads/2024/11/Ruby-Jewels-and-Skin-Deep-Real-Estate-Flyer.png
ORGANIZER;CN="Ruby + Jewels":MAILTO:turninjewels@wi.rr.com
END:VEVENT
END:VCALENDAR