BEGIN:VCALENDAR
VERSION:2.0
PRODID:-//Professional Women of Wisconsin - ECPv6.15.20//NONSGML v1.0//EN
CALSCALE:GREGORIAN
METHOD:PUBLISH
X-WR-CALNAME:Professional Women of Wisconsin
X-ORIGINAL-URL:https://pwow.org
X-WR-CALDESC:Events for Professional Women of Wisconsin
REFRESH-INTERVAL;VALUE=DURATION:PT1H
X-Robots-Tag:noindex
X-PUBLISHED-TTL:PT1H
BEGIN:VTIMEZONE
TZID:America/Chicago
BEGIN:DAYLIGHT
TZOFFSETFROM:-0600
TZOFFSETTO:-0500
TZNAME:CDT
DTSTART:20240310T080000
END:DAYLIGHT
BEGIN:STANDARD
TZOFFSETFROM:-0500
TZOFFSETTO:-0600
TZNAME:CST
DTSTART:20241103T070000
END:STANDARD
BEGIN:DAYLIGHT
TZOFFSETFROM:-0600
TZOFFSETTO:-0500
TZNAME:CDT
DTSTART:20250309T080000
END:DAYLIGHT
BEGIN:STANDARD
TZOFFSETFROM:-0500
TZOFFSETTO:-0600
TZNAME:CST
DTSTART:20251102T070000
END:STANDARD
BEGIN:DAYLIGHT
TZOFFSETFROM:-0600
TZOFFSETTO:-0500
TZNAME:CDT
DTSTART:20260308T080000
END:DAYLIGHT
BEGIN:STANDARD
TZOFFSETFROM:-0500
TZOFFSETTO:-0600
TZNAME:CST
DTSTART:20261101T070000
END:STANDARD
END:VTIMEZONE
BEGIN:VEVENT
DTSTART;VALUE=DATE:20250313
DTEND;VALUE=DATE:20250315
DTSTAMP:20260424T040348
CREATED:20250307T201345Z
LAST-MODIFIED:20250307T201345Z
UID:3904-1741824000-1741996799@pwow.org
SUMMARY:Mama Genius Empowering Festival
DESCRIPTION:💡 Work Smarter\, Take Action\, and Gain Clarity in Your Business \nThe Mama Genius Empowering Festival is not just another summit—it’s an interactive\, hands-on experience designed to help women entrepreneurs\, coaches\, and creatives get unstuck\, implement strategies\, and walk away with a 90-day business action plan they can start on Monday. \n💡 This event is for you if:\n✔ You’re tired of consuming information but not implementing\n✔ You want to work smarter\, not harder—using AI and automation to scale\n✔ You’re ready to stop second-guessing and start making real progress\n✔ You crave connection & collaboration with other like-minded women \n🔥 What You’ll Gain:\n✅ A 90-day action plan tailored to your business\n✅ AI-powered tools to simplify marketing & visibility\n✅ Expert-led sessions on clarity\, revenue growth\, and sponsorships\n✅ Dedicated implementation time—not just more learning\n✅ Breathwork\, meditation\, and movement sessions to stay energized\n✅ Two weeks of replay access so you don’t miss a thing \n🎤 Featured Speakers & Topics Include: \nDMA Anderson – From Idea to Impact: Building Clear\, Solution-Driven Outcomes\nBreanne Salcedo – 10/10 Your Life & The Simple Plan for Revenue Growth\nAdora Crystal Evans – The Power of Proximity: Building a Strategic Network\nKim Knaak – The Ideal Client Roadmap: Attracting Your Dream Audience\nPaula Swanson – Securing Sponsorships & Funding for Your Business\nTracy Rickards – AI-Powered Visibility & Effortless Marketing\nMichelle DeKeyser – 90-Day Action Plan: Priorities\, AI-Powered Prompts & Follow-Up\n✨ Bonus Wellness Sessions: \nDream Big Meditation with Justine\nBreathwork for Releasing Friction with Abigail\nMovement for Integration with Melanie\n📢 Investment: $49 | Includes workbooks\, implementation time\, and replay access \n🚀 Join us and take action—because you weren’t meant to do this alone!
URL:https://pwow.org/event/mama-genius-empowering-festival/
CATEGORIES:Business Training/Coaching,Workshops
ATTACH;FMTTYPE=image/png:https://pwow.org/wp-content/uploads/2025/03/Empowering-festival-1.png
END:VEVENT
END:VCALENDAR