BEGIN:VCALENDAR
VERSION:2.0
PRODID:-//Professional Women of Wisconsin - ECPv6.15.20//NONSGML v1.0//EN
CALSCALE:GREGORIAN
METHOD:PUBLISH
X-WR-CALNAME:Professional Women of Wisconsin
X-ORIGINAL-URL:https://pwow.org
X-WR-CALDESC:Events for Professional Women of Wisconsin
REFRESH-INTERVAL;VALUE=DURATION:PT1H
X-Robots-Tag:noindex
X-PUBLISHED-TTL:PT1H
BEGIN:VTIMEZONE
TZID:America/Chicago
BEGIN:DAYLIGHT
TZOFFSETFROM:-0600
TZOFFSETTO:-0500
TZNAME:CDT
DTSTART:20240310T080000
END:DAYLIGHT
BEGIN:STANDARD
TZOFFSETFROM:-0500
TZOFFSETTO:-0600
TZNAME:CST
DTSTART:20241103T070000
END:STANDARD
BEGIN:DAYLIGHT
TZOFFSETFROM:-0600
TZOFFSETTO:-0500
TZNAME:CDT
DTSTART:20250309T080000
END:DAYLIGHT
BEGIN:STANDARD
TZOFFSETFROM:-0500
TZOFFSETTO:-0600
TZNAME:CST
DTSTART:20251102T070000
END:STANDARD
BEGIN:DAYLIGHT
TZOFFSETFROM:-0600
TZOFFSETTO:-0500
TZNAME:CDT
DTSTART:20260308T080000
END:DAYLIGHT
BEGIN:STANDARD
TZOFFSETFROM:-0500
TZOFFSETTO:-0600
TZNAME:CST
DTSTART:20261101T070000
END:STANDARD
END:VTIMEZONE
BEGIN:VEVENT
DTSTART;TZID=America/Chicago:20250314T110000
DTEND;TZID=America/Chicago:20250314T120000
DTSTAMP:20260424T041445
CREATED:20250303T234256Z
LAST-MODIFIED:20250303T234256Z
UID:3838-1741950000-1741953600@pwow.org
SUMMARY:Ideal Client Roadmap Masterclass | Mar 14th
DESCRIPTION:👉 Register Now\nFind\, Connect & Engage with the Right Clients\n📅 Date: March 14\, 2025\n🕛 Time: 11AM CST\n📍 Location: Online (Zoom link provided upon registration)\n💸 Cost: FREE \nYour ideal clients exist—are you showing up where they are? \nMany business owners network\, market\, and create content\, but still don’t attract the right people. The key? Clarity on WHO you serve\, WHERE they are\, and HOW to engage. \nThis interactive masterclass will help you:\n✔ Define your ideal client so you attract the right people\n✔ Find where they already spend time so you show up in the right spaces\n✔ Engage & educate them naturally so they recognize YOU as the solution \nThis isn’t just another training—you’ll leave with a step-by-step roadmap to start making better connections right away. \n\n📌 Reserve Your Spot Now!\nSpace is limited for this FREE event. Don’t miss this opportunity to revolutionize your networking strategy and start connecting with the right people! \n👉 Register Now
URL:https://pwow.org/event/ideal-client-roadmap-masterclass-mar-14th/
LOCATION:Zoom
CATEGORIES:Business Training/Coaching,Networking,Special Event,Workshops
ATTACH;FMTTYPE=image/png:https://pwow.org/wp-content/uploads/2024/10/Kim-Knaak-Opportunitys-Knaaking-2500-x-685-px.png
ORGANIZER;CN="Kim Knaak":MAILTO:pwowmke@gmail.com
END:VEVENT
BEGIN:VEVENT
DTSTART;TZID=America/Chicago:20250320T110000
DTEND;TZID=America/Chicago:20250320T120000
DTSTAMP:20260424T041445
CREATED:20250303T234727Z
LAST-MODIFIED:20250318T155758Z
UID:3837-1742468400-1742472000@pwow.org
SUMMARY:Ideal Client Roadmap Masterclass | Mar 20th
DESCRIPTION:👉 Register Now\nFind\, Connect & Engage with the Right Clients\n📅 Date: March 20\, 2025\n🕛 Time: 11AM CST\n📍 Location: Online (Zoom link provided upon registration)\n💸 Cost: FREE \nYour ideal clients exist—are you showing up where they are? \nMany business owners network\, market\, and create content\, but still don’t attract the right people. The key? Clarity on WHO you serve\, WHERE they are\, and HOW to engage. \nThis interactive masterclass will help you:\n✔ Define your ideal client so you attract the right people\n✔ Find where they already spend time so you show up in the right spaces\n✔ Engage & educate them naturally so they recognize YOU as the solution \nThis isn’t just another training—you’ll leave with a step-by-step roadmap to start making better connections right away. \n\n📌 Reserve Your Spot Now!\nSpace is limited for this FREE event. Don’t miss this opportunity to revolutionize your networking strategy and start connecting with the right people! \n👉 Register Now
URL:https://pwow.org/event/ideal-client-roadmap-masterclass-mar-20th/
LOCATION:Zoom
CATEGORIES:Business Training/Coaching,Networking,Special Event,Workshops
ATTACH;FMTTYPE=image/png:https://pwow.org/wp-content/uploads/2024/10/Kim-Knaak-Opportunitys-Knaaking-2500-x-685-px.png
ORGANIZER;CN="Kim Knaak":MAILTO:pwowmke@gmail.com
END:VEVENT
BEGIN:VEVENT
DTSTART;TZID=America/Chicago:20250331T110000
DTEND;TZID=America/Chicago:20250331T120000
DTSTAMP:20260424T041445
CREATED:20250317T153816Z
LAST-MODIFIED:20250317T153816Z
UID:3969-1743418800-1743422400@pwow.org
SUMMARY:Collaboration Challenge | Mar 31 to April 4\, 2025
DESCRIPTION:Register HERE\n🎯 Collaboration Challenge: A 5-Day Social Media Strategy for Business Growth 🎯 \nJoin us for a 5-day interactive challenge designed to help you create engaging\, education-based content while strategically collaborating with others to expand your reach. Over five days\, you’ll learn to implement a repeatable strategy that builds relationships and strengthens your brand presence—without ever feeling salesy. \nThis challenge will teach you how to: \n\nCraft compelling social media content that educates and engages your audience\nLeverage collaboration to increase visibility and credibility in your industry\nBuild a content strategy based on relationship-driven marketing\, not cold selling\nUse effective engagement tactics to maximize reach and organic growth\nDevelop a sustainable posting plan that keeps your audience interested long-term\n\nEvent Details: \n📅 Date: Mar 31 to April 4\, 2025 \n🕒 Time: 11am CST \n📍 Where: Live on Zoom \n💰 Cost: $97 (Get $50 off when you attend my upcoming events!) \nWhy Join? \n✅ Build your audience through collaboration\, not competition \n✅ Learn a social media strategy that grows your engagement effortlessly \n✅ Position yourself as an expert through education-based marketing \n✅ Walk away with an actionable content plan for ongoing success \n  \nDon’t miss this opportunity to transform your approach to social media! \n\nSpecial Offer:\nRegister now for $97—or get $50 off when you attend one of my events this month and receive an exclusive coupon code. \n  \n#CollaborationNotCompetition #ConnectorKim #OpportunitysKnaaking #CollaborationCreatesCommunity \nRegister HERE
URL:https://pwow.org/event/collaboration-challenge-mar-31-to-april-4-2025/
LOCATION:Zoom
CATEGORIES:Business Training/Coaching,Connect,Networking,Workshops
ATTACH;FMTTYPE=image/png:https://pwow.org/wp-content/uploads/2025/03/Collaboration-Challenge-Mar-31-Apr-4.png
ORGANIZER;CN="Kim Knaak":MAILTO:pwowmke@gmail.com
END:VEVENT
END:VCALENDAR