BEGIN:VCALENDAR
VERSION:2.0
PRODID:-//Professional Women of Wisconsin - ECPv6.15.20//NONSGML v1.0//EN
CALSCALE:GREGORIAN
METHOD:PUBLISH
X-ORIGINAL-URL:https://pwow.org
X-WR-CALDESC:Events for Professional Women of Wisconsin
REFRESH-INTERVAL;VALUE=DURATION:PT1H
X-Robots-Tag:noindex
X-PUBLISHED-TTL:PT1H
BEGIN:VTIMEZONE
TZID:America/Chicago
BEGIN:DAYLIGHT
TZOFFSETFROM:-0600
TZOFFSETTO:-0500
TZNAME:CDT
DTSTART:20240310T080000
END:DAYLIGHT
BEGIN:STANDARD
TZOFFSETFROM:-0500
TZOFFSETTO:-0600
TZNAME:CST
DTSTART:20241103T070000
END:STANDARD
BEGIN:DAYLIGHT
TZOFFSETFROM:-0600
TZOFFSETTO:-0500
TZNAME:CDT
DTSTART:20250309T080000
END:DAYLIGHT
BEGIN:STANDARD
TZOFFSETFROM:-0500
TZOFFSETTO:-0600
TZNAME:CST
DTSTART:20251102T070000
END:STANDARD
BEGIN:DAYLIGHT
TZOFFSETFROM:-0600
TZOFFSETTO:-0500
TZNAME:CDT
DTSTART:20260308T080000
END:DAYLIGHT
BEGIN:STANDARD
TZOFFSETFROM:-0500
TZOFFSETTO:-0600
TZNAME:CST
DTSTART:20261101T070000
END:STANDARD
END:VTIMEZONE
BEGIN:VEVENT
DTSTART;VALUE=DATE:20250303
DTEND;VALUE=DATE:20250304
DTSTAMP:20260424T073554
CREATED:20250206T171048Z
LAST-MODIFIED:20250206T171048Z
UID:3469-1740960000-1741046399@pwow.org
SUMMARY:International Women’s Day Giveaway 2025
DESCRIPTION:Join Us for the Ultimate International Women’s Day Giveaway: CollabHERate & Accelerate!\nTo celebrate International Women’s Day 2025\, we’re bringing together 20+ incredible women entrepreneurs for a week-long giveaway event (March 3-9\, 2025)! This is your chance to gain exclusive\, high-value resources that will help you grow your business\, expand your reach\, and connect with industry experts. \nWhat You’ll Get:\n✔ Free eBooks\, workbooks\, and toolkits for business success\n✔ Masterclasses and exclusive training from top women in business\n✔ Free templates\, planners\, and social media resources\n✔ Special offers and insider knowledge to accelerate your success \nWhy Join?\n\nGain FREE high-value resources from successful women entrepreneurs\nExpand your business knowledge and skillset with expert-led materials\nMake meaningful connections and collaborate with other professionals\nSupport and celebrate women in business on International Women’s Day!\n\nImportant Note: This is NOT a typical giveaway where one person wins a prize. Each free offer is available to everyone who signs up! * \nHow It Works:\n1️⃣ Sign up now to secure your spot\n2️⃣ Browse the incredible giveaways when the event begins on March 3\, 2025\n3️⃣ Claim as many free offers as you want! \n🎟 100% FREE TO JOIN! \n🔗 Sign up now to be the first to grab these amazing giveaways and receive exclusive event updates\, early access to special announcements\, and priority alerts when the giveaway launches! \n👉 SIGN UP HERE
URL:https://pwow.org/event/international-womens-day-giveaway-2025/
CATEGORIES:Business Training/Coaching,Connect,Giveaway,Networking,PWOW,Special Event,Workshops
ATTACH;FMTTYPE=image/png:https://pwow.org/wp-content/uploads/2025/02/CollabHERate-Accelerate-Website.png
ORGANIZER;CN="Kim Knaak":MAILTO:pwowmke@gmail.com
END:VEVENT
BEGIN:VEVENT
DTSTART;TZID=America/Chicago:20250306T130000
DTEND;TZID=America/Chicago:20250306T143000
DTSTAMP:20260424T073554
CREATED:20250227T192135Z
LAST-MODIFIED:20250227T192203Z
UID:3690-1741266000-1741271400@pwow.org
SUMMARY:Mompreneurs: Connect & Co-Create Virtual Event
DESCRIPTION:You’re Not Meant to Build Alone—Let’s Co-Create!\n💡 A space where mompreneurs come together for clarity\, connection & action.\n📅 Upcoming LIVE Virtual Sessions:\n📌 March 6 | March 20 | April 3 | April 17 | May 1 | May 15\n⏰ 1:00 PM CST | Virtual on BeeKonnected\n✨ Guided visualization | Breakout conversations | Real next steps\n📢 Join us → https://mamageniushub.com/cocreate \nBecause business wasn’t meant to be built in isolation. \nFor too long\, we’ve been told that success requires hustling harder\, pushing through\, and figuring it all out alone. But what if the secret to real momentum wasn’t about doing more—but about creating together? \n💡 This isn’t another networking event or business workshop. This is a space where mompreneurs in business come together\, have real conversations\, and support each other in creating clarity\, connections\, and growth—without pressure or competition. \nIf you’ve been feeling stuck\, overwhelmed\, or unsure of your next step—this is where you find your people and take action toward the business (and life) you actually want. \n🎯 What to Expect \nEach Mompreneurs: Connect & Co-Create Hub session includes: \n🌿 A guided visualization to step into your 12-month vision and uncover what’s possible \n🤝 Co-Create Hub Breakout Conversations → where you connect with someone who could be a collaborator or ideal client (not to sell\, but to refine your messaging & ideas) \n🔥 Focused discussion on what’s in your way & how to move forward \n🚀 Optional 30-minute “Co-Create Hub” session where you can take immediate action in your business \n💡 This isn’t a networking event or webinar. It’s an intentional space to tap into your vision and start bringing it to life.
URL:https://pwow.org/event/mompreneurs-connect-co-create-virtual-event/
CATEGORIES:Business Training/Coaching,Connect,Networking,Workshops
ATTACH;FMTTYPE=image/png:https://pwow.org/wp-content/uploads/2025/02/Mama-Genius-Hub-Co-Create-Graphic-.png
END:VEVENT
END:VCALENDAR