BEGIN:VCALENDAR
VERSION:2.0
PRODID:-//Professional Women of Wisconsin - ECPv6.15.20//NONSGML v1.0//EN
CALSCALE:GREGORIAN
METHOD:PUBLISH
X-WR-CALNAME:Professional Women of Wisconsin
X-ORIGINAL-URL:https://pwow.org
X-WR-CALDESC:Events for Professional Women of Wisconsin
REFRESH-INTERVAL;VALUE=DURATION:PT1H
X-Robots-Tag:noindex
X-PUBLISHED-TTL:PT1H
BEGIN:VTIMEZONE
TZID:America/Chicago
BEGIN:DAYLIGHT
TZOFFSETFROM:-0600
TZOFFSETTO:-0500
TZNAME:CDT
DTSTART:20240310T080000
END:DAYLIGHT
BEGIN:STANDARD
TZOFFSETFROM:-0500
TZOFFSETTO:-0600
TZNAME:CST
DTSTART:20241103T070000
END:STANDARD
BEGIN:DAYLIGHT
TZOFFSETFROM:-0600
TZOFFSETTO:-0500
TZNAME:CDT
DTSTART:20250309T080000
END:DAYLIGHT
BEGIN:STANDARD
TZOFFSETFROM:-0500
TZOFFSETTO:-0600
TZNAME:CST
DTSTART:20251102T070000
END:STANDARD
BEGIN:DAYLIGHT
TZOFFSETFROM:-0600
TZOFFSETTO:-0500
TZNAME:CDT
DTSTART:20260308T080000
END:DAYLIGHT
BEGIN:STANDARD
TZOFFSETFROM:-0500
TZOFFSETTO:-0600
TZNAME:CST
DTSTART:20261101T070000
END:STANDARD
END:VTIMEZONE
BEGIN:VEVENT
DTSTART;TZID=America/Chicago:20250103T120000
DTEND;TZID=America/Chicago:20250103T130000
DTSTAMP:20260424T100540
CREATED:20241220T200240Z
LAST-MODIFIED:20241220T200240Z
UID:3063-1735905600-1735909200@pwow.org
SUMMARY:Find Your Ideal Client & Network Smarter Masterclass | Jan 3rd
DESCRIPTION:👉 Register Now\n🎯 Find Your Ideal Client & Network Smarter\n📅 Date: Friday\, January 3\, 2025\n⏰ Time: 12:00 PM – 1:00 PM CST\n📍 Location: Online (Zoom link provided upon registration)\n💸 Cost: FREE \n\nIs This You?\n\nAre you spending time networking in all the wrong places?\nStruggling to connect with the people who truly need your services?\n\nMany business owners waste valuable time\, money\, and energy marketing to the wrong audiences. If this sounds familiar\, this masterclass is your solution! \n\n✨ What You’ll Learn:\n\n👤 Define your ideal client: Gain clarity on who you serve and what they need from you.\n📍 Find where they are: Learn how to show up in the right spaces to meet your audience.\n🛠️ Present your solution: Effectively communicate how you solve their problems.\n📝 Ideal Client Worksheet: Work through this tool live to create your actionable plan.\n\n\n🙋 Who Should Attend?\nThis session is perfect for small business owners and entrepreneurs who want to: \n\nBuild connections that lead to clients and collaborators.\nStop wasting time with the wrong people.\nStrategically market their services to solve real problems.\n\n\n🌟 Why Attend?\nNetworking smarter means working less but achieving more. By attending this masterclass\, you’ll gain the tools to: \n\nUnderstand who your ideal client is.\nFind where they already spend their time.\nClearly present your value in a way that resonates.\n\n\n📚 Bonus Prep\nCheck out these blogs to get inspired before the event: \n\n\n\nNetworking in the Right Places\n\nHow to Master the 1-1 Follow-Up \n\n\n\n\n  \n\n📌 Reserve Your Spot Now!\nSpace is limited for this FREE event. Don’t miss this opportunity to revolutionize your networking strategy and start connecting with the right people! \n👉 Register Now
URL:https://pwow.org/event/find-your-ideal-client-network-smarter-masterclass-jan-3rd/
LOCATION:Zoom
CATEGORIES:Business Training/Coaching,Networking,Special Event,Workshops
ATTACH;FMTTYPE=image/png:https://pwow.org/wp-content/uploads/2024/10/Kim-Knaak-Opportunitys-Knaaking-2500-x-685-px.png
ORGANIZER;CN="Kim Knaak":MAILTO:pwowmke@gmail.com
END:VEVENT
BEGIN:VEVENT
DTSTART;TZID=America/Chicago:20250115T170000
DTEND;TZID=America/Chicago:20250115T180000
DTSTAMP:20260424T100540
CREATED:20241220T200558Z
LAST-MODIFIED:20250108T140722Z
UID:3065-1736960400-1736964000@pwow.org
SUMMARY:Find Your Ideal Client & Network Smarter Masterclass | Jan 15th
DESCRIPTION:👉 Register Now\n🎯 Find Your Ideal Client & Network Smarter\n📅 Date: Friday\, January 15\, 2025\n⏰ Time: 5:00 PM – 6:00 PM CST\n📍 Location: Online (Zoom link provided upon registration)\n💸 Cost: FREE \n\nIs This You?\n\nAre you spending time networking in all the wrong places?\nStruggling to connect with the people who truly need your services?\n\nMany business owners waste valuable time\, money\, and energy marketing to the wrong audiences. If this sounds familiar\, this masterclass is your solution! \n\n✨ What You’ll Learn:\n\n👤 Define your ideal client: Gain clarity on who you serve and what they need from you.\n📍 Find where they are: Learn how to show up in the right spaces to meet your audience.\n🛠️ Present your solution: Effectively communicate how you solve their problems.\n📝 Ideal Client Worksheet: Work through this tool live to create your actionable plan.\n\n\n🙋 Who Should Attend?\nThis session is perfect for small business owners and entrepreneurs who want to: \n\nBuild connections that lead to clients and collaborators.\nStop wasting time with the wrong people.\nStrategically market their services to solve real problems.\n\n\n🌟 Why Attend?\nNetworking smarter means working less but achieving more. By attending this masterclass\, you’ll gain the tools to: \n\nUnderstand who your ideal client is.\nFind where they already spend their time.\nClearly present your value in a way that resonates.\n\n\n📚 Bonus Prep\nCheck out these blogs to get inspired before the event: \n\n\n\nNetworking in the Right Places\n\nHow to Master the 1-1 Follow-Up \n\n\n\n\n  \n\n📌 Reserve Your Spot Now!\nSpace is limited for this FREE event. Don’t miss this opportunity to revolutionize your networking strategy and start connecting with the right people! \n👉 Register Now
URL:https://pwow.org/event/find-your-ideal-client-network-smarter-masterclass-jan-15th/
LOCATION:Zoom
CATEGORIES:Business Training/Coaching,Networking,Special Event,Workshops
ATTACH;FMTTYPE=image/png:https://pwow.org/wp-content/uploads/2024/10/Kim-Knaak-Opportunitys-Knaaking-2500-x-685-px.png
ORGANIZER;CN="Kim Knaak":MAILTO:pwowmke@gmail.com
END:VEVENT
END:VCALENDAR