BEGIN:VCALENDAR
VERSION:2.0
PRODID:-//Professional Women of Wisconsin - ECPv6.15.20//NONSGML v1.0//EN
CALSCALE:GREGORIAN
METHOD:PUBLISH
X-WR-CALNAME:Professional Women of Wisconsin
X-ORIGINAL-URL:https://pwow.org
X-WR-CALDESC:Events for Professional Women of Wisconsin
REFRESH-INTERVAL;VALUE=DURATION:PT1H
X-Robots-Tag:noindex
X-PUBLISHED-TTL:PT1H
BEGIN:VTIMEZONE
TZID:America/Chicago
BEGIN:DAYLIGHT
TZOFFSETFROM:-0600
TZOFFSETTO:-0500
TZNAME:CDT
DTSTART:20240310T080000
END:DAYLIGHT
BEGIN:STANDARD
TZOFFSETFROM:-0500
TZOFFSETTO:-0600
TZNAME:CST
DTSTART:20241103T070000
END:STANDARD
BEGIN:DAYLIGHT
TZOFFSETFROM:-0600
TZOFFSETTO:-0500
TZNAME:CDT
DTSTART:20250309T080000
END:DAYLIGHT
BEGIN:STANDARD
TZOFFSETFROM:-0500
TZOFFSETTO:-0600
TZNAME:CST
DTSTART:20251102T070000
END:STANDARD
BEGIN:DAYLIGHT
TZOFFSETFROM:-0600
TZOFFSETTO:-0500
TZNAME:CDT
DTSTART:20260308T080000
END:DAYLIGHT
BEGIN:STANDARD
TZOFFSETFROM:-0500
TZOFFSETTO:-0600
TZNAME:CST
DTSTART:20261101T070000
END:STANDARD
END:VTIMEZONE
BEGIN:VEVENT
DTSTART;TZID=America/Chicago:20250602T080000
DTEND;TZID=America/Chicago:20250829T170000
DTSTAMP:20260423T231324
CREATED:20250430T181101Z
LAST-MODIFIED:20250430T181101Z
UID:4564-1748851200-1756486800@pwow.org
SUMMARY:Unstoppable Summer
DESCRIPTION:Break Free from What’s Holding You Back. Step into Owning Your Next Chapter. A 6-week group coaching program for women in midlife ready to stop shrinking\, second-guessing\, or settling—and start advocating for what they truly want.
URL:https://pwow.org/event/unstoppable-summer/
LOCATION:WI
CATEGORIES:Workshops
ATTACH;FMTTYPE=image/png:https://pwow.org/wp-content/uploads/2025/04/IMG_6408.png
END:VEVENT
BEGIN:VEVENT
DTSTART;TZID=America/Chicago:20250603T100000
DTEND;TZID=America/Chicago:20250603T130000
DTSTAMP:20260423T231324
CREATED:20250531T132303Z
LAST-MODIFIED:20250531T132303Z
UID:4799-1748944800-1748955600@pwow.org
SUMMARY:Soul Calling Success Workshop
DESCRIPTION:June 3-4\, 2025\nTUESDAY:  8am-11am PT/ 10am-1pm CT\nVIP Session  11am-12pm PT / 1pm-2pm CT\nWEDNESDAY:8am-10am PT/ 10am-12pm CT\nVIP Session 10am-11am PT / 12pm-1pm CT\n\n\n\nAre YOU looking for greater success\, happiness and fulfillment in all aspects of life?\nThis Workshop is For You If You’re Ready To:\n\nTurn your soul’s calling into a sustainable 6-figure+ business\nPivot your offer or message to meet the moment (without selling your soul)\nBreak through the fear of being “too much” or “not enough” and rise into visibility\nAlign strategy with spirit so you’re no longer hustling or guessing\nClaim the abundance you’re capable and worthy of\n\n\n  \nWhat You’ll Learn Over 2 Days:\n\nDAY 1: CLARITY & VISION\nCraft your aligned business roadmap to $150k+\nClarify your core message and unique transformational promise\nIdentify your aligned audience and where your soul work meets their needs\n\nDAY 2: STRATEGY & ACTIVATION\nDesign an authentic offer that converts with soul\nMap your visibility + client attraction plan\nRelease money blocks and activate your worthy mindset\n\nUse code PWOW for 50% off GA or VIP admission!!
URL:https://pwow.org/event/soul-calling-success-workshop/
LOCATION:Zoom
CATEGORIES:Business Training/Coaching,Workshops
ATTACH;FMTTYPE=image/jpeg:https://pwow.org/wp-content/uploads/2025/05/abde4fe-fd55-20f7-11a7-2c04ee37d1e_soul_calling_success_live.jpg
END:VEVENT
END:VCALENDAR