BEGIN:VCALENDAR
VERSION:2.0
PRODID:-//Professional Women of Wisconsin - ECPv6.15.20//NONSGML v1.0//EN
CALSCALE:GREGORIAN
METHOD:PUBLISH
X-WR-CALNAME:Professional Women of Wisconsin
X-ORIGINAL-URL:https://pwow.org
X-WR-CALDESC:Events for Professional Women of Wisconsin
REFRESH-INTERVAL;VALUE=DURATION:PT1H
X-Robots-Tag:noindex
X-PUBLISHED-TTL:PT1H
BEGIN:VTIMEZONE
TZID:America/Chicago
BEGIN:DAYLIGHT
TZOFFSETFROM:-0600
TZOFFSETTO:-0500
TZNAME:CDT
DTSTART:20240310T080000
END:DAYLIGHT
BEGIN:STANDARD
TZOFFSETFROM:-0500
TZOFFSETTO:-0600
TZNAME:CST
DTSTART:20241103T070000
END:STANDARD
BEGIN:DAYLIGHT
TZOFFSETFROM:-0600
TZOFFSETTO:-0500
TZNAME:CDT
DTSTART:20250309T080000
END:DAYLIGHT
BEGIN:STANDARD
TZOFFSETFROM:-0500
TZOFFSETTO:-0600
TZNAME:CST
DTSTART:20251102T070000
END:STANDARD
BEGIN:DAYLIGHT
TZOFFSETFROM:-0600
TZOFFSETTO:-0500
TZNAME:CDT
DTSTART:20260308T080000
END:DAYLIGHT
BEGIN:STANDARD
TZOFFSETFROM:-0500
TZOFFSETTO:-0600
TZNAME:CST
DTSTART:20261101T070000
END:STANDARD
END:VTIMEZONE
BEGIN:VEVENT
DTSTART;TZID=America/Chicago:20250406T140000
DTEND;TZID=America/Chicago:20250406T150000
DTSTAMP:20260424T025134
CREATED:20250227T014716Z
LAST-MODIFIED:20250227T014716Z
UID:3664-1743948000-1743951600@pwow.org
SUMMARY:Discover Alaska: A Cruise And Land Travel Talk
DESCRIPTION:Join Cheryl & Jim Howard on April 6 from 2-3 pm for a FREE Discover Alaska Travel Talk\, at Waukesha State Bank’s Community Room\, in Mukwonago. We will be sharing tips and insights on how to experience the beauty of Alaska\, whether by land or sea. Special cruise offers and door prizes. Get ready to explore Alaska!\nLimited Availability. Registration is Required.\nTo Register: https://DiscoverAlaskaTravelTalk.eventbrite.com
URL:https://pwow.org/event/discover-alaska-a-cruise-and-land-travel-talk/
LOCATION:Waukesha State Bank\, 1160 N Rochester St\, Mukwonago\, WI\, 53149\, United States
CATEGORIES:Workshops
ATTACH;FMTTYPE=image/png:https://pwow.org/wp-content/uploads/2025/02/DiscoverAlaska_040625.png
ORGANIZER;CN="Cheryl Howard":MAILTO:cheryl.howard@cruiseplanners.com
END:VEVENT
END:VCALENDAR