BEGIN:VCALENDAR
VERSION:2.0
PRODID:-//Professional Women of Wisconsin - ECPv6.15.20//NONSGML v1.0//EN
CALSCALE:GREGORIAN
METHOD:PUBLISH
X-ORIGINAL-URL:https://pwow.org
X-WR-CALDESC:Events for Professional Women of Wisconsin
REFRESH-INTERVAL;VALUE=DURATION:PT1H
X-Robots-Tag:noindex
X-PUBLISHED-TTL:PT1H
BEGIN:VTIMEZONE
TZID:America/Chicago
BEGIN:DAYLIGHT
TZOFFSETFROM:-0600
TZOFFSETTO:-0500
TZNAME:CDT
DTSTART:20240310T080000
END:DAYLIGHT
BEGIN:STANDARD
TZOFFSETFROM:-0500
TZOFFSETTO:-0600
TZNAME:CST
DTSTART:20241103T070000
END:STANDARD
BEGIN:DAYLIGHT
TZOFFSETFROM:-0600
TZOFFSETTO:-0500
TZNAME:CDT
DTSTART:20250309T080000
END:DAYLIGHT
BEGIN:STANDARD
TZOFFSETFROM:-0500
TZOFFSETTO:-0600
TZNAME:CST
DTSTART:20251102T070000
END:STANDARD
BEGIN:DAYLIGHT
TZOFFSETFROM:-0600
TZOFFSETTO:-0500
TZNAME:CDT
DTSTART:20260308T080000
END:DAYLIGHT
BEGIN:STANDARD
TZOFFSETFROM:-0500
TZOFFSETTO:-0600
TZNAME:CST
DTSTART:20261101T070000
END:STANDARD
END:VTIMEZONE
BEGIN:VEVENT
DTSTART;TZID=America/Chicago:20250210T120000
DTEND;TZID=America/Chicago:20250210T130000
DTSTAMP:20260424T171224
CREATED:20250131T215432Z
LAST-MODIFIED:20250131T215432Z
UID:3341-1739188800-1739192400@pwow.org
SUMMARY:4 Days to Manifest Your Dream Life
DESCRIPTION:Community – Connection – Coaching\n\nFind clariy to change the trajectory of your future\nManifest the money/relationship/happiness that awaits you\nRelease blocks\, patterns and painful cycles keeping you in the same place\nCreate success on your terms\nFeel the freedom of living your truth\n\n  \nI can’t wait to share this time with you! \nThe DREAM Journey will use my proven methodology crated through decades of working with thousands of individuals to transform your outlook and your results… \nMake the time and see the difference! \nxo\, Tara
URL:https://pwow.org/event/4-days-to-manifest-your-dream-life/
LOCATION:Zoom
CATEGORIES:Workshops
ATTACH;FMTTYPE=image/jpeg:https://pwow.org/wp-content/uploads/2025/01/DREAM-2.2025.jpg
END:VEVENT
END:VCALENDAR