BEGIN:VCALENDAR
VERSION:2.0
PRODID:-//Professional Women of Wisconsin - ECPv6.15.20//NONSGML v1.0//EN
CALSCALE:GREGORIAN
METHOD:PUBLISH
X-ORIGINAL-URL:https://pwow.org
X-WR-CALDESC:Events for Professional Women of Wisconsin
REFRESH-INTERVAL;VALUE=DURATION:PT1H
X-Robots-Tag:noindex
X-PUBLISHED-TTL:PT1H
BEGIN:VTIMEZONE
TZID:America/Chicago
BEGIN:DAYLIGHT
TZOFFSETFROM:-0600
TZOFFSETTO:-0500
TZNAME:CDT
DTSTART:20230312T080000
END:DAYLIGHT
BEGIN:STANDARD
TZOFFSETFROM:-0500
TZOFFSETTO:-0600
TZNAME:CST
DTSTART:20231105T070000
END:STANDARD
BEGIN:DAYLIGHT
TZOFFSETFROM:-0600
TZOFFSETTO:-0500
TZNAME:CDT
DTSTART:20240310T080000
END:DAYLIGHT
BEGIN:STANDARD
TZOFFSETFROM:-0500
TZOFFSETTO:-0600
TZNAME:CST
DTSTART:20241103T070000
END:STANDARD
BEGIN:DAYLIGHT
TZOFFSETFROM:-0600
TZOFFSETTO:-0500
TZNAME:CDT
DTSTART:20250309T080000
END:DAYLIGHT
BEGIN:STANDARD
TZOFFSETFROM:-0500
TZOFFSETTO:-0600
TZNAME:CST
DTSTART:20251102T070000
END:STANDARD
END:VTIMEZONE
BEGIN:VEVENT
DTSTART;TZID=America/Chicago:20240619T110000
DTEND;TZID=America/Chicago:20240619T120000
DTSTAMP:20260425T082245
CREATED:20240528T215119Z
LAST-MODIFIED:20240528T215119Z
UID:715-1718794800-1718798400@pwow.org
SUMMARY:Pinterest Auto Pin Masterclass | June 19\, 2024
DESCRIPTION:🚀 Get ready to level up your Pinterest game with our Pinterest Masterclass – the ultimate guide to boosting your online presence! 📌✨ \nGET YOUR TICKET HERE\nUPGRADE TO VIP! \n🎓 What to Expect:\nKim Knaak has been utilizing this method for years and getting her clients seen on Google! Get ready for an epic ride through the world of Pinterest as we dive into the nitty-gritty of Auto Publishing Pins. Ever wondered how to effortlessly gain Google visibility? We’ve got you covered! This masterclass is all about unleashing the power of Pins to make your content shine in the vast online universe. \n📅 Date & Time:\nJune 19\, 2024 – 11am CST \n📍 Location:\nWherever you have a cozy spot and a good internet connection! This masterclass is 100% virtual\, so you can join from the comfort of your own space. \n🔥 Highlights:\n– **Auto Publish Magic:** Learn the secrets of automating your Pin game like a pro.\n– **Google Visibility Hacks:** Uncover the tips and tricks to make your content stand out on the world’s biggest search engine.\n– **Interactive Q&A:** Have burning questions? We’ve got answers! Engage with our expert and get the insights you need.\n– **See it in action** Check out the hundreds of pins Kim has doing the work for her on her business Pinterest account! \n🎁 Bonus Goodies:\nAttendees will receive exclusive resources and cheat sheets to keep the Pinterest party going even after the masterclass ends. \n💻 How to Join:\nSave to your calendar and simply click the Zoom link at go time and be prepared to embark on a Pinterest adventure like never before! \nGet ready to Pin like a boss and watch your Google visibility soar! See you at the masterclass! 🚀📌 #PinterestMasterclass #PinLikeAPro #CollaborationNotCompetition #ConnectorKim #OpportunitysKnaaking \nGET YOUR TICKET HERE\nUPGRADE TO VIP!
URL:https://pwow.org/event/pinterest-auto-pin-masterclass-june-19-2024/
LOCATION:Zoom
CATEGORIES:Business Training/Coaching,Workshops
ATTACH;FMTTYPE=image/png:https://pwow.org/wp-content/uploads/2024/05/Pinterest-Masterclass.6.19.24.png
ORGANIZER;CN="Kim Knaak":MAILTO:pwowmke@gmail.com
END:VEVENT
END:VCALENDAR