BEGIN:VCALENDAR
VERSION:2.0
PRODID:-//Professional Women of Wisconsin - ECPv6.15.20//NONSGML v1.0//EN
CALSCALE:GREGORIAN
METHOD:PUBLISH
X-ORIGINAL-URL:https://pwow.org
X-WR-CALDESC:Events for Professional Women of Wisconsin
REFRESH-INTERVAL;VALUE=DURATION:PT1H
X-Robots-Tag:noindex
X-PUBLISHED-TTL:PT1H
BEGIN:VTIMEZONE
TZID:America/Chicago
BEGIN:DAYLIGHT
TZOFFSETFROM:-0600
TZOFFSETTO:-0500
TZNAME:CDT
DTSTART:20240310T080000
END:DAYLIGHT
BEGIN:STANDARD
TZOFFSETFROM:-0500
TZOFFSETTO:-0600
TZNAME:CST
DTSTART:20241103T070000
END:STANDARD
BEGIN:DAYLIGHT
TZOFFSETFROM:-0600
TZOFFSETTO:-0500
TZNAME:CDT
DTSTART:20250309T080000
END:DAYLIGHT
BEGIN:STANDARD
TZOFFSETFROM:-0500
TZOFFSETTO:-0600
TZNAME:CST
DTSTART:20251102T070000
END:STANDARD
BEGIN:DAYLIGHT
TZOFFSETFROM:-0600
TZOFFSETTO:-0500
TZNAME:CDT
DTSTART:20260308T080000
END:DAYLIGHT
BEGIN:STANDARD
TZOFFSETFROM:-0500
TZOFFSETTO:-0600
TZNAME:CST
DTSTART:20261101T070000
END:STANDARD
BEGIN:DAYLIGHT
TZOFFSETFROM:-0600
TZOFFSETTO:-0500
TZNAME:CDT
DTSTART:20270314T080000
END:DAYLIGHT
BEGIN:STANDARD
TZOFFSETFROM:-0500
TZOFFSETTO:-0600
TZNAME:CST
DTSTART:20271107T070000
END:STANDARD
END:VTIMEZONE
BEGIN:VEVENT
DTSTART;TZID=America/Chicago:20260207T120000
DTEND;TZID=America/Chicago:20260207T143000
DTSTAMP:20260424T024441
CREATED:20260106T145646Z
LAST-MODIFIED:20260106T145646Z
UID:5768-1770465600-1770474600@pwow.org
SUMMARY:Watercolor Workshop
DESCRIPTION:Join us for a bit of fun with watercolors! No experience necessary\, all supplies included\, and all skill levels welcome. Individual tickets are $85. Both workshop tickets are $125 (bundle and save!) \nWatercolor Basics: Saturday January 31st\, Noon-2:30 \nIn this workshop\, we explore the possibilities of glorious watercolors. We will begin by learning and practicing various techniques\, and end with creating a final piece you can frame and be proud of. I’ll have reference photos available but feel free to bring your own as well. \nWatercolor + Mixed Media: Saturday February 7th\, Noon-2:30 \nI’ll show you how to incorporate other materials into watercolor paintings such as gold leaf\, collage paper\, markers\, charcoal\, water soluble graphite\, etc. I’ll have all materials available for you to use\, but if you wish\, you can bring your own things too like scraps of paper you find interesting or plants that you have pressed and dried\, or even thin\, lightweight objects. \nBundle & Save on tickets to BOTH WORKSHOPS. \nThis is our most popular and recommended option. These workshops are designed to be similar in a way that we can build on our skills\, but different enough to have a fresh experience each time. \n***Workshops will be hosted at Sarah’s home studio (above ground this time! If you know\, you know). Please arrive promptly to 2715 N 68th St. Milwaukee WI and be ready to have a great time.
URL:https://pwow.org/event/watercolor-workshop/
LOCATION:Sarah Kelly Hansen’s Studio\, 2715 N 68th St\, Milwaukee\, WI\, 53210\, United States
CATEGORIES:Workshops
ATTACH;FMTTYPE=image/jpeg:https://pwow.org/wp-content/uploads/2025/12/IMG_2831.jpeg
ORGANIZER;CN="Sarah Kelly Hansen":MAILTO:sarah@sarahkellyhansen.com
END:VEVENT
BEGIN:VEVENT
DTSTART;TZID=America/Chicago:20250610T100000
DTEND;TZID=America/Chicago:20250610T120000
DTSTAMP:20260424T024441
CREATED:20250528T142810Z
LAST-MODIFIED:20250528T151445Z
UID:4738-1749549600-1749556800@pwow.org
SUMMARY:Elder Advisors Law - Workshop
DESCRIPTION:A free educational workshop to discuss Estate Planning and Elder Law.
URL:https://pwow.org/event/elder-advisors-law-workshop-3/
LOCATION:Elder Advisors Law – Wales\, 450 N. Wales Rd.\, Wales\, WI\, 53183
CATEGORIES:Community,Workshops
ATTACH;FMTTYPE=image/jpeg:https://pwow.org/wp-content/uploads/2025/05/Wales-Workshop-Info-conv-1.jpeg
END:VEVENT
BEGIN:VEVENT
DTSTART;TZID=America/Chicago:20250527T173000
DTEND;TZID=America/Chicago:20250527T190000
DTSTAMP:20260424T024441
CREATED:20250528T141615Z
LAST-MODIFIED:20250528T151311Z
UID:4698-1748367000-1748372400@pwow.org
SUMMARY:Elder Advisors Law - Workshop
DESCRIPTION:A free educational workshop to discuss Estate Planning and Elder Law.
URL:https://pwow.org/event/elder-advisors-law-workshop-2/
LOCATION:Elder Advisors Law – Wales\, 450 N. Wales Rd.\, Wales\, WI\, 53183
CATEGORIES:Community,Workshops
ATTACH;FMTTYPE=image/jpeg:https://pwow.org/wp-content/uploads/2025/05/Wales-Workshop-Info-conv-1.jpeg
END:VEVENT
END:VCALENDAR