BEGIN:VCALENDAR
VERSION:2.0
PRODID:-//Professional Women of Wisconsin - ECPv6.15.20//NONSGML v1.0//EN
CALSCALE:GREGORIAN
METHOD:PUBLISH
X-ORIGINAL-URL:https://pwow.org
X-WR-CALDESC:Events for Professional Women of Wisconsin
REFRESH-INTERVAL;VALUE=DURATION:PT1H
X-Robots-Tag:noindex
X-PUBLISHED-TTL:PT1H
BEGIN:VTIMEZONE
TZID:America/Chicago
BEGIN:DAYLIGHT
TZOFFSETFROM:-0600
TZOFFSETTO:-0500
TZNAME:CDT
DTSTART:20240310T080000
END:DAYLIGHT
BEGIN:STANDARD
TZOFFSETFROM:-0500
TZOFFSETTO:-0600
TZNAME:CST
DTSTART:20241103T070000
END:STANDARD
BEGIN:DAYLIGHT
TZOFFSETFROM:-0600
TZOFFSETTO:-0500
TZNAME:CDT
DTSTART:20250309T080000
END:DAYLIGHT
BEGIN:STANDARD
TZOFFSETFROM:-0500
TZOFFSETTO:-0600
TZNAME:CST
DTSTART:20251102T070000
END:STANDARD
BEGIN:DAYLIGHT
TZOFFSETFROM:-0600
TZOFFSETTO:-0500
TZNAME:CDT
DTSTART:20260308T080000
END:DAYLIGHT
BEGIN:STANDARD
TZOFFSETFROM:-0500
TZOFFSETTO:-0600
TZNAME:CST
DTSTART:20261101T070000
END:STANDARD
END:VTIMEZONE
BEGIN:VEVENT
DTSTART;TZID=America/Chicago:20251101T140000
DTEND;TZID=America/Chicago:20251101T150000
DTSTAMP:20260423T181533
CREATED:20251028T151154Z
LAST-MODIFIED:20251028T151154Z
UID:5477-1762005600-1762009200@pwow.org
SUMMARY:Royal Caribbean Travel Talk
DESCRIPTION:We would like you to join us for an afternoon with Jon G.\, part of the Royal Caribbean Cruise Line team.\nNo commitments\, just a fun and relaxing afternoon.\nSaturday\, November 1\, 2025 from 2-3 PM\, in Mukwonago\, at the Waukesha State Bank – Community Room.\nDiscover the excitement of Royal Caribbean’s Ultimate Destinations\, and explore their lineup of the world’s boldest fleet and best vacations – packed with unforgettable experiences\, record-breaking thrills\, and sun-soaked chills. The boldest adventures at sea are waiting for you. Come explore how to turn your next getaway into a memory-making vacation.\nAttendees will enjoy access to an exclusive cruise offer and the chance to win door prizes.\nLimited Availability. Registration is Required.
URL:https://pwow.org/event/royal-caribbean-travel-talk/
LOCATION:Waukesha State Bank\, 1160 N Rochester St\, Mukwonago\, WI\, 53149\, United States
CATEGORIES:Travel
ATTACH;FMTTYPE=image/jpeg:https://pwow.org/wp-content/uploads/2025/10/RCCL_TravelTalk_110125_SqSocial.jpg
ORGANIZER;CN="Cheryl Howard":MAILTO:cheryl.howard@cruiseplanners.com
END:VEVENT
BEGIN:VEVENT
DTSTART;TZID=America/Chicago:20251005T140000
DTEND;TZID=America/Chicago:20251005T150000
DTSTAMP:20260423T181533
CREATED:20250911T135158Z
LAST-MODIFIED:20250911T135158Z
UID:5183-1759672800-1759676400@pwow.org
SUMMARY:Discover Alaska: A Cruise And Land Travel Talk
DESCRIPTION:Join us\, Cheryl & Jim Howard for a free Discover Alaska Travel Talk\, at Waukesha State Bank’s Community Room\, in Mukwonago. We will be sharing tips and insights on how to experience the beauty of Alaska\, whether by land or sea. Special cruise offers and door prizes. Get ready to explore Alaska!\nLimited Availability. Registration is Required.\nRegister today!
URL:https://pwow.org/event/discover-alaska-a-cruise-and-land-travel-talk-2/
LOCATION:WI
CATEGORIES:Travel
ATTACH;FMTTYPE=image/png:https://pwow.org/wp-content/uploads/2025/09/DiscoverAlaska1025_040625.png
ORGANIZER;CN="Cheryl Howard":MAILTO:cheryl.howard@cruiseplanners.com
END:VEVENT
BEGIN:VEVENT
DTSTART;TZID=America/Chicago:20250610T183000
DTEND;TZID=America/Chicago:20250610T193000
DTSTAMP:20260423T181533
CREATED:20250408T152324Z
LAST-MODIFIED:20250408T152324Z
UID:4314-1749580200-1749583800@pwow.org
SUMMARY:FREE Travel Talk with Viking Ocean and River Cruises
DESCRIPTION:Viking® offers enriching river\, ocean\, expedition and Mississippi voyage experiences on board elegant\, state-of-the art ships. With Viking\, guests will journey on thoughtfully curated journeys across the globe—from Europe to South America\, Asia and beyond\, as well as closer-to-home destinations like Alaska and the Mississippi River.\nJoin us for a FREE Travel Talk with the Viking Representative at Crush Wine & Social in Mukwonago.\nThis exclusive event is an opportunity for you to learn about Viking’s destination focused culturally immersive travel experiences.\nLimited availability.\nRegistration is required.\nTasty small bites and one glass of wine included with FREE registration.
URL:https://pwow.org/event/free-travel-talk-with-viking-ocean-and-river-cruises/
LOCATION:Crush Wine & Social Bar\, 110 Main St\, Mukwonago\, WI\, 53149\, United States
CATEGORIES:Travel
ATTACH;FMTTYPE=image/jpeg:https://pwow.org/wp-content/uploads/2025/04/Viking_2100x1080.jpg
ORGANIZER;CN="Cheryl Howard":MAILTO:cheryl.howard@cruiseplanners.com
END:VEVENT
BEGIN:VEVENT
DTSTART;TZID=America/Chicago:20250424T183000
DTEND;TZID=America/Chicago:20250424T193000
DTSTAMP:20260423T181533
CREATED:20250329T164409Z
LAST-MODIFIED:20250329T164409Z
UID:4157-1745519400-1745523000@pwow.org
SUMMARY:FREE Travel Talk with Globus
DESCRIPTION:If you’re looking to see the world\, or to explore its off-the-beaten-path and authentic locales\, Globus will introduce you to tours with fascinating cultures\, people\, traditions\, and cuisine you’ve yet to discover. Join Cheryl & Jim Howard of Cruise Planners for a FREE Travel Talk with the Globus Brands Representative at Crush Wine Bar in Waukesha. This exclusive event is an opportunity for you to learn about touring with Globus\, what sets them apart\, hear unique stories and experiences that make their tours seamless\, stress-free\, and memorable. \nDate: Thursday\, April 24\nTime: 6:30-7:30 PM\nLocation: Crush Wine Bar & Shop\, Waukesha\nLimited availability. Registration is required.\nTasty small bites and one glass of wine included with FREE registration. \nThe world is full of remarkable places. To see them is just to see them. To tour them is to truly experience them. From the classic tours that made Globus famous to new Small Group Discovery tours\, passion-packed Globus Choice vacations\, independent touring\, off-season and off-the-beaten-path journey\, your coach awaits! Open your heart to amazing on a tour that takes you beyond the guidebooks. No snags. No stress. Just the journey of a lifetime.
URL:https://pwow.org/event/free-travel-talk-with-globus/
LOCATION:Crush Wine Bar\, 378 W Main Street\, Waukesha\, WI
CATEGORIES:Travel
ATTACH;FMTTYPE=image/jpeg:https://pwow.org/wp-content/uploads/2025/03/Globus_2100x1080.jpg
ORGANIZER;CN="Cheryl Howard":MAILTO:cheryl.howard@cruiseplanners.com
END:VEVENT
END:VCALENDAR