BEGIN:VCALENDAR
VERSION:2.0
PRODID:-//Professional Women of Wisconsin - ECPv6.15.20//NONSGML v1.0//EN
CALSCALE:GREGORIAN
METHOD:PUBLISH
X-WR-CALNAME:Professional Women of Wisconsin
X-ORIGINAL-URL:https://pwow.org
X-WR-CALDESC:Events for Professional Women of Wisconsin
REFRESH-INTERVAL;VALUE=DURATION:PT1H
X-Robots-Tag:noindex
X-PUBLISHED-TTL:PT1H
BEGIN:VTIMEZONE
TZID:America/Chicago
BEGIN:DAYLIGHT
TZOFFSETFROM:-0600
TZOFFSETTO:-0500
TZNAME:CDT
DTSTART:20240310T080000
END:DAYLIGHT
BEGIN:STANDARD
TZOFFSETFROM:-0500
TZOFFSETTO:-0600
TZNAME:CST
DTSTART:20241103T070000
END:STANDARD
BEGIN:DAYLIGHT
TZOFFSETFROM:-0600
TZOFFSETTO:-0500
TZNAME:CDT
DTSTART:20250309T080000
END:DAYLIGHT
BEGIN:STANDARD
TZOFFSETFROM:-0500
TZOFFSETTO:-0600
TZNAME:CST
DTSTART:20251102T070000
END:STANDARD
BEGIN:DAYLIGHT
TZOFFSETFROM:-0600
TZOFFSETTO:-0500
TZNAME:CDT
DTSTART:20260308T080000
END:DAYLIGHT
BEGIN:STANDARD
TZOFFSETFROM:-0500
TZOFFSETTO:-0600
TZNAME:CST
DTSTART:20261101T070000
END:STANDARD
BEGIN:DAYLIGHT
TZOFFSETFROM:-0600
TZOFFSETTO:-0500
TZNAME:CDT
DTSTART:20270314T080000
END:DAYLIGHT
BEGIN:STANDARD
TZOFFSETFROM:-0500
TZOFFSETTO:-0600
TZNAME:CST
DTSTART:20271107T070000
END:STANDARD
END:VTIMEZONE
BEGIN:VEVENT
DTSTART;VALUE=DATE:20250505
DTEND;VALUE=DATE:20250506
DTSTAMP:20260425T161252
CREATED:20250403T151024Z
LAST-MODIFIED:20250403T151024Z
UID:4269-1746403200-1746489599@pwow.org
SUMMARY:Welcome to the Stage book release
DESCRIPTION:Sara Deacon is releasing her first book! Available in ebook and paperback on May 5! \nBuy the book\, get your bonus materials and share with your entrepreneur friends!
URL:https://pwow.org/event/welcome-to-the-stage-book-release/
LOCATION:Milwaukee\, WI or Online
CATEGORIES:Book Release
ATTACH;FMTTYPE=image/png:https://pwow.org/wp-content/uploads/2025/04/Screenshot_20250326-081117.png
ORGANIZER;CN="Sara Deacon":MAILTO:saradeacon@gmail.com
END:VEVENT
BEGIN:VEVENT
DTSTART;TZID=America/Chicago:20250509T150000
DTEND;TZID=America/Chicago:20250509T173000
DTSTAMP:20260425T161252
CREATED:20250326T171014Z
LAST-MODIFIED:20250424T131433Z
UID:4083-1746802800-1746811800@pwow.org
SUMMARY:Grand Opening Ribbon Cutting at Connect Chiropractic
DESCRIPTION:Celebrate our brand new\, Neurological Chiropractic office in Oak Creek on 140 E Rawson Ave. \nOur Ribbon cutting event will be on May 9th from 3:00 to 5:30 and we will have food trucks\, health vendors and oodles of raffle prizes to win. \nWe hope to see you there.
URL:https://pwow.org/event/grand-opening-ribbon-cutting-at-connect-chiropractic/
LOCATION:Connect Chiropractic – Oak Creek\, 140 E Rawson Ave #103\, Oak Creek\, WI\, 53154\, United States
CATEGORIES:Community,Connect,Grand Opening,Networking,Special Event
ATTACH;FMTTYPE=image/png:https://pwow.org/wp-content/uploads/2025/03/Connect-Ribbon-Cutting.png
ORGANIZER;CN="Kimberly Wolverton":MAILTO:Outreach@goconnectchiro.com
END:VEVENT
BEGIN:VEVENT
DTSTART;TZID=America/Chicago:20250512T180000
DTEND;TZID=America/Chicago:20250512T203000
DTSTAMP:20260425T161252
CREATED:20250411T131636Z
LAST-MODIFIED:20250411T131636Z
UID:4331-1747072800-1747081800@pwow.org
SUMMARY:Toast to a Cure Beer & Wine Tasting
DESCRIPTION:Join us at Toast to a Cure: Beer & Wine Tasting in honor of Levi on Monday\, May 12\, for a fun night at Senor Luna. All while supporting a great cause! Event proceeds and donations benefit Cure Sanfilippo Foundation in honor of Levi. \nEnjoy a night of beer-tasting\, wine-tasting\, a 5oz. “Toast to a Cure” keepsake glass\, Taco bar sponsored by Senor Luna\, Plinko\, door prizes and more! \nSanfilippo Syndrome is a terminal\, neurodegenerative disease that causes indviduals to lose all the skills they’ve gained. These patients suffer seizures and movement disorders\, and experience pain and suffering. Currently\, there is no FDA-approved treatment or cure. \nYour participation in this event helps fund research to find a treatment or cure for individuals with Sanfilippo Syndrome like Levi Ormeroid and his family. \nContact Team Levi at Cure4LeviEvents@gmail.com if you have any questions! \nProceeds of the event benefit Cure Sanfilippo Foundation\, the nation’s largest non-profit for Sanfilippo Syndrome. The Foundation funded more than 50 research projects\, including three clinical trials treating more than 40 children. Its mission is to advocate for and fund research directed towards a cure and treatment options for patients with Sanfilippo Syndrome. \nLearn more about Sanfilippo Syndrome and the Foundation at CureSanfilippoFoundation.org.
URL:https://pwow.org/event/toast-to-a-cure-beer-wine-tasting/
LOCATION:Senor Luna\, 1901 S. Calhoun Rd.\, New Berlin\, WI\, 53146\, United States
CATEGORIES:Benefit
ATTACH;FMTTYPE=image/png:https://pwow.org/wp-content/uploads/2025/04/Toast-for-a-Cure.png
END:VEVENT
BEGIN:VEVENT
DTSTART;TZID=America/Chicago:20250521T180000
DTEND;TZID=America/Chicago:20250521T200000
DTSTAMP:20260425T161252
CREATED:20250422T133033Z
LAST-MODIFIED:20250422T133033Z
UID:4442-1747850400-1747857600@pwow.org
SUMMARY:Welcome to the Stage Book Release Party
DESCRIPTION:Let’s kick off the launch of my new book with an epic event of our own! \nWelcome to the Stage: The 360° Approach to Hosting Events Like a Pro is available as of May 5th\, 2025! \nWriting a book is no small feat. I had so much support and encouragement from my friends and family along the way\, and I want to make sure that we all celebrate the publication of this book together! \nJoin me\, Sara Deacon\, for some networking\, a few words of gratitude and celebration\, a chance to win some cool prizes and a whole lot of fun! I’ll be selling and signing paperback copies of the book\, so bring your friends\, family and any entrepreneur you know who wants to leverage epic events to grow their business! \nIt’s free. There will be snacks.\nStop by for a few minutes or stay for the duration. \nI can’t wait to party with you!
URL:https://pwow.org/event/welcome-to-the-stage-book-release-party/
LOCATION:The Celebration Center\, 13780 W Greenfield Ave #778\, Brookfield\, WI\, 53005\, United States
CATEGORIES:Book Release,Networking
ATTACH;FMTTYPE=image/png:https://pwow.org/wp-content/uploads/2025/04/Youre-Invited.png
ORGANIZER;CN="Sara Deacon":MAILTO:saradeacon@gmail.com
END:VEVENT
BEGIN:VEVENT
DTSTART;TZID=America/Chicago:20250614T100000
DTEND;TZID=America/Chicago:20250614T120000
DTSTAMP:20260425T161252
CREATED:20250528T143657Z
LAST-MODIFIED:20250528T143657Z
UID:4705-1749895200-1749902400@pwow.org
SUMMARY:Sacred Space: An Anxiety and Trauma-Informed Healing Event for Women
DESCRIPTION:Are you tired of anxiety running the show? You’re not broken\, you’re stuck in survival. And it’s not your fault. \nIf you’ve experienced anxiety\, overwhelm\, or interpersonal trauma\, your nervous system can stay stuck in overdrive\, always alert\, exhausted\, and overwhelmed. This constant state of tension can leave you exhausted and disconnected from your body\, your loved ones\, and your true self.\nSacred Space is a healing event for women who are ready to stop spiraling\, feel safe in their bodies\, and reclaim their lives from anxiety without shame\, blame\, or avoidance. \n—-\n📌 Join Us\n🎟️ Grab your tickets now! (Click the link on this post for more information and to get tickets)\n—- \n✨ You’ll Experience: \n🔥 FIRESIDE CHAT with Lynsey Retzlaff\, MSW\, LCSW of Lynsey Retzlaff Wellness\, LLC\nBREAKING FREE: REWRITING THE RULES SO ANXIETY DOESN’T RUN THE SHOW™ (45 min) \nLynsey combines trauma-informed expertise\, storytelling\, and practical tools to help you:\n– Understand why your anxiety isn’t “random”—it’s a signal from outdated emotional rules like:\n“I’m only safe if I’m in control.”\n“I have to stay quiet to keep connection in relationships.”\n“If I slow down\, everything will fall apart.” \n– Calm your body in under 5 minutes using nervous system tools\n– Develop emotional endurance to stay present through discomfort\n– Shift from spiraling to self-trust so you can show up confidently for your family\, your career\, and yourself. \n🧘‍♀️ TRAUMA-INFORMED YOGA SESSION with Mel Andrews of Rising Phoenix Yoga (30 min) \nA guided yoga practice in a way that prioritizes safety\, empowerment\, and choice. This approach is grounded in compassion\, and shifts the focus from performance and aesthetics to healing\, connection and presence.\n– Gently reconnect you to your body through breath and movement\n– Help you experience safety and agency in your own skin\n– Focus on compassion—not performance\n– Support nervous system regulation in a sustainable\, nurturing way \n🕯️ PLUS:\nConnection with like-hearted women who get it\nLight refreshments + Q&A\nA safe\, supportive atmosphere where you don’t have to perform or pretend \n📍 This Is For You If:\n– You live with anxiety or emotional overwhelm\n– You feel disconnected from your body\, emotions\, or identity\n– You’ve done “mindset work” but still feel stuck\n– You’re ready for practical strategies that feel safe\, empowering\, and sustainable\n– You want a rejuvenating space from kids and responsibilities! \n—-\n📌 Register today!\n🎟️ Grab your tickets now! (Click the link on this post for more information and to get tickets)
URL:https://pwow.org/event/sacred-space-an-anxiety-and-trauma-informed-healing-event-for-women/
LOCATION:Thirst Church\, 1260 Brown St\, Oconomowoc\, WI\, 53066\, United States
CATEGORIES:Community,Special Event,Workshops
ATTACH;FMTTYPE=image/jpeg:https://pwow.org/wp-content/uploads/2025/05/499212078_122177490446308082_260849505809815901_n.jpg
ORGANIZER;CN="Lynsey Retzlaff":MAILTO:contact@lynseyretzlaff.com
END:VEVENT
BEGIN:VEVENT
DTSTART;TZID=America/Chicago:20250916T170000
DTEND;TZID=America/Chicago:20250916T183000
DTSTAMP:20260425T161252
CREATED:20250909T183625Z
LAST-MODIFIED:20250909T183625Z
UID:5215-1758042000-1758047400@pwow.org
SUMMARY:Female Entrepreneurs Magazine Anniversary Party
DESCRIPTION:Welcome to the Female Entrepreneurs Magazine Anniversary Party! 🎉 Join us on September 16\, 2025 at 5:00 PM CST for a night of celebration and empowerment. Let’s toast to the incredible achievements of women in business and the inspiring stories we’ve shared throughout the years. This virtual event will be a fantastic opportunity to network\, learn\, and have fun together. Don’t miss out! See you there! 🥂 (5 PM Central Time) \nTuesday September 16 5pm-6:30pm CST \nPS – Kim Knaak was featured in this magazine in July and will also be in the September anniversary edition! \nRegister here👉🏼 https://www.eventbrite.com/e/female-entrepreneurs-magazine-anniversary-party-tickets-1653345714539
URL:https://pwow.org/event/female-entrepreneurs-magazine-anniversary-party/
CATEGORIES:Anniversary,Networking
ATTACH;FMTTYPE=image/jpeg:https://pwow.org/wp-content/uploads/2025/09/FEM-Anniversary.jpeg
ORGANIZER;CN="Female Entrepreneurs Magazine":MAILTO:femaleentrepreneursmagazine@gmail.com
END:VEVENT
BEGIN:VEVENT
DTSTART;TZID=America/Chicago:20251119T180000
DTEND;TZID=America/Chicago:20251119T200000
DTSTAMP:20260425T161252
CREATED:20251113T143702Z
LAST-MODIFIED:20251113T143702Z
UID:5605-1763575200-1763582400@pwow.org
SUMMARY:Open House at Connect Chiropractic (Wauwatosa) | November 19\, 2025
DESCRIPTION:Join us for our Open House at Connect Chiropractic in Wauwatosa. It will be a fun and relaxing way to connect with our doctors\, staff\, and community! Enjoy free food while you mingle\, explore local vendors\, and meet other health professionals. You will also have a chance to win door prizes! Whether you’re curious about chiropractic care or just want to support local businesses\, we can’t wait to welcome you!
URL:https://pwow.org/event/open-house-at-connect-chiropractic-wauwatosa-november-19-2025/
LOCATION:Connect Chiropractic – Wauwatosa\, 10702 W. Burleigh St.\, Wauwatosa\, WI\, 53222\, United States
CATEGORIES:Community,Connect,Networking,Open House,Shopping,Special Event
ATTACH;FMTTYPE=image/jpeg:https://pwow.org/wp-content/uploads/2025/11/Connect-Chiro-Open-House-Nov-19.jpg
ORGANIZER;CN="Connect Chiropractic":MAILTO:outreach@goconnectchiro.com
END:VEVENT
BEGIN:VEVENT
DTSTART;TZID=America/Chicago:20251218T170000
DTEND;TZID=America/Chicago:20251218T190000
DTSTAMP:20260425T161252
CREATED:20251112T225928Z
LAST-MODIFIED:20251112T225928Z
UID:5595-1766077200-1766084400@pwow.org
SUMMARY:Professional Women of WI (PWoW) | Holiday Networking | December 18\, 2025
DESCRIPTION:Registration Required for Reservation\nA non-refundable $5 registration fee is required to secure your spot. The event will run from 5pm-7pm – please be timely so the restaurant can accommodate our group meal orders. \n**Join us for our Holiday Event at Route 41 Bar & Grill** \nPWoW’s annual holiday dinner. It’s a great time for all of us to get together for dinner and drinks to celebrate another year of networking and building relationships. We will continue our tradition of a secret gift exchange. This event is focused on socializing and continuing to foster the relationships we’ve been building across our meetings throughout the year. If you haven’t attended an event in the past\, you are still welcome to join us! \nKaraoke lovers – Route 41 has Karaoke on Thursday evenings so feel free to stay for the fun – more details to follow. \nNetworking – Gift Exchange – Dinner – Cocktails – Connections \nBring a wrapped gift valued $20 to join our Secret Gift Exchange at the event. Please make sure all gifts are new\, in the original package and wrapped. Let’s add excitement with surprises and make the celebration memorable for all attendees! \nAll attendees are asked to make a purchase to support the restaurant! \nRoute 41 Bar & Grill\n8900 S. 27th St.\nOak Creek\, WI 53154 \nAbout PWoW \nOur goal is to offer structured meetings with a diverse group of professional women on a monthly basis. We welcome ALL women that are looking to connect with likeminded individuals who are interested in building relationships that will help them grow personally and professionally. We strongly believe in building relationships\, and truly believe that it’s not a competition but an opportunity to collaborate. \nWe are looking forward to seeing our members and honored guests. Please feel free to register a friend who you believe will benefit from and be a contribution to this networking group. \n  \n***This is not the only platform we are advertising this event. This is not an accurate count of attendees. *** \n#PWoW #PWoWMKE #Networking #WomenInBusiness #WomensNetworking #SmallBusiness #CollaborationNotCompetition
URL:https://pwow.org/event/professional-women-of-wi-pwow-holiday-networking-december-18-2025/
LOCATION:Route 41 Bar & Grill\, 8900 S. 27th St.\, Oak Creek\, 53154\, United States
CATEGORIES:Connect,Dinner,Holiday,Networking,PWOW,Special Event
ATTACH;FMTTYPE=image/jpeg:https://pwow.org/wp-content/uploads/2025/11/471191552_10225677311511315_1200719236356004448_n.jpg
ORGANIZER;CN="Kim Knaak":MAILTO:pwowmke@gmail.com
END:VEVENT
BEGIN:VEVENT
DTSTART;TZID=America/Chicago:20260114T193000
DTEND;TZID=America/Chicago:20260114T203000
DTSTAMP:20260425T161252
CREATED:20260112T114743Z
LAST-MODIFIED:20260112T114743Z
UID:5862-1768419000-1768422600@pwow.org
SUMMARY:Winning Wednesday
DESCRIPTION:Every wonder what can a Mary Kay Business offer to business minded Woman? If that is you hop on a zoom and enjoy the fun energy as you learn more about Mary Kay. \nLet me know if you are hopping on so I can get your feedback of the event. \nRhonda\n414-534-7639
URL:https://pwow.org/event/winning-wednesday/
LOCATION:Zoom
CATEGORIES:Giveaway
ATTACH;FMTTYPE=image/jpeg:https://pwow.org/wp-content/uploads/2026/01/Epic-Winning-Wednesday-_2026-01-10.jpg
ORGANIZER;CN="Rhonda Deaver":MAILTO:rhonda@rockstarmk.com
END:VEVENT
END:VCALENDAR