BEGIN:VCALENDAR
VERSION:2.0
PRODID:-//Professional Women of Wisconsin - ECPv6.15.20//NONSGML v1.0//EN
CALSCALE:GREGORIAN
METHOD:PUBLISH
X-ORIGINAL-URL:https://pwow.org
X-WR-CALDESC:Events for Professional Women of Wisconsin
REFRESH-INTERVAL;VALUE=DURATION:PT1H
X-Robots-Tag:noindex
X-PUBLISHED-TTL:PT1H
BEGIN:VTIMEZONE
TZID:UTC
BEGIN:STANDARD
TZOFFSETFROM:+0000
TZOFFSETTO:+0000
TZNAME:UTC
DTSTART:20230101T000000
END:STANDARD
END:VTIMEZONE
BEGIN:VEVENT
DTSTART;TZID=UTC:20240718T160000
DTEND;TZID=UTC:20240718T180000
DTSTAMP:20260423T191139
CREATED:20240624T183821Z
LAST-MODIFIED:20240624T183821Z
UID:748-1721318400-1721325600@pwow.org
SUMMARY:Professional Women of WI (PWoW) | 3rd Thurs | Networking | July 18\, 2024
DESCRIPTION:PWoW’s North Shore cocktail networking event! \nWe will meet at Scout Wine in Shorewood from 4pm-6pm the 3rd Thursday monthly. Appetizers provided with ticket purchase. \nOur goal is to offer structured meetings with a diverse group of professional women on a monthly basis. We welcome ALL women that are looking to connect with likeminded individuals who are interested in building relationships that will help them grow personally and professionally. We strongly believe in building relationships\, and truly believe that it’s not a competition but an opportunity to collaborate. \nWe are looking forward to seeing our members and honored guests. Please feel free to invite a friend who you believe will benefit from and be a contribution to this networking group. We ask that all attendees purchase a beverage or food item to support the the local establishment allowing us to use their space for free. \n***This is not the only platform we are advertising this event. This is not an accurate count of attendees. *** \n#PWoW #PWoWMKE #Networking #WomenInBusiness #WomensNetworking #SmallBusiness #CollaborationNotCompetition
URL:https://pwow.org/event/professional-women-of-wi-pwow-3rd-thurs-networking-july-18-2024/
LOCATION:Scout Wine Merchants\, 4512 N. Oakland Avenue\, Shorewood\, WI\, 53211\, United States
CATEGORIES:Cocktail Hour,Networking,PWOW
ATTACH;FMTTYPE=image/jpeg:https://pwow.org/wp-content/uploads/2024/01/Scout-Wine-Merchants.jpg
ORGANIZER;CN="Kim Knaak":MAILTO:pwowmke@gmail.com
END:VEVENT
BEGIN:VEVENT
DTSTART;TZID=UTC:20240711T113000
DTEND;TZID=UTC:20240711T130000
DTSTAMP:20260423T191139
CREATED:20240624T184404Z
LAST-MODIFIED:20240701T130518Z
UID:747-1720697400-1720702800@pwow.org
SUMMARY:Professional Women of WI (PWoW) | 2nd Thurs | Networking | July 11\, 2024
DESCRIPTION:PWoW’s monthly lunch in-person networking! \nWe will meet at New Berlin Ale House from 11:30-1pm the 2nd Thursday monthly. USE THE WEST ENTRANCE \nOur goal is to offer structured meetings with a diverse group of professional women on a monthly basis. We welcome ALL women that are looking to connect with likeminded individuals who are interested in building relationships that will help them grow personally and professionally. We strongly believe in building relationships\, and truly believe that it’s not a competition but an opportunity to collaborate. \nWe are looking forward to seeing our members and honored guests. Please feel free to invite a friend who you believe will benefit from and be a contribution to this networking group. \n***This is not the only platform we are advertising this event. This is not an accurate count of attendees. *** \n#PWoW #PWoWMKE #Networking #WomenInBusiness #WomensNetworking #SmallBusiness #CollaborationNotCompetition
URL:https://pwow.org/event/professional-women-of-wi-pwow-2nd-thurs-networking-july-11-2024/
LOCATION:New Berlin Ale House\, 16000 W Cleveland Ave\, New Berlin\, WI\, 53151\, United States
CATEGORIES:Luncheon,Networking,PWOW
ATTACH;FMTTYPE=image/png:https://pwow.org/wp-content/uploads/2024/01/New-Berlin-Ale-House.png
ORGANIZER;CN="Kim Knaak":MAILTO:pwowmke@gmail.com
END:VEVENT
BEGIN:VEVENT
DTSTART;TZID=UTC:20240625T180000
DTEND;TZID=UTC:20240625T200000
DTSTAMP:20260423T191139
CREATED:20240514T190926Z
LAST-MODIFIED:20240514T190926Z
UID:699-1719338400-1719345600@pwow.org
SUMMARY:Professional Women of WI (PWoW) | 4th Tues | Networking | June 25\, 2024
DESCRIPTION:**We will have full menu available for all – please bring cash to pay for your meal & drinks** \nOur goal is to offer structured meetings with a diverse group of professional women on a monthly basis. We welcome ALL women that are looking to connect with likeminded individuals who are interested in building relationships that will help them grow personally and professionally. We strongly believe in building relationships\, and truly believe that it’s not a competition but an opportunity to collaborate. \nWe are looking for donations for giveaways at the meeting. It’s a great way to share for your product and/or service with the group. A donation does not have to be anything expensive but something you feel someone would enjoy. A few examples of items that were donated in previous meetings: A bottle of wine\, candle\, box of candy\, notepad\, book\, $5.00 gift card to Starbucks\, etc. We have always enjoyed the giveaways at the end of the meeting\, so we are looking forward to carrying on the tradition. \nWe are looking forward to seeing our members and honored guests. Please feel free to invite a friend who you believe will benefit from and be a contribution to this networking group. \n***This is not the only platform we are advertising this event. This is not an accurate count of attendees. *** \n#PWoW #PWoWMKE #Networking #WomenInBusiness #WomensNetworking #SmallBusiness #CollaborationNotCompetition
URL:https://pwow.org/event/professional-women-of-wi-pwow-4th-tues-networking-june-25-2024/
LOCATION:Los Mariachis Mexican Restaurant\, 4305 W Layton Ave.\, Greenfield\, WI\, 53220\, United States
CATEGORIES:Dinner,Networking,PWOW
ATTACH;FMTTYPE=image/png:https://pwow.org/wp-content/uploads/2024/01/Los-Mariachis.png
ORGANIZER;CN="Kim Knaak":MAILTO:pwowmke@gmail.com
END:VEVENT
BEGIN:VEVENT
DTSTART;TZID=UTC:20240620T160000
DTEND;TZID=UTC:20240620T180000
DTSTAMP:20260423T191140
CREATED:20240422T192315Z
LAST-MODIFIED:20240604T183229Z
UID:678-1718899200-1718906400@pwow.org
SUMMARY:Professional Women of WI (PWoW) | 3rd Thurs | Networking | June 20\, 2024
DESCRIPTION:PWoW’s North Shore cocktail networking event! \nWe will meet at Scout Wine in Shorewood from 4pm-6pm the 3rd Thursday monthly. Appetizers provided with ticket purchase. \nOur goal is to offer structured meetings with a diverse group of professional women on a monthly basis. We welcome ALL women that are looking to connect with likeminded individuals who are interested in building relationships that will help them grow personally and professionally. We strongly believe in building relationships\, and truly believe that it’s not a competition but an opportunity to collaborate. \nWe are looking forward to seeing our members and honored guests. Please feel free to invite a friend who you believe will benefit from and be a contribution to this networking group. We ask that all attendees purchase a beverage or food item to support the the local establishment allowing us to use their space for free. \n***This is not the only platform we are advertising this event. This is not an accurate count of attendees. *** \n#PWoW #PWoWMKE #Networking #WomenInBusiness #WomensNetworking #SmallBusiness #CollaborationNotCompetition
URL:https://pwow.org/event/professional-women-of-wi-pwow-3rd-thurs-networking-june-20-2024/
LOCATION:Scout Wine Merchants\, 4512 N. Oakland Avenue\, Shorewood\, WI\, 53211\, United States
CATEGORIES:Cocktail Hour,Networking,PWOW
ATTACH;FMTTYPE=image/jpeg:https://pwow.org/wp-content/uploads/2024/01/Scout-Wine-Merchants.jpg
ORGANIZER;CN="Kim Knaak":MAILTO:pwowmke@gmail.com
END:VEVENT
BEGIN:VEVENT
DTSTART;TZID=UTC:20240613T113000
DTEND;TZID=UTC:20240613T130000
DTSTAMP:20260423T191140
CREATED:20240514T190614Z
LAST-MODIFIED:20240514T190614Z
UID:700-1718278200-1718283600@pwow.org
SUMMARY:Professional Women of WI (PWoW) | 2nd Thurs | Networking | June 13\, 2024
DESCRIPTION:PWoW’s monthly lunch in-person networking! \nWe will meet at New Berlin Ale House from 11:30-1pm the 2nd Thursday monthly. USE THE WEST ENTRANCE \nOur goal is to offer structured meetings with a diverse group of professional women on a monthly basis. We welcome ALL women that are looking to connect with likeminded individuals who are interested in building relationships that will help them grow personally and professionally. We strongly believe in building relationships\, and truly believe that it’s not a competition but an opportunity to collaborate. \nWe are looking forward to seeing our members and honored guests. Please feel free to invite a friend who you believe will benefit from and be a contribution to this networking group. \n***This is not the only platform we are advertising this event. This is not an accurate count of attendees. *** \n#PWoW #PWoWMKE #Networking #WomenInBusiness #WomensNetworking #SmallBusiness #CollaborationNotCompetition
URL:https://pwow.org/event/professional-women-of-wi-pwow-2nd-thurs-networking-june-13-2024/
LOCATION:New Berlin Ale House\, 16000 W Cleveland Ave\, New Berlin\, WI\, 53151\, United States
CATEGORIES:Luncheon,Networking,PWOW
ATTACH;FMTTYPE=image/png:https://pwow.org/wp-content/uploads/2024/01/New-Berlin-Ale-House.png
ORGANIZER;CN="Kim Knaak":MAILTO:pwowmke@gmail.com
END:VEVENT
BEGIN:VEVENT
DTSTART;TZID=UTC:20240528T180000
DTEND;TZID=UTC:20240528T200000
DTSTAMP:20260423T191140
CREATED:20240422T192006Z
LAST-MODIFIED:20240422T192006Z
UID:677-1716919200-1716926400@pwow.org
SUMMARY:Professional Women of WI (PWoW) | 4th Tues | Networking | May 28\, 2024
DESCRIPTION:**We will have full menu available for all – please bring cash to pay for your meal & drinks** \nOur goal is to offer structured meetings with a diverse group of professional women on a monthly basis. We welcome ALL women that are looking to connect with likeminded individuals who are interested in building relationships that will help them grow personally and professionally. We strongly believe in building relationships\, and truly believe that it’s not a competition but an opportunity to collaborate. \nWe are looking for donations for giveaways at the meeting. It’s a great way to share for your product and/or service with the group. A donation does not have to be anything expensive but something you feel someone would enjoy. A few examples of items that were donated in previous meetings: A bottle of wine\, candle\, box of candy\, notepad\, book\, $5.00 gift card to Starbucks\, etc. We have always enjoyed the giveaways at the end of the meeting\, so we are looking forward to carrying on the tradition. \nWe are looking forward to seeing our members and honored guests. Please feel free to invite a friend who you believe will benefit from and be a contribution to this networking group. \n***This is not the only platform we are advertising this event. This is not an accurate count of attendees. *** \n#PWoW #PWoWMKE #Networking #WomenInBusiness #WomensNetworking #SmallBusiness #CollaborationNotCompetition
URL:https://pwow.org/event/professional-women-of-wi-pwow-4th-tues-networking-may-28-2024/
LOCATION:Los Mariachis Mexican Restaurant\, 4305 W Layton Ave.\, Greenfield\, WI\, 53220\, United States
CATEGORIES:Dinner,Networking,PWOW
ATTACH;FMTTYPE=image/png:https://pwow.org/wp-content/uploads/2024/01/Los-Mariachis.png
ORGANIZER;CN="Kim Knaak":MAILTO:pwowmke@gmail.com
END:VEVENT
BEGIN:VEVENT
DTSTART;TZID=UTC:20240509T113000
DTEND;TZID=UTC:20240509T130000
DTSTAMP:20260423T191140
CREATED:20240422T191736Z
LAST-MODIFIED:20240422T191736Z
UID:676-1715254200-1715259600@pwow.org
SUMMARY:Professional Women of WI (PWoW) | 2nd Thurs | Networking | May 9\, 2024
DESCRIPTION:PWoW’s monthly lunch in-person networking! \nWe will meet at New Berlin Ale House from 11:30-1pm the 2nd Thursday monthly. USE THE WEST ENTRANCE \nOur goal is to offer structured meetings with a diverse group of professional women on a monthly basis. We welcome ALL women that are looking to connect with likeminded individuals who are interested in building relationships that will help them grow personally and professionally. We strongly believe in building relationships\, and truly believe that it’s not a competition but an opportunity to collaborate. \nWe are looking forward to seeing our members and honored guests. Please feel free to invite a friend who you believe will benefit from and be a contribution to this networking group. \n***This is not the only platform we are advertising this event. This is not an accurate count of attendees. *** \n#PWoW #PWoWMKE #Networking #WomenInBusiness #WomensNetworking #SmallBusiness #CollaborationNotCompetition
URL:https://pwow.org/event/professional-women-of-wi-pwow-2nd-thurs-networking-may-9-2024/
LOCATION:New Berlin Ale House\, 16000 W Cleveland Ave\, New Berlin\, WI\, 53151\, United States
CATEGORIES:Luncheon,Networking,PWOW
ATTACH;FMTTYPE=image/png:https://pwow.org/wp-content/uploads/2024/01/New-Berlin-Ale-House.png
ORGANIZER;CN="Kim Knaak":MAILTO:pwowmke@gmail.com
END:VEVENT
BEGIN:VEVENT
DTSTART;TZID=UTC:20240423T180000
DTEND;TZID=UTC:20240423T200000
DTSTAMP:20260423T191140
CREATED:20240404T173847Z
LAST-MODIFIED:20240404T173847Z
UID:649-1713895200-1713902400@pwow.org
SUMMARY:Professional Women of WI (PWoW) | 4th Tues | Networking | Apr 23\, 2024
DESCRIPTION:**We will have full menu available for all – please bring cash to pay for your meal & drinks** \nOur goal is to offer structured meetings with a diverse group of professional women on a monthly basis. We welcome ALL women that are looking to connect with likeminded individuals who are interested in building relationships that will help them grow personally and professionally. We strongly believe in building relationships\, and truly believe that it’s not a competition but an opportunity to collaborate. \nWe are looking for donations for giveaways at the meeting. It’s a great way to share for your product and/or service with the group. A donation does not have to be anything expensive but something you feel someone would enjoy. A few examples of items that were donated in previous meetings: A bottle of wine\, candle\, box of candy\, notepad\, book\, $5.00 gift card to Starbucks\, etc. We have always enjoyed the giveaways at the end of the meeting\, so we are looking forward to carrying on the tradition. \nWe are looking forward to seeing our members and honored guests. Please feel free to invite a friend who you believe will benefit from and be a contribution to this networking group. \n***This is not the only platform we are advertising this event. This is not an accurate count of attendees. *** \n#PWoW #PWoWMKE #Networking #WomenInBusiness #WomensNetworking #SmallBusiness #CollaborationNotCompetition
URL:https://pwow.org/event/professional-women-of-wi-pwow-4th-tues-networking-apr-23-2024/
LOCATION:Los Mariachis Mexican Restaurant\, 4305 W Layton Ave.\, Greenfield\, WI\, 53220\, United States
CATEGORIES:Dinner,Networking,PWOW
ATTACH;FMTTYPE=image/png:https://pwow.org/wp-content/uploads/2024/01/Los-Mariachis.png
ORGANIZER;CN="Kim Knaak":MAILTO:pwowmke@gmail.com
END:VEVENT
BEGIN:VEVENT
DTSTART;TZID=UTC:20240411T113000
DTEND;TZID=UTC:20240411T130000
DTSTAMP:20260423T191140
CREATED:20240404T172435Z
LAST-MODIFIED:20240404T172435Z
UID:647-1712835000-1712840400@pwow.org
SUMMARY:Professional Women of WI (PWoW) | 2nd Thurs | Networking | Apr 11\, 2024
DESCRIPTION:PWoW’s monthly lunch in-person networking! \nWe will meet at New Berlin Ale House from 11:30-1pm the 2nd Thursday monthly. USE THE WEST ENTRANCE \nOur goal is to offer structured meetings with a diverse group of professional women on a monthly basis. We welcome ALL women that are looking to connect with likeminded individuals who are interested in building relationships that will help them grow personally and professionally. We strongly believe in building relationships\, and truly believe that it’s not a competition but an opportunity to collaborate. \nWe are looking forward to seeing our members and honored guests. Please feel free to invite a friend who you believe will benefit from and be a contribution to this networking group. \n***This is not the only platform we are advertising this event. This is not an accurate count of attendees. *** \n#PWoW #PWoWMKE #Networking #WomenInBusiness #WomensNetworking #SmallBusiness #CollaborationNotCompetition
URL:https://pwow.org/event/professional-women-of-wi-pwow-2nd-thurs-networking-apr-11-2024/
LOCATION:New Berlin Ale House\, 16000 W Cleveland Ave\, New Berlin\, WI\, 53151\, United States
CATEGORIES:Luncheon,Networking,PWOW
ATTACH;FMTTYPE=image/png:https://pwow.org/wp-content/uploads/2024/01/New-Berlin-Ale-House.png
ORGANIZER;CN="Kim Knaak":MAILTO:pwowmke@gmail.com
END:VEVENT
BEGIN:VEVENT
DTSTART;TZID=UTC:20240326T180000
DTEND;TZID=UTC:20240326T200000
DTSTAMP:20260423T191140
CREATED:20240229T192508Z
LAST-MODIFIED:20240229T192508Z
UID:195-1711476000-1711483200@pwow.org
SUMMARY:Professional Women of WI (PWoW) | 4th Tues | Networking | Mar 26\, 2024
DESCRIPTION:**We will have full menu available for all – please bring cash to pay for your meal & drinks** \nOur goal is to offer structured meetings with a diverse group of professional women on a monthly basis. We welcome ALL women that are looking to connect with likeminded individuals who are interested in building relationships that will help them grow personally and professionally. We strongly believe in building relationships\, and truly believe that it’s not a competition but an opportunity to collaborate. \nWe are looking for donations for giveaways at the meeting. It’s a great way to share for your product and/or service with the group. A donation does not have to be anything expensive but something you feel someone would enjoy. A few examples of items that were donated in previous meetings: A bottle of wine\, candle\, box of candy\, notepad\, book\, $5.00 gift card to Starbucks\, etc. We have always enjoyed the giveaways at the end of the meeting\, so we are looking forward to carrying on the tradition. \nWe are looking forward to seeing our members and honored guests. Please feel free to invite a friend who you believe will benefit from and be a contribution to this networking group. \n***This is not the only platform we are advertising this event. This is not an accurate count of attendees. *** \n#PWoW #PWoWMKE #Networking #WomenInBusiness #WomensNetworking #SmallBusiness #CollaborationNotCompetition
URL:https://pwow.org/event/professional-women-of-wi-pwow-4th-tues-networking-mar-26-2024/
LOCATION:Los Mariachis Mexican Restaurant\, 4305 W Layton Ave.\, Greenfield\, WI\, 53220\, United States
CATEGORIES:Dinner,Networking,PWOW
ATTACH;FMTTYPE=image/png:https://pwow.org/wp-content/uploads/2024/01/Los-Mariachis.png
ORGANIZER;CN="Kim Knaak":MAILTO:pwowmke@gmail.com
END:VEVENT
BEGIN:VEVENT
DTSTART;TZID=UTC:20240321T160000
DTEND;TZID=UTC:20240321T180000
DTSTAMP:20260423T191140
CREATED:20240229T192829Z
LAST-MODIFIED:20240229T192829Z
UID:194-1711036800-1711044000@pwow.org
SUMMARY:Professional Women of WI (PWoW) | 3rd Thurs | Networking | Mar 21\, 2024
DESCRIPTION:PWoW’s North Shore cocktail networking event! \nWe will meet at Scout Wine in Shorewood from 4pm-6pm the 3rd Thursday monthly. Appetizers provided with ticket purchase. \nOur goal is to offer structured meetings with a diverse group of professional women on a monthly basis. We welcome ALL women that are looking to connect with likeminded individuals who are interested in building relationships that will help them grow personally and professionally. We strongly believe in building relationships\, and truly believe that it’s not a competition but an opportunity to collaborate. \nWe are looking forward to seeing our members and honored guests. Please feel free to invite a friend who you believe will benefit from and be a contribution to this networking group. We ask that all attendees purchase a beverage or food item to support the the local establishment allowing us to use their space for free. \n***This is not the only platform we are advertising this event. This is not an accurate count of attendees. *** \n#PWoW #PWoWMKE #Networking #WomenInBusiness #WomensNetworking #SmallBusiness #CollaborationNotCompetition
URL:https://pwow.org/event/professional-women-of-wi-pwow-3rd-thurs-networking-mar-21-2024/
LOCATION:Scout Wine Merchants\, 4512 N. Oakland Avenue\, Shorewood\, WI\, 53211\, United States
CATEGORIES:Cocktail Hour,Networking,PWOW
ATTACH;FMTTYPE=image/jpeg:https://pwow.org/wp-content/uploads/2024/01/Scout-Wine-Merchants.jpg
ORGANIZER;CN="Kim Knaak":MAILTO:pwowmke@gmail.com
END:VEVENT
BEGIN:VEVENT
DTSTART;TZID=UTC:20240314T113000
DTEND;TZID=UTC:20240314T130000
DTSTAMP:20260423T191140
CREATED:20240229T192139Z
LAST-MODIFIED:20240229T192139Z
UID:193-1710415800-1710421200@pwow.org
SUMMARY:Professional Women of WI (PWoW) | 2nd Thurs | Networking | Mar 14\, 2024
DESCRIPTION:PWoW’s monthly lunch in-person networking! \nWe will meet at New Berlin Ale House from 11:30-1pm the 2nd Thursday monthly. USE THE WEST ENTRANCE \nOur goal is to offer structured meetings with a diverse group of professional women on a monthly basis. We welcome ALL women that are looking to connect with likeminded individuals who are interested in building relationships that will help them grow personally and professionally. We strongly believe in building relationships\, and truly believe that it’s not a competition but an opportunity to collaborate. \nWe are looking forward to seeing our members and honored guests. Please feel free to invite a friend who you believe will benefit from and be a contribution to this networking group. \n***This is not the only platform we are advertising this event. This is not an accurate count of attendees. *** \n#PWoW #PWoWMKE #Networking #WomenInBusiness #WomensNetworking #SmallBusiness #CollaborationNotCompetition
URL:https://pwow.org/event/professional-women-of-wi-pwow-2nd-thurs-networking-mar-14-2024/
LOCATION:New Berlin Ale House\, 16000 W Cleveland Ave\, New Berlin\, WI\, 53151\, United States
CATEGORIES:Luncheon,Networking,PWOW
ATTACH;FMTTYPE=image/png:https://pwow.org/wp-content/uploads/2024/01/New-Berlin-Ale-House.png
ORGANIZER;CN="Kim Knaak":MAILTO:pwowmke@gmail.com
END:VEVENT
END:VCALENDAR