BEGIN:VCALENDAR
VERSION:2.0
PRODID:-//Professional Women of Wisconsin - ECPv6.15.20//NONSGML v1.0//EN
CALSCALE:GREGORIAN
METHOD:PUBLISH
X-ORIGINAL-URL:https://pwow.org
X-WR-CALDESC:Events for Professional Women of Wisconsin
REFRESH-INTERVAL;VALUE=DURATION:PT1H
X-Robots-Tag:noindex
X-PUBLISHED-TTL:PT1H
BEGIN:VTIMEZONE
TZID:America/Chicago
BEGIN:DAYLIGHT
TZOFFSETFROM:-0600
TZOFFSETTO:-0500
TZNAME:CDT
DTSTART:20250309T080000
END:DAYLIGHT
BEGIN:STANDARD
TZOFFSETFROM:-0500
TZOFFSETTO:-0600
TZNAME:CST
DTSTART:20251102T070000
END:STANDARD
BEGIN:DAYLIGHT
TZOFFSETFROM:-0600
TZOFFSETTO:-0500
TZNAME:CDT
DTSTART:20260308T080000
END:DAYLIGHT
BEGIN:STANDARD
TZOFFSETFROM:-0500
TZOFFSETTO:-0600
TZNAME:CST
DTSTART:20261101T070000
END:STANDARD
BEGIN:DAYLIGHT
TZOFFSETFROM:-0600
TZOFFSETTO:-0500
TZNAME:CDT
DTSTART:20270314T080000
END:DAYLIGHT
BEGIN:STANDARD
TZOFFSETFROM:-0500
TZOFFSETTO:-0600
TZNAME:CST
DTSTART:20271107T070000
END:STANDARD
END:VTIMEZONE
BEGIN:VEVENT
DTSTART;VALUE=DATE:20260416
DTEND;VALUE=DATE:20260419
DTSTAMP:20260423T162431
CREATED:20260112T114433Z
LAST-MODIFIED:20260112T114433Z
UID:5822-1776297600-1776556799@pwow.org
SUMMARY:Legendary Women in Business
DESCRIPTION:WARRIOR UNCHAINED PRESENTS\nLEGENDARY WOMEN IN BUSINESS\nRed Carpet Ready for Success – April 16-18\, 2026\nIngleside Hotel\, Pewaukee\, WI \nGet ready for Legendary Women in Business – a high-energy 3-day adventure where serious business meets serious fun! Connect with powerhouse women while experiencing expert speakers\, out of the box networking opportunities\, and moments designed to spark both inspiration and laughter. This isn’t your typical sit-and-listen conference – it’s an immersive celebration where business magic happens between sessions\, relationships form organically\, and you’ll leave with both practical strategies and unforgettable memories. Come for the insights\, stay for the celebration! \nThis is our SIXTH year (Formerly “Warrior Unchained” Women’s Business Conference)! \nCome join us and keep the tradition going!
URL:https://pwow.org/event/legendary-women-in-business/
LOCATION:Ingleside Hotel\, 2810 Golf Road\, Pewaukee\, WI\, 53072\, United States
CATEGORIES:Business Training/Coaching,Community,Connect
ATTACH;FMTTYPE=image/png:https://pwow.org/wp-content/uploads/2026/01/LEGENDARY-WIB-LOGO.png
ORGANIZER;CN="Wendy Babcock":MAILTO:info@wendybabcock.com
END:VEVENT
END:VCALENDAR