BEGIN:VCALENDAR
VERSION:2.0
PRODID:-//Professional Women of Wisconsin - ECPv6.15.20//NONSGML v1.0//EN
CALSCALE:GREGORIAN
METHOD:PUBLISH
X-WR-CALNAME:Professional Women of Wisconsin
X-ORIGINAL-URL:https://pwow.org
X-WR-CALDESC:Events for Professional Women of Wisconsin
REFRESH-INTERVAL;VALUE=DURATION:PT1H
X-Robots-Tag:noindex
X-PUBLISHED-TTL:PT1H
BEGIN:VTIMEZONE
TZID:America/Chicago
BEGIN:DAYLIGHT
TZOFFSETFROM:-0600
TZOFFSETTO:-0500
TZNAME:CDT
DTSTART:20240310T080000
END:DAYLIGHT
BEGIN:STANDARD
TZOFFSETFROM:-0500
TZOFFSETTO:-0600
TZNAME:CST
DTSTART:20241103T070000
END:STANDARD
BEGIN:DAYLIGHT
TZOFFSETFROM:-0600
TZOFFSETTO:-0500
TZNAME:CDT
DTSTART:20250309T080000
END:DAYLIGHT
BEGIN:STANDARD
TZOFFSETFROM:-0500
TZOFFSETTO:-0600
TZNAME:CST
DTSTART:20251102T070000
END:STANDARD
BEGIN:DAYLIGHT
TZOFFSETFROM:-0600
TZOFFSETTO:-0500
TZNAME:CDT
DTSTART:20260308T080000
END:DAYLIGHT
BEGIN:STANDARD
TZOFFSETFROM:-0500
TZOFFSETTO:-0600
TZNAME:CST
DTSTART:20261101T070000
END:STANDARD
END:VTIMEZONE
BEGIN:VEVENT
DTSTART;TZID=America/Chicago:20250915T190000
DTEND;TZID=America/Chicago:20250915T193000
DTSTAMP:20260424T103539
CREATED:20250911T140958Z
LAST-MODIFIED:20250911T140958Z
UID:5237-1757962800-1757964600@pwow.org
SUMMARY:Mary Kay Beauty Bingo
DESCRIPTION:Let’s have fun\, learn & win freebies! All you need to do is text me Rhonda at 414-534-7639 Five (5) numbers for Bingo before Sunday September 14th\nGrab your favorite drink sit back and get ready to laugh\, learn\, have fun & meet new people via YouTube.
URL:https://pwow.org/event/mary-kay-beauty-bingo/
LOCATION:WI
CATEGORIES:Networking
ATTACH;FMTTYPE=image/jpeg:https://pwow.org/wp-content/uploads/2025/09/Bingo-9-15.jpeg
END:VEVENT
END:VCALENDAR