BEGIN:VCALENDAR
VERSION:2.0
PRODID:-//Professional Women of Wisconsin - ECPv6.15.20//NONSGML v1.0//EN
CALSCALE:GREGORIAN
METHOD:PUBLISH
X-WR-CALNAME:Professional Women of Wisconsin
X-ORIGINAL-URL:https://pwow.org
X-WR-CALDESC:Events for Professional Women of Wisconsin
REFRESH-INTERVAL;VALUE=DURATION:PT1H
X-Robots-Tag:noindex
X-PUBLISHED-TTL:PT1H
BEGIN:VTIMEZONE
TZID:America/Chicago
BEGIN:DAYLIGHT
TZOFFSETFROM:-0600
TZOFFSETTO:-0500
TZNAME:CDT
DTSTART:20230312T080000
END:DAYLIGHT
BEGIN:STANDARD
TZOFFSETFROM:-0500
TZOFFSETTO:-0600
TZNAME:CST
DTSTART:20231105T070000
END:STANDARD
BEGIN:DAYLIGHT
TZOFFSETFROM:-0600
TZOFFSETTO:-0500
TZNAME:CDT
DTSTART:20240310T080000
END:DAYLIGHT
BEGIN:STANDARD
TZOFFSETFROM:-0500
TZOFFSETTO:-0600
TZNAME:CST
DTSTART:20241103T070000
END:STANDARD
BEGIN:DAYLIGHT
TZOFFSETFROM:-0600
TZOFFSETTO:-0500
TZNAME:CDT
DTSTART:20250309T080000
END:DAYLIGHT
BEGIN:STANDARD
TZOFFSETFROM:-0500
TZOFFSETTO:-0600
TZNAME:CST
DTSTART:20251102T070000
END:STANDARD
BEGIN:DAYLIGHT
TZOFFSETFROM:-0600
TZOFFSETTO:-0500
TZNAME:CDT
DTSTART:20260308T080000
END:DAYLIGHT
BEGIN:STANDARD
TZOFFSETFROM:-0500
TZOFFSETTO:-0600
TZNAME:CST
DTSTART:20261101T070000
END:STANDARD
END:VTIMEZONE
BEGIN:VEVENT
DTSTART;TZID=America/Chicago:20250120T110000
DTEND;TZID=America/Chicago:20250124T120000
DTSTAMP:20260425T061425
CREATED:20241209T183320Z
LAST-MODIFIED:20241220T195556Z
UID:2867-1737370800-1737720000@pwow.org
SUMMARY:Collaboration Challenge | Jan 20-24\, 2025
DESCRIPTION:Register HERE\n🚀 Collaborate to Educate: A 5-Day Social Media Strategy Challenge \nReady to grow your audience\, boost engagement\, and build meaningful connections on social media—all without selling? Join this interactive\, action-packed 5-day challenge to learn how to create and share educational\, high-value content while collaborating with like-minded professionals. \nWhen: January 20-24\, 2025\nWhere: Live on Zoom\nCost: $97 (Get $50 off with a special coupon code—ask at my upcoming events!) \nSpecial Bonus: Register before January 8\, 2025\, and get FREE access to the 3-Day Mini Challenge\, “Jumpstart Your 2025\,” happening January 8-10. \n\nWhat You’ll Get:\nEach day\, you’ll create and share posts that build your brand\, engage your audience\, and showcase your expertise—without focusing on selling. Plus\, you’ll collaborate with other participants to amplify your reach and impact. \nDaily Themes:\n\nIntroduce Yourself with Purpose – Build connections through authentic storytelling.\nShare Value Through Education – Position yourself as an expert with actionable tips and insights.\nCelebrate Collaboration – Highlight partnerships and teamwork to build credibility and trust.\nStart a Conversation – Use engagement-based posts to spark meaningful discussions.\nShowcase Gratitude & Goals – Reflect on wins and share your vision for 2025.\n\nWhy Join? \n\n✅ Learn a repeatable\, effective social media strategy to grow your audience.\n✅ Collaborate with other professionals to boost engagement.\n✅ Gain clarity on how to educate your audience while staying authentic.\n✅ Walk away with a personalized content plan for 2025.\n\n\nSpecial Offer:\nRegister now for $97—or get $50 off when you attend one of my events this month and receive an exclusive coupon code. \n  \n#CollaborationNotCompetition #ConnectorKim #OpportunitysKnaaking #CollaborationCreatesCommunity \nRegister HERE
URL:https://pwow.org/event/collaboration-challenge-jan-20-24-2025/
LOCATION:Zoom
CATEGORIES:Business Training/Coaching,Networking,Workshops
ATTACH;FMTTYPE=image/png:https://pwow.org/wp-content/uploads/2024/12/Collaboration-Challenge-1.png
ORGANIZER;CN="Kim Knaak":MAILTO:pwowmke@gmail.com
END:VEVENT
BEGIN:VEVENT
DTSTART;TZID=America/Chicago:20241218T110000
DTEND;TZID=America/Chicago:20241218T120000
DTSTAMP:20260425T061425
CREATED:20241209T182359Z
LAST-MODIFIED:20241209T182359Z
UID:2859-1734519600-1734523200@pwow.org
SUMMARY:Collaboration Mini Challenge | Dec 18-20\, 2024
DESCRIPTION:Register HERE\n  \n🎯 Finish 2024 Strong: A 3-Day Mini Challenge for Collaboration and Clarity! \nGet ready to reflect on your wins\, identify exciting collaboration opportunities\, and create a plan to kick off 2025 with focus and intention! This 3-day interactive Zoom challenge is designed to help entrepreneurs\, small business owners\, and professionals like YOU finish the year strong and set the stage for a collaborative and successful new year. \nWhen: December 18\, 19\, & 20 at 11:00 AM CST\nWhere: Live on Zoom\nCost: Just $24 for 3 days of actionable strategies and expert guidance \nWhat You’ll Learn: \n\nDay 1: Reflect & Celebrate – Recognize your biggest collaboration wins of 2024 and gain insights into what worked and why.\nDay 2: Identify Key Opportunities – Discover the collaboration opportunities that align with your 2025 goals.\nDay 3: Action Plan – Build a simple\, actionable 30-day plan to start 2025 with confidence.\n\nWhy Join? \n\n✨ Gain clarity on your collaboration goals\n✨ Walk away with a ready-to-implement action plan\n✨ Get guidance and tools to streamline your efforts\n✨ Build momentum for a successful 2025\n\nDon’t miss this opportunity to reflect\, refocus\, and recharge. Secure your spot now to take advantage of these powerful tools and connections. Let’s transform your network into a community that drives your success and finish the year strong—together!! \n#CollaborationNotCompetition #ConnectorKim #OpportunitysKnaaking #CollaborationCreatesCommunity \nRegister HERE
URL:https://pwow.org/event/collaboration-mini-challenge-dec-18-20-2024/
LOCATION:Zoom
CATEGORIES:Business Training/Coaching,Connect,Networking,Workshops
ATTACH;FMTTYPE=image/png:https://pwow.org/wp-content/uploads/2024/12/Collaboration-Mini-Challenge.png
ORGANIZER;CN="Kim Knaak":MAILTO:pwowmke@gmail.com
END:VEVENT
BEGIN:VEVENT
DTSTART;TZID=America/Chicago:20250128T180000
DTEND;TZID=America/Chicago:20250128T200000
DTSTAMP:20260425T061425
CREATED:20250102T203935Z
LAST-MODIFIED:20250110T174326Z
UID:3091-1738087200-1738094400@pwow.org
SUMMARY:Professional Women of WI (PWoW) | 4th Tues | Networking | Jan 28\, 2024
DESCRIPTION:**We have secured a NEW location!** \nWe will meet at Reunion Restaurant from 6pm-8pm \nOur goal is to offer structured meetings with a diverse group of professional women on a monthly basis. We welcome ALL women that are looking to connect with likeminded individuals who are interested in building relationships that will help them grow personally and professionally. We strongly believe in building relationships\, and truly believe that it’s not a competition but an opportunity to collaborate. \nWe are looking for donations for giveaways at the meeting. It’s a great way to share for your product and/or service with the group. A donation does not have to be anything expensive but something you feel someone would enjoy. A few examples of items that were donated in previous meetings: A bottle of wine\, candle\, box of candy\, notepad\, book\, $5.00 gift card to Starbucks\, etc. We have always enjoyed the giveaways at the end of the meeting\, so we are looking forward to carrying on the tradition. \nWe are looking forward to seeing our members and honored guests. Please feel free to invite a friend who you believe will benefit from and be a contribution to this networking group. \n***This is not the only platform we are advertising this event. This is not an accurate count of attendees. *** \n#PWoW #PWoWMKE #Networking #WomenInBusiness #WomensNetworking #SmallBusiness #CollaborationNotCompetition \n  \nReunion
URL:https://pwow.org/event/professional-women-of-wi-pwow-4th-tues-networking-jan-28-2024/
LOCATION:Reunion Restaurant\, 6610 W Greenfield Ave\, West Allis\, WI\, 53214\, United States
CATEGORIES:Dinner,Networking,PWOW
ATTACH;FMTTYPE=image/jpeg:https://pwow.org/wp-content/uploads/2025/01/Reunion.jpeg
ORGANIZER;CN="Kim Knaak":MAILTO:pwowmke@gmail.com
END:VEVENT
END:VCALENDAR