BEGIN:VCALENDAR
VERSION:2.0
PRODID:-//Professional Women of Wisconsin - ECPv6.15.20//NONSGML v1.0//EN
CALSCALE:GREGORIAN
METHOD:PUBLISH
X-ORIGINAL-URL:https://pwow.org
X-WR-CALDESC:Events for Professional Women of Wisconsin
REFRESH-INTERVAL;VALUE=DURATION:PT1H
X-Robots-Tag:noindex
X-PUBLISHED-TTL:PT1H
BEGIN:VTIMEZONE
TZID:America/Chicago
BEGIN:DAYLIGHT
TZOFFSETFROM:-0600
TZOFFSETTO:-0500
TZNAME:CDT
DTSTART:20230312T080000
END:DAYLIGHT
BEGIN:STANDARD
TZOFFSETFROM:-0500
TZOFFSETTO:-0600
TZNAME:CST
DTSTART:20231105T070000
END:STANDARD
BEGIN:DAYLIGHT
TZOFFSETFROM:-0600
TZOFFSETTO:-0500
TZNAME:CDT
DTSTART:20240310T080000
END:DAYLIGHT
BEGIN:STANDARD
TZOFFSETFROM:-0500
TZOFFSETTO:-0600
TZNAME:CST
DTSTART:20241103T070000
END:STANDARD
BEGIN:DAYLIGHT
TZOFFSETFROM:-0600
TZOFFSETTO:-0500
TZNAME:CDT
DTSTART:20250309T080000
END:DAYLIGHT
BEGIN:STANDARD
TZOFFSETFROM:-0500
TZOFFSETTO:-0600
TZNAME:CST
DTSTART:20251102T070000
END:STANDARD
BEGIN:DAYLIGHT
TZOFFSETFROM:-0600
TZOFFSETTO:-0500
TZNAME:CDT
DTSTART:20260308T080000
END:DAYLIGHT
BEGIN:STANDARD
TZOFFSETFROM:-0500
TZOFFSETTO:-0600
TZNAME:CST
DTSTART:20261101T070000
END:STANDARD
END:VTIMEZONE
BEGIN:VTIMEZONE
TZID:UTC
BEGIN:STANDARD
TZOFFSETFROM:+0000
TZOFFSETTO:+0000
TZNAME:UTC
DTSTART:20240101T000000
END:STANDARD
END:VTIMEZONE
BEGIN:VEVENT
DTSTART;TZID=America/Chicago:20250108T110000
DTEND;TZID=America/Chicago:20250112T120000
DTSTAMP:20260425T230345
CREATED:20241220T201048Z
LAST-MODIFIED:20241220T201129Z
UID:3067-1736334000-1736683200@pwow.org
SUMMARY:Collaboration Mini Challenge | Jan 8-10\, 2025
DESCRIPTION:Register HERE\n🎯 Jumpstart Your 2025: A 3-Day Mini Challenge for Clarity & Collaboration! \nDescription:\nKick off 2025 with focus\, intention\, and a clear plan for success! This 3-day mini challenge is designed to help you reflect on your wins\, identify key collaboration opportunities\, and create an actionable plan to grow your business. \nWhen: January 8-10\, 2025\nWhere: Live on Zoom\nCost: $25 \nWhat You’ll Gain: \n\n✨ Clarity: Reflect on your 2024 wins and lessons to start 2025 with focus.\n✨ Collaboration: Pinpoint one key collaboration opportunity that aligns with your goals.\n✨ Momentum: Walk away with a simple action plan to keep you moving forward.\n\nDaily Themes: \n\nDay 1: Reflect & Celebrate – Recognize your biggest wins and gain insights into what worked in 2024.\nDay 2: Identify Key Opportunities – Discover the collaboration opportunities that will support your 2025 goals.\nDay 3: Create Your Action Plan – Build a simple\, actionable 30-day plan to start the year strong.\n\nWhy This Challenge? \n\n✅ Break free from the overwhelm of starting a new year.\n✅ Gain confidence in your goals and how to achieve them.\n✅ Build connections and inspiration with like-minded professionals.\n\n#CollaborationNotCompetition #ConnectorKim #OpportunitysKnaaking #CollaborationCreatesCommunity \nRegister HERE
URL:https://pwow.org/event/collaboration-mini-challenge-jan-8-10-2025/
LOCATION:Zoom
CATEGORIES:Business Training/Coaching,Networking,Workshops
ATTACH;FMTTYPE=image/png:https://pwow.org/wp-content/uploads/2024/12/Collaboration-Mini-Challenge-1.png
ORGANIZER;CN="Kim Knaak":MAILTO:pwowmke@gmail.com
END:VEVENT
BEGIN:VEVENT
DTSTART;TZID=America/Chicago:20241218T110000
DTEND;TZID=America/Chicago:20241218T120000
DTSTAMP:20260425T230345
CREATED:20241209T182359Z
LAST-MODIFIED:20241209T182359Z
UID:2859-1734519600-1734523200@pwow.org
SUMMARY:Collaboration Mini Challenge | Dec 18-20\, 2024
DESCRIPTION:Register HERE\n  \n🎯 Finish 2024 Strong: A 3-Day Mini Challenge for Collaboration and Clarity! \nGet ready to reflect on your wins\, identify exciting collaboration opportunities\, and create a plan to kick off 2025 with focus and intention! This 3-day interactive Zoom challenge is designed to help entrepreneurs\, small business owners\, and professionals like YOU finish the year strong and set the stage for a collaborative and successful new year. \nWhen: December 18\, 19\, & 20 at 11:00 AM CST\nWhere: Live on Zoom\nCost: Just $24 for 3 days of actionable strategies and expert guidance \nWhat You’ll Learn: \n\nDay 1: Reflect & Celebrate – Recognize your biggest collaboration wins of 2024 and gain insights into what worked and why.\nDay 2: Identify Key Opportunities – Discover the collaboration opportunities that align with your 2025 goals.\nDay 3: Action Plan – Build a simple\, actionable 30-day plan to start 2025 with confidence.\n\nWhy Join? \n\n✨ Gain clarity on your collaboration goals\n✨ Walk away with a ready-to-implement action plan\n✨ Get guidance and tools to streamline your efforts\n✨ Build momentum for a successful 2025\n\nDon’t miss this opportunity to reflect\, refocus\, and recharge. Secure your spot now to take advantage of these powerful tools and connections. Let’s transform your network into a community that drives your success and finish the year strong—together!! \n#CollaborationNotCompetition #ConnectorKim #OpportunitysKnaaking #CollaborationCreatesCommunity \nRegister HERE
URL:https://pwow.org/event/collaboration-mini-challenge-dec-18-20-2024/
LOCATION:Zoom
CATEGORIES:Business Training/Coaching,Connect,Networking,Workshops
ATTACH;FMTTYPE=image/png:https://pwow.org/wp-content/uploads/2024/12/Collaboration-Mini-Challenge.png
ORGANIZER;CN="Kim Knaak":MAILTO:pwowmke@gmail.com
END:VEVENT
BEGIN:VEVENT
DTSTART;TZID=America/Chicago:20250108T110000
DTEND;TZID=America/Chicago:20250112T120000
DTSTAMP:20260425T230345
CREATED:20241220T201048Z
LAST-MODIFIED:20241220T201129Z
UID:3067-1736334000-1736683200@pwow.org
SUMMARY:Collaboration Mini Challenge | Jan 8-10\, 2025
DESCRIPTION:Register HERE\n🎯 Jumpstart Your 2025: A 3-Day Mini Challenge for Clarity & Collaboration! \nDescription:\nKick off 2025 with focus\, intention\, and a clear plan for success! This 3-day mini challenge is designed to help you reflect on your wins\, identify key collaboration opportunities\, and create an actionable plan to grow your business. \nWhen: January 8-10\, 2025\nWhere: Live on Zoom\nCost: $25 \nWhat You’ll Gain: \n\n✨ Clarity: Reflect on your 2024 wins and lessons to start 2025 with focus.\n✨ Collaboration: Pinpoint one key collaboration opportunity that aligns with your goals.\n✨ Momentum: Walk away with a simple action plan to keep you moving forward.\n\nDaily Themes: \n\nDay 1: Reflect & Celebrate – Recognize your biggest wins and gain insights into what worked in 2024.\nDay 2: Identify Key Opportunities – Discover the collaboration opportunities that will support your 2025 goals.\nDay 3: Create Your Action Plan – Build a simple\, actionable 30-day plan to start the year strong.\n\nWhy This Challenge? \n\n✅ Break free from the overwhelm of starting a new year.\n✅ Gain confidence in your goals and how to achieve them.\n✅ Build connections and inspiration with like-minded professionals.\n\n#CollaborationNotCompetition #ConnectorKim #OpportunitysKnaaking #CollaborationCreatesCommunity \nRegister HERE
URL:https://pwow.org/event/collaboration-mini-challenge-jan-8-10-2025/
LOCATION:Zoom
CATEGORIES:Business Training/Coaching,Networking,Workshops
ATTACH;FMTTYPE=image/png:https://pwow.org/wp-content/uploads/2024/12/Collaboration-Mini-Challenge-1.png
ORGANIZER;CN="Kim Knaak":MAILTO:pwowmke@gmail.com
END:VEVENT
BEGIN:VEVENT
DTSTART;TZID=UTC:20250109T113000
DTEND;TZID=UTC:20250109T130000
DTSTAMP:20260425T230345
CREATED:20250102T203614Z
LAST-MODIFIED:20250102T203614Z
UID:3086-1736422200-1736427600@pwow.org
SUMMARY:Professional Women of WI (PWoW) | 2nd Thurs | Networking | Jan 9\, 2025
DESCRIPTION:PWoW’s monthly lunch in-person networking! \nWe will meet at New Berlin Ale House from 11:30-1pm the 2nd Thursday monthly. USE THE WEST ENTRANCE \nOur goal is to offer structured meetings with a diverse group of professional women on a monthly basis. We welcome ALL women that are looking to connect with likeminded individuals who are interested in building relationships that will help them grow personally and professionally. We strongly believe in building relationships\, and truly believe that it’s not a competition but an opportunity to collaborate. \nWe are looking forward to seeing our members and honored guests. Please feel free to invite a friend who you believe will benefit from and be a contribution to this networking group. \n***This is not the only platform we are advertising this event. This is not an accurate count of attendees. *** \n#PWoW #PWoWMKE #Networking #WomenInBusiness #WomensNetworking #SmallBusiness #CollaborationNotCompetition
URL:https://pwow.org/event/professional-women-of-wi-pwow-2nd-thurs-networking-jan-9-2025/
LOCATION:New Berlin Ale House\, 16000 W Cleveland Ave\, New Berlin\, WI\, 53151\, United States
CATEGORIES:Luncheon,Networking,PWOW
ATTACH;FMTTYPE=image/png:https://pwow.org/wp-content/uploads/2024/01/New-Berlin-Ale-House.png
ORGANIZER;CN="Kim Knaak":MAILTO:pwowmke@gmail.com
END:VEVENT
END:VCALENDAR