BEGIN:VCALENDAR
VERSION:2.0
PRODID:-//Professional Women of Wisconsin - ECPv6.15.20//NONSGML v1.0//EN
CALSCALE:GREGORIAN
METHOD:PUBLISH
X-WR-CALNAME:Professional Women of Wisconsin
X-ORIGINAL-URL:https://pwow.org
X-WR-CALDESC:Events for Professional Women of Wisconsin
REFRESH-INTERVAL;VALUE=DURATION:PT1H
X-Robots-Tag:noindex
X-PUBLISHED-TTL:PT1H
BEGIN:VTIMEZONE
TZID:America/Chicago
BEGIN:DAYLIGHT
TZOFFSETFROM:-0600
TZOFFSETTO:-0500
TZNAME:CDT
DTSTART:20240310T080000
END:DAYLIGHT
BEGIN:STANDARD
TZOFFSETFROM:-0500
TZOFFSETTO:-0600
TZNAME:CST
DTSTART:20241103T070000
END:STANDARD
BEGIN:DAYLIGHT
TZOFFSETFROM:-0600
TZOFFSETTO:-0500
TZNAME:CDT
DTSTART:20250309T080000
END:DAYLIGHT
BEGIN:STANDARD
TZOFFSETFROM:-0500
TZOFFSETTO:-0600
TZNAME:CST
DTSTART:20251102T070000
END:STANDARD
BEGIN:DAYLIGHT
TZOFFSETFROM:-0600
TZOFFSETTO:-0500
TZNAME:CDT
DTSTART:20260308T080000
END:DAYLIGHT
BEGIN:STANDARD
TZOFFSETFROM:-0500
TZOFFSETTO:-0600
TZNAME:CST
DTSTART:20261101T070000
END:STANDARD
END:VTIMEZONE
BEGIN:VEVENT
DTSTART;TZID=America/Chicago:20251012T200000
DTEND;TZID=America/Chicago:20251012T210000
DTSTAMP:20260424T035939
CREATED:20251010T185950Z
LAST-MODIFIED:20251010T185950Z
UID:5427-1760299200-1760302800@pwow.org
SUMMARY:Together We Ignite Virtual Women's Circle
DESCRIPTION:Step into a space that feels different from a meeting or networking call — this is a women’s circle. 🌿 \nA circle is a guided gathering where women come together to pause\, reflect\, and connect. There’s no pitching\, no pressure\, and no to-do list — just a shared experience of being seen and heard. \nIn the Together We Ignite Circle\, mom entrepreneurs and women in business are invited to slow down\, listen deeply\, and speak from the heart. We create space for clarity\, creativity\, and connection to rise naturally — the kind that sparks inspiration long after you log off. \nCome as you are — coffee\, candle\, messy bun and all. You’ll leave feeling grounded\, re-energized\, and reminded that you’re not alone. 💛 \n🕯 Bring: a notebook and something to center yourself (a candle\, tea\, or cozy blanket).\n💛 Register: www.mamageniushub.com/cocreate\nto see upcoming dates and save your seat.
URL:https://pwow.org/event/together-we-ignite-virtual-womens-circle-2/
LOCATION:WI
CATEGORIES:Community,Connect
END:VEVENT
BEGIN:VEVENT
DTSTART;TZID=America/Chicago:20251015T113000
DTEND;TZID=America/Chicago:20251015T130000
DTSTAMP:20260424T035939
CREATED:20250911T144638Z
LAST-MODIFIED:20250911T150729Z
UID:5259-1760527800-1760533200@pwow.org
SUMMARY:Professional Women of WI (PWoW) | 3rd Wed | Networking | Oct 15\, 2025
DESCRIPTION:PWoW’s monthly lunch in-person networking in Lake Country! \nTicket purchase required to attend.\nWe will meet at Mad Dog Saloon from 11:30-1pm the 3rd Wednesday monthly. \nOur goal is to offer structured meetings with a diverse group of professional women on a monthly basis. We welcome ALL women that are looking to connect with likeminded individuals who are interested in building relationships that will help them grow personally and professionally. We strongly believe in building relationships\, and truly believe that it’s not a competition but an opportunity to collaborate. \nWe are looking forward to seeing our members and honored guests. Please feel free to invite a friend who you believe will benefit from and be a contribution to this networking group. \n***This is not the only platform we are advertising this event. This is not an accurate count of attendees. *** \n#PWoW #PWoWMKE #Networking #WomenInBusiness #WomensNetworking #SmallBusiness #CollaborationNotCompetition
URL:https://pwow.org/event/professional-women-of-wi-pwow-3rd-wed-networking-oct-15-2025/
LOCATION:Mad Dog Saloon\, 220 W. Summit Ave.\, Wales\, WI\, 53183\, United States
CATEGORIES:Connect,Luncheon,Networking,PWOW
ATTACH;FMTTYPE=image/jpeg:https://pwow.org/wp-content/uploads/2025/02/MDSaloon-logo-1-1.jpg
ORGANIZER;CN="Kim Knaak":MAILTO:pwowmke@gmail.com
END:VEVENT
BEGIN:VEVENT
DTSTART;TZID=America/Chicago:20251024T093000
DTEND;TZID=America/Chicago:20251024T223000
DTSTAMP:20260424T035939
CREATED:20251010T185908Z
LAST-MODIFIED:20251010T185908Z
UID:5431-1761298200-1761345000@pwow.org
SUMMARY:Together We Ignite Virtual Women's Circle
DESCRIPTION:Step into a space that feels different from a meeting or networking call — this is a women’s circle. 🌿 \nA circle is a guided gathering where women come together to pause\, reflect\, and connect. There’s no pitching\, no pressure\, and no to-do list — just a shared experience of being seen and heard. \nIn the Together We Ignite Circle\, mom entrepreneurs and women in business are invited to slow down\, listen deeply\, and speak from the heart. We create space for clarity\, creativity\, and connection to rise naturally — the kind that sparks inspiration long after you log off. \nCome as you are — coffee\, candle\, messy bun and all. You’ll leave feeling grounded\, re-energized\, and reminded that you’re not alone. 💛 \n🕯 Bring: a notebook and something to center yourself (a candle\, tea\, or cozy blanket).\n💛 Register: www.mamageniushub.com/cocreate\nto see upcoming dates and save your seat.
URL:https://pwow.org/event/together-we-ignite-virtual-womens-circle/
LOCATION:WI
CATEGORIES:Community,Connect
ATTACH;FMTTYPE=image/png:https://pwow.org/wp-content/uploads/2025/10/Together-We-Ignite-Circle-fb-logo.png
END:VEVENT
END:VCALENDAR