BEGIN:VCALENDAR
VERSION:2.0
PRODID:-//Professional Women of Wisconsin - ECPv6.15.20//NONSGML v1.0//EN
CALSCALE:GREGORIAN
METHOD:PUBLISH
X-ORIGINAL-URL:https://pwow.org
X-WR-CALDESC:Events for Professional Women of Wisconsin
REFRESH-INTERVAL;VALUE=DURATION:PT1H
X-Robots-Tag:noindex
X-PUBLISHED-TTL:PT1H
BEGIN:VTIMEZONE
TZID:America/Chicago
BEGIN:DAYLIGHT
TZOFFSETFROM:-0600
TZOFFSETTO:-0500
TZNAME:CDT
DTSTART:20230312T080000
END:DAYLIGHT
BEGIN:STANDARD
TZOFFSETFROM:-0500
TZOFFSETTO:-0600
TZNAME:CST
DTSTART:20231105T070000
END:STANDARD
BEGIN:DAYLIGHT
TZOFFSETFROM:-0600
TZOFFSETTO:-0500
TZNAME:CDT
DTSTART:20240310T080000
END:DAYLIGHT
BEGIN:STANDARD
TZOFFSETFROM:-0500
TZOFFSETTO:-0600
TZNAME:CST
DTSTART:20241103T070000
END:STANDARD
BEGIN:DAYLIGHT
TZOFFSETFROM:-0600
TZOFFSETTO:-0500
TZNAME:CDT
DTSTART:20250309T080000
END:DAYLIGHT
BEGIN:STANDARD
TZOFFSETFROM:-0500
TZOFFSETTO:-0600
TZNAME:CST
DTSTART:20251102T070000
END:STANDARD
BEGIN:DAYLIGHT
TZOFFSETFROM:-0600
TZOFFSETTO:-0500
TZNAME:CDT
DTSTART:20260308T080000
END:DAYLIGHT
BEGIN:STANDARD
TZOFFSETFROM:-0500
TZOFFSETTO:-0600
TZNAME:CST
DTSTART:20261101T070000
END:STANDARD
END:VTIMEZONE
BEGIN:VTIMEZONE
TZID:UTC
BEGIN:STANDARD
TZOFFSETFROM:+0000
TZOFFSETTO:+0000
TZNAME:UTC
DTSTART:20240101T000000
END:STANDARD
END:VTIMEZONE
BEGIN:VEVENT
DTSTART;TZID=America/Chicago:20241218T110000
DTEND;TZID=America/Chicago:20241218T120000
DTSTAMP:20260425T081220
CREATED:20241209T182359Z
LAST-MODIFIED:20241209T182359Z
UID:2859-1734519600-1734523200@pwow.org
SUMMARY:Collaboration Mini Challenge | Dec 18-20\, 2024
DESCRIPTION:Register HERE\n  \n🎯 Finish 2024 Strong: A 3-Day Mini Challenge for Collaboration and Clarity! \nGet ready to reflect on your wins\, identify exciting collaboration opportunities\, and create a plan to kick off 2025 with focus and intention! This 3-day interactive Zoom challenge is designed to help entrepreneurs\, small business owners\, and professionals like YOU finish the year strong and set the stage for a collaborative and successful new year. \nWhen: December 18\, 19\, & 20 at 11:00 AM CST\nWhere: Live on Zoom\nCost: Just $24 for 3 days of actionable strategies and expert guidance \nWhat You’ll Learn: \n\nDay 1: Reflect & Celebrate – Recognize your biggest collaboration wins of 2024 and gain insights into what worked and why.\nDay 2: Identify Key Opportunities – Discover the collaboration opportunities that align with your 2025 goals.\nDay 3: Action Plan – Build a simple\, actionable 30-day plan to start 2025 with confidence.\n\nWhy Join? \n\n✨ Gain clarity on your collaboration goals\n✨ Walk away with a ready-to-implement action plan\n✨ Get guidance and tools to streamline your efforts\n✨ Build momentum for a successful 2025\n\nDon’t miss this opportunity to reflect\, refocus\, and recharge. Secure your spot now to take advantage of these powerful tools and connections. Let’s transform your network into a community that drives your success and finish the year strong—together!! \n#CollaborationNotCompetition #ConnectorKim #OpportunitysKnaaking #CollaborationCreatesCommunity \nRegister HERE
URL:https://pwow.org/event/collaboration-mini-challenge-dec-18-20-2024/
LOCATION:Zoom
CATEGORIES:Business Training/Coaching,Connect,Networking,Workshops
ATTACH;FMTTYPE=image/png:https://pwow.org/wp-content/uploads/2024/12/Collaboration-Mini-Challenge.png
ORGANIZER;CN="Kim Knaak":MAILTO:pwowmke@gmail.com
END:VEVENT
BEGIN:VEVENT
DTSTART;TZID=America/Chicago:20241218T110000
DTEND;TZID=America/Chicago:20241218T120000
DTSTAMP:20260425T081220
CREATED:20241209T182359Z
LAST-MODIFIED:20241209T182359Z
UID:2859-1734519600-1734523200@pwow.org
SUMMARY:Collaboration Mini Challenge | Dec 18-20\, 2024
DESCRIPTION:Register HERE\n  \n🎯 Finish 2024 Strong: A 3-Day Mini Challenge for Collaboration and Clarity! \nGet ready to reflect on your wins\, identify exciting collaboration opportunities\, and create a plan to kick off 2025 with focus and intention! This 3-day interactive Zoom challenge is designed to help entrepreneurs\, small business owners\, and professionals like YOU finish the year strong and set the stage for a collaborative and successful new year. \nWhen: December 18\, 19\, & 20 at 11:00 AM CST\nWhere: Live on Zoom\nCost: Just $24 for 3 days of actionable strategies and expert guidance \nWhat You’ll Learn: \n\nDay 1: Reflect & Celebrate – Recognize your biggest collaboration wins of 2024 and gain insights into what worked and why.\nDay 2: Identify Key Opportunities – Discover the collaboration opportunities that align with your 2025 goals.\nDay 3: Action Plan – Build a simple\, actionable 30-day plan to start 2025 with confidence.\n\nWhy Join? \n\n✨ Gain clarity on your collaboration goals\n✨ Walk away with a ready-to-implement action plan\n✨ Get guidance and tools to streamline your efforts\n✨ Build momentum for a successful 2025\n\nDon’t miss this opportunity to reflect\, refocus\, and recharge. Secure your spot now to take advantage of these powerful tools and connections. Let’s transform your network into a community that drives your success and finish the year strong—together!! \n#CollaborationNotCompetition #ConnectorKim #OpportunitysKnaaking #CollaborationCreatesCommunity \nRegister HERE
URL:https://pwow.org/event/collaboration-mini-challenge-dec-18-20-2024/
LOCATION:Zoom
CATEGORIES:Business Training/Coaching,Connect,Networking,Workshops
ATTACH;FMTTYPE=image/png:https://pwow.org/wp-content/uploads/2024/12/Collaboration-Mini-Challenge.png
ORGANIZER;CN="Kim Knaak":MAILTO:pwowmke@gmail.com
END:VEVENT
BEGIN:VEVENT
DTSTART;TZID=America/Chicago:20241218T110000
DTEND;TZID=America/Chicago:20241218T120000
DTSTAMP:20260425T081220
CREATED:20241209T182359Z
LAST-MODIFIED:20241209T182359Z
UID:2859-1734519600-1734523200@pwow.org
SUMMARY:Collaboration Mini Challenge | Dec 18-20\, 2024
DESCRIPTION:Register HERE\n  \n🎯 Finish 2024 Strong: A 3-Day Mini Challenge for Collaboration and Clarity! \nGet ready to reflect on your wins\, identify exciting collaboration opportunities\, and create a plan to kick off 2025 with focus and intention! This 3-day interactive Zoom challenge is designed to help entrepreneurs\, small business owners\, and professionals like YOU finish the year strong and set the stage for a collaborative and successful new year. \nWhen: December 18\, 19\, & 20 at 11:00 AM CST\nWhere: Live on Zoom\nCost: Just $24 for 3 days of actionable strategies and expert guidance \nWhat You’ll Learn: \n\nDay 1: Reflect & Celebrate – Recognize your biggest collaboration wins of 2024 and gain insights into what worked and why.\nDay 2: Identify Key Opportunities – Discover the collaboration opportunities that align with your 2025 goals.\nDay 3: Action Plan – Build a simple\, actionable 30-day plan to start 2025 with confidence.\n\nWhy Join? \n\n✨ Gain clarity on your collaboration goals\n✨ Walk away with a ready-to-implement action plan\n✨ Get guidance and tools to streamline your efforts\n✨ Build momentum for a successful 2025\n\nDon’t miss this opportunity to reflect\, refocus\, and recharge. Secure your spot now to take advantage of these powerful tools and connections. Let’s transform your network into a community that drives your success and finish the year strong—together!! \n#CollaborationNotCompetition #ConnectorKim #OpportunitysKnaaking #CollaborationCreatesCommunity \nRegister HERE
URL:https://pwow.org/event/collaboration-mini-challenge-dec-18-20-2024/
LOCATION:Zoom
CATEGORIES:Business Training/Coaching,Connect,Networking,Workshops
ATTACH;FMTTYPE=image/png:https://pwow.org/wp-content/uploads/2024/12/Collaboration-Mini-Challenge.png
ORGANIZER;CN="Kim Knaak":MAILTO:pwowmke@gmail.com
END:VEVENT
BEGIN:VEVENT
DTSTART;TZID=America/Chicago:20241218T110000
DTEND;TZID=America/Chicago:20241218T120000
DTSTAMP:20260425T081220
CREATED:20241209T182359Z
LAST-MODIFIED:20241209T182359Z
UID:2859-1734519600-1734523200@pwow.org
SUMMARY:Collaboration Mini Challenge | Dec 18-20\, 2024
DESCRIPTION:Register HERE\n  \n🎯 Finish 2024 Strong: A 3-Day Mini Challenge for Collaboration and Clarity! \nGet ready to reflect on your wins\, identify exciting collaboration opportunities\, and create a plan to kick off 2025 with focus and intention! This 3-day interactive Zoom challenge is designed to help entrepreneurs\, small business owners\, and professionals like YOU finish the year strong and set the stage for a collaborative and successful new year. \nWhen: December 18\, 19\, & 20 at 11:00 AM CST\nWhere: Live on Zoom\nCost: Just $24 for 3 days of actionable strategies and expert guidance \nWhat You’ll Learn: \n\nDay 1: Reflect & Celebrate – Recognize your biggest collaboration wins of 2024 and gain insights into what worked and why.\nDay 2: Identify Key Opportunities – Discover the collaboration opportunities that align with your 2025 goals.\nDay 3: Action Plan – Build a simple\, actionable 30-day plan to start 2025 with confidence.\n\nWhy Join? \n\n✨ Gain clarity on your collaboration goals\n✨ Walk away with a ready-to-implement action plan\n✨ Get guidance and tools to streamline your efforts\n✨ Build momentum for a successful 2025\n\nDon’t miss this opportunity to reflect\, refocus\, and recharge. Secure your spot now to take advantage of these powerful tools and connections. Let’s transform your network into a community that drives your success and finish the year strong—together!! \n#CollaborationNotCompetition #ConnectorKim #OpportunitysKnaaking #CollaborationCreatesCommunity \nRegister HERE
URL:https://pwow.org/event/collaboration-mini-challenge-dec-18-20-2024/
LOCATION:Zoom
CATEGORIES:Business Training/Coaching,Connect,Networking,Workshops
ATTACH;FMTTYPE=image/png:https://pwow.org/wp-content/uploads/2024/12/Collaboration-Mini-Challenge.png
ORGANIZER;CN="Kim Knaak":MAILTO:pwowmke@gmail.com
END:VEVENT
BEGIN:VEVENT
DTSTART;TZID=America/Chicago:20241218T110000
DTEND;TZID=America/Chicago:20241218T120000
DTSTAMP:20260425T081220
CREATED:20250205T154625Z
LAST-MODIFIED:20250205T154629Z
UID:3418-1734519600-1734523200@pwow.org
SUMMARY:Collaboration Mini Challenge | Dec 18-20\, 2024
DESCRIPTION:Register HERE\n  \n🎯 Finish 2024 Strong: A 3-Day Mini Challenge for Collaboration and Clarity! \nGet ready to reflect on your wins\, identify exciting collaboration opportunities\, and create a plan to kick off 2025 with focus and intention! This 3-day interactive Zoom challenge is designed to help entrepreneurs\, small business owners\, and professionals like YOU finish the year strong and set the stage for a collaborative and successful new year. \nWhen: December 18\, 19\, & 20 at 11:00 AM CST\nWhere: Live on Zoom\nCost: Just $24 for 3 days of actionable strategies and expert guidance \nWhat You’ll Learn: \n\nDay 1: Reflect & Celebrate – Recognize your biggest collaboration wins of 2024 and gain insights into what worked and why.\nDay 2: Identify Key Opportunities – Discover the collaboration opportunities that align with your 2025 goals.\nDay 3: Action Plan – Build a simple\, actionable 30-day plan to start 2025 with confidence.\n\nWhy Join? \n\n✨ Gain clarity on your collaboration goals\n✨ Walk away with a ready-to-implement action plan\n✨ Get guidance and tools to streamline your efforts\n✨ Build momentum for a successful 2025\n\nDon’t miss this opportunity to reflect\, refocus\, and recharge. Secure your spot now to take advantage of these powerful tools and connections. Let’s transform your network into a community that drives your success and finish the year strong—together!! \n#CollaborationNotCompetition #ConnectorKim #OpportunitysKnaaking #CollaborationCreatesCommunity \nRegister HERE
URL:https://pwow.org/event/collaboration-mini-challenge-dec-18-20-2024-2/
LOCATION:Zoom
CATEGORIES:Business Training/Coaching,Connect,Networking,Workshops
ATTACH;FMTTYPE=image/png:https://pwow.org/wp-content/uploads/2024/12/Collaboration-Mini-Challenge.png
ORGANIZER;CN="Kim Knaak":MAILTO:pwowmke@gmail.com
END:VEVENT
BEGIN:VEVENT
DTSTART;TZID=America/Chicago:20250206T130000
DTEND;TZID=America/Chicago:20250206T140000
DTSTAMP:20260425T081220
CREATED:20250131T205434Z
LAST-MODIFIED:20250131T221955Z
UID:3330-1738846800-1738850400@pwow.org
SUMMARY:Mompreneurs: Connect & Co-Create
DESCRIPTION:As mompreneurs\, we navigate the demands of business and motherhood\, often feeling like we have to choose between the two. But what if we didn’t have to? \nMompreneurs: Connect & Co-Create is an open space for women in business to gather\, collaborate\, and explore a different way of working—one that honors who we truly are. Instead of following traditional business models that push competition and constant hustle\, we lean into each other’s genius\, embracing community\, intuition\, and authentic support to build businesses that fit our lives. \nThis is not just another networking event—it’s a conversation\, a connection\, and a co-creation space where mompreneurs can show up as they are\, share their experiences\, and discover new ways to grow. \nNo rigid structure. No pressure. Just real talk\, deep connections\, and the power of women supporting women. \n✨ Join us and invite a fellow mompreneur! Together\, we shift the way business is done.
URL:https://pwow.org/event/mompreneurs-connect-co-create/
LOCATION:WI
CATEGORIES:Connect,Networking
END:VEVENT
BEGIN:VEVENT
DTSTART;TZID=America/Chicago:20250210T180000
DTEND;TZID=America/Chicago:20250210T203000
DTSTAMP:20260425T081220
CREATED:20250206T145043Z
LAST-MODIFIED:20250206T145043Z
UID:3410-1739210400-1739219400@pwow.org
SUMMARY:Celebrating Women in Business Mary Kay Way
DESCRIPTION:Welcome to an evening of Mary Kay💖celebrating love! We appreciate you for joining us😊\nYou’re invited to relax\, try some sweet treats and experience new colors & products (face or back of hand) ☺️💄 We will also share team recognition\, giveaways and hear from our gal-pal business owners too! \nFor wome in business Owners: Please bring business cards and samples and be ready to be APPRECIATED for what you do! \nDoors open at 6:00pm. Excitement\, program\, drawings and more go until 8:30pm. Let’s all wear pink and red! (Skirt or dress preferred 🙂 🌺💃
URL:https://pwow.org/event/celebrating-women-in-business-mary-kay-way/
LOCATION:Home2 Suites Menomonee Falls\, N91W15851 Falls Pkwy\, Menomonee Falls\,\, WI\, 53051\, United States
CATEGORIES:Connect,Networking
ATTACH;FMTTYPE=image/jpeg:https://pwow.org/wp-content/uploads/2025/02/IMG_6070.jpeg
END:VEVENT
BEGIN:VEVENT
DTSTART;TZID=UTC:20250213T113000
DTEND;TZID=UTC:20250213T130000
DTSTAMP:20260425T081220
CREATED:20250125T134235Z
LAST-MODIFIED:20250125T134235Z
UID:3228-1739446200-1739451600@pwow.org
SUMMARY:Professional Women of WI (PWoW) | 2nd Thurs | Networking | Feb 13\, 2025
DESCRIPTION:PWoW’s monthly lunch in-person networking! \nWe will meet at New Berlin Ale House from 11:30-1pm the 2nd Thursday monthly. USE THE WEST ENTRANCE \nOur goal is to offer structured meetings with a diverse group of professional women on a monthly basis. We welcome ALL women that are looking to connect with likeminded individuals who are interested in building relationships that will help them grow personally and professionally. We strongly believe in building relationships\, and truly believe that it’s not a competition but an opportunity to collaborate. \nWe are looking forward to seeing our members and honored guests. Please feel free to invite a friend who you believe will benefit from and be a contribution to this networking group. \n***This is not the only platform we are advertising this event. This is not an accurate count of attendees. *** \n#PWoW #PWoWMKE #Networking #WomenInBusiness #WomensNetworking #SmallBusiness #CollaborationNotCompetition
URL:https://pwow.org/event/professional-women-of-wi-pwow-2nd-thurs-networking-feb-13-2025/
LOCATION:New Berlin Ale House\, 16000 W Cleveland Ave\, New Berlin\, WI\, 53151\, United States
CATEGORIES:Luncheon,Networking,PWOW
ATTACH;FMTTYPE=image/png:https://pwow.org/wp-content/uploads/2024/01/New-Berlin-Ale-House.png
ORGANIZER;CN="Kim Knaak":MAILTO:pwowmke@gmail.com
END:VEVENT
BEGIN:VEVENT
DTSTART;TZID=America/Chicago:20250221T110000
DTEND;TZID=America/Chicago:20250221T120000
DTSTAMP:20260425T081220
CREATED:20250130T204238Z
LAST-MODIFIED:20250130T204238Z
UID:3312-1740135600-1740139200@pwow.org
SUMMARY:Find Your Ideal Client & Network Smarter Masterclass | Feb 21st
DESCRIPTION:👉 Register Now\n🎯 Find Your Ideal Client & Network Smarter\n📅 Date: Friday\, February 21\, 2025\n⏰ Time: 11:00 AM – 12:00 PM CST\n📍 Location: Online (Zoom link provided upon registration)\n💸 Cost: FREE \n\nIs This You?\n\nAre you spending time networking in all the wrong places?\nStruggling to connect with the people who truly need your services?\n\nMany business owners waste valuable time\, money\, and energy marketing to the wrong audiences. If this sounds familiar\, this masterclass is your solution! \n\n✨ What You’ll Learn:\n\n👤 Define your ideal client: Gain clarity on who you serve and what they need from you.\n📍 Find where they are: Learn how to show up in the right spaces to meet your audience.\n🛠️ Present your solution: Effectively communicate how you solve their problems.\n📝 Ideal Client Worksheet: Work through this tool live to create your actionable plan.\n\n\n🙋 Who Should Attend?\nThis session is perfect for small business owners and entrepreneurs who want to: \n\nBuild connections that lead to clients and collaborators.\nStop wasting time with the wrong people.\nStrategically market their services to solve real problems.\n\n\n🌟 Why Attend?\nNetworking smarter means working less but achieving more. By attending this masterclass\, you’ll gain the tools to: \n\nUnderstand who your ideal client is.\nFind where they already spend their time.\nClearly present your value in a way that resonates.\n\n\n📚 Bonus Prep\nCheck out these blogs to get inspired before the event: \n\n\n\nNetworking in the Right Places\n\nHow to Master the 1-1 Follow-Up \n\n\n\n\n  \n\n📌 Reserve Your Spot Now!\nSpace is limited for this FREE event. Don’t miss this opportunity to revolutionize your networking strategy and start connecting with the right people! \n👉 Register Now
URL:https://pwow.org/event/find-your-ideal-client-network-smarter-masterclass-feb-21st/
LOCATION:Zoom
CATEGORIES:Business Training/Coaching,Networking,Special Event,Workshops
ATTACH;FMTTYPE=image/png:https://pwow.org/wp-content/uploads/2024/10/Kim-Knaak-Opportunitys-Knaaking-2500-x-685-px.png
ORGANIZER;CN="Kim Knaak":MAILTO:pwowmke@gmail.com
END:VEVENT
BEGIN:VEVENT
DTSTART;TZID=America/Chicago:20250225T180000
DTEND;TZID=America/Chicago:20250225T200000
DTSTAMP:20260425T081220
CREATED:20250129T141505Z
LAST-MODIFIED:20250129T141505Z
UID:3256-1740506400-1740513600@pwow.org
SUMMARY:Professional Women of WI (PWoW) | 4th Tues | Networking | Feb 25\, 2024
DESCRIPTION:**NEW location (same as last month)!** \nWe will meet at Reunion Restaurant from 6pm-8pm. There is a very large parking lot behind the building available for Reunion patrons! You can enter the building right from the parking lot. \nOur goal is to offer structured meetings with a diverse group of professional women on a monthly basis. We welcome ALL women that are looking to connect with likeminded individuals who are interested in building relationships that will help them grow personally and professionally. We strongly believe in building relationships\, and truly believe that it’s not a competition but an opportunity to collaborate. \nWe are looking for donations for giveaways at the meeting. It’s a great way to share for your product and/or service with the group. A donation does not have to be anything expensive but something you feel someone would enjoy. A few examples of items that were donated in previous meetings: A bottle of wine\, candle\, box of candy\, notepad\, book\, $5.00 gift card to Starbucks\, etc. We have always enjoyed the giveaways at the end of the meeting\, so we are looking forward to carrying on the tradition. \nWe are looking forward to seeing our members and honored guests. Please feel free to invite a friend who you believe will benefit from and be a contribution to this networking group. \n***This is not the only platform we are advertising this event. This is not an accurate count of attendees. *** \n#PWoW #PWoWMKE #Networking #WomenInBusiness #WomensNetworking #SmallBusiness #CollaborationNotCompetition \n  \nReunion
URL:https://pwow.org/event/professional-women-of-wi-pwow-4th-tues-networking-feb-25-2024/
LOCATION:Reunion Restaurant\, 6610 W Greenfield Ave\, West Allis\, WI\, 53214\, United States
CATEGORIES:Dinner,Networking,PWOW
ATTACH;FMTTYPE=image/jpeg:https://pwow.org/wp-content/uploads/2025/01/Reunion.jpeg
ORGANIZER;CN="Kim Knaak":MAILTO:pwowmke@gmail.com
END:VEVENT
BEGIN:VEVENT
DTSTART;TZID=America/Chicago:20250226T170000
DTEND;TZID=America/Chicago:20250226T180000
DTSTAMP:20260425T081220
CREATED:20250130T204719Z
LAST-MODIFIED:20250130T204719Z
UID:3314-1740589200-1740592800@pwow.org
SUMMARY:Find Your Ideal Client & Network Smarter Masterclass | Feb 26th
DESCRIPTION:👉 Register Now\n🎯 Find Your Ideal Client & Network Smarter\n📅 Date: Friday\, February 26\, 2025\n⏰ Time: 5:00 PM – 6:00 PM CST\n📍 Location: Online (Zoom link provided upon registration)\n💸 Cost: FREE \n\nIs This You?\n\nAre you spending time networking in all the wrong places?\nStruggling to connect with the people who truly need your services?\n\nMany business owners waste valuable time\, money\, and energy marketing to the wrong audiences. If this sounds familiar\, this masterclass is your solution! \n\n✨ What You’ll Learn:\n\n👤 Define your ideal client: Gain clarity on who you serve and what they need from you.\n📍 Find where they are: Learn how to show up in the right spaces to meet your audience.\n🛠️ Present your solution: Effectively communicate how you solve their problems.\n📝 Ideal Client Worksheet: Work through this tool live to create your actionable plan.\n\n\n🙋 Who Should Attend?\nThis session is perfect for small business owners and entrepreneurs who want to: \n\nBuild connections that lead to clients and collaborators.\nStop wasting time with the wrong people.\nStrategically market their services to solve real problems.\n\n\n🌟 Why Attend?\nNetworking smarter means working less but achieving more. By attending this masterclass\, you’ll gain the tools to: \n\nUnderstand who your ideal client is.\nFind where they already spend their time.\nClearly present your value in a way that resonates.\n\n\n📚 Bonus Prep\nCheck out these blogs to get inspired before the event: \n\n\n\nNetworking in the Right Places\n\nHow to Master the 1-1 Follow-Up \n\n\n\n\n  \n\n📌 Reserve Your Spot Now!\nSpace is limited for this FREE event. Don’t miss this opportunity to revolutionize your networking strategy and start connecting with the right people! \n👉 Register Now
URL:https://pwow.org/event/find-your-ideal-client-network-smarter-masterclass-feb-26th/
LOCATION:Zoom
CATEGORIES:Business Training/Coaching,Networking,Special Event,Workshops
ATTACH;FMTTYPE=image/png:https://pwow.org/wp-content/uploads/2024/10/Kim-Knaak-Opportunitys-Knaaking-2500-x-685-px.png
ORGANIZER;CN="Kim Knaak":MAILTO:pwowmke@gmail.com
END:VEVENT
END:VCALENDAR