BEGIN:VCALENDAR
VERSION:2.0
PRODID:-//Professional Women of Wisconsin - ECPv6.15.20//NONSGML v1.0//EN
CALSCALE:GREGORIAN
METHOD:PUBLISH
X-ORIGINAL-URL:https://pwow.org
X-WR-CALDESC:Events for Professional Women of Wisconsin
REFRESH-INTERVAL;VALUE=DURATION:PT1H
X-Robots-Tag:noindex
X-PUBLISHED-TTL:PT1H
BEGIN:VTIMEZONE
TZID:America/Chicago
BEGIN:DAYLIGHT
TZOFFSETFROM:-0600
TZOFFSETTO:-0500
TZNAME:CDT
DTSTART:20240310T080000
END:DAYLIGHT
BEGIN:STANDARD
TZOFFSETFROM:-0500
TZOFFSETTO:-0600
TZNAME:CST
DTSTART:20241103T070000
END:STANDARD
BEGIN:DAYLIGHT
TZOFFSETFROM:-0600
TZOFFSETTO:-0500
TZNAME:CDT
DTSTART:20250309T080000
END:DAYLIGHT
BEGIN:STANDARD
TZOFFSETFROM:-0500
TZOFFSETTO:-0600
TZNAME:CST
DTSTART:20251102T070000
END:STANDARD
BEGIN:DAYLIGHT
TZOFFSETFROM:-0600
TZOFFSETTO:-0500
TZNAME:CDT
DTSTART:20260308T080000
END:DAYLIGHT
BEGIN:STANDARD
TZOFFSETFROM:-0500
TZOFFSETTO:-0600
TZNAME:CST
DTSTART:20261101T070000
END:STANDARD
END:VTIMEZONE
BEGIN:VEVENT
DTSTART;TZID=America/Chicago:20250424T090000
DTEND;TZID=America/Chicago:20250424T190000
DTSTAMP:20260424T003431
CREATED:20250331T175150Z
LAST-MODIFIED:20250331T175150Z
UID:4197-1745485200-1745521200@pwow.org
SUMMARY:Warrior Unchained Amplified
DESCRIPTION:Warrior Amplified is a powerful one-day event featuring four transformative workshops designed to help you go inward\, align with your true self\, and amplify your brilliance outward. Through deep-dive sessions\, you’ll uncover the tools and insights to elevate your personal and professional life to become a magnet for your ideal clients\, opportunities\, and success.
URL:https://pwow.org/event/warrior-unchained-amplified/
LOCATION:Whirlyball\, Upper Conference Room\, Brookfield\, WI\, United States
CATEGORIES:Business Training/Coaching,Community
ATTACH;FMTTYPE=image/jpeg:https://pwow.org/wp-content/uploads/2025/03/d5ffdd-32d-07dd-6d-84abde8f15b8_473245617_3991262974534506_6397307401935623916_n.jpg
ORGANIZER;CN="Wendy Babcock":MAILTO:info@wendybabcock.com
END:VEVENT
END:VCALENDAR